BEGIN:VCALENDAR
VERSION:2.0
PRODID:-//Tiki Town - ECPv6.15.20//NONSGML v1.0//EN
CALSCALE:GREGORIAN
METHOD:PUBLISH
X-WR-CALNAME:Tiki Town
X-ORIGINAL-URL:https://tiki.town
X-WR-CALDESC:Events for Tiki Town
REFRESH-INTERVAL;VALUE=DURATION:PT1H
X-Robots-Tag:noindex
X-PUBLISHED-TTL:PT1H
BEGIN:VTIMEZONE
TZID:America/Los_Angeles
BEGIN:DAYLIGHT
TZOFFSETFROM:-0800
TZOFFSETTO:-0700
TZNAME:PDT
DTSTART:20220313T100000
END:DAYLIGHT
BEGIN:STANDARD
TZOFFSETFROM:-0700
TZOFFSETTO:-0800
TZNAME:PST
DTSTART:20221106T090000
END:STANDARD
BEGIN:DAYLIGHT
TZOFFSETFROM:-0800
TZOFFSETTO:-0700
TZNAME:PDT
DTSTART:20230312T100000
END:DAYLIGHT
BEGIN:STANDARD
TZOFFSETFROM:-0700
TZOFFSETTO:-0800
TZNAME:PST
DTSTART:20231105T090000
END:STANDARD
BEGIN:DAYLIGHT
TZOFFSETFROM:-0800
TZOFFSETTO:-0700
TZNAME:PDT
DTSTART:20240310T100000
END:DAYLIGHT
BEGIN:STANDARD
TZOFFSETFROM:-0700
TZOFFSETTO:-0800
TZNAME:PST
DTSTART:20241103T090000
END:STANDARD
END:VTIMEZONE
BEGIN:VEVENT
DTSTART;TZID=America/Los_Angeles:20231121T160000
DTEND;TZID=America/Los_Angeles:20231121T180000
DTSTAMP:20260423T004223
CREATED:20230517T021252Z
LAST-MODIFIED:20230714T015001Z
UID:10010883-1700582400-1700589600@tiki.town
SUMMARY:Tuesdays with DJ Hank!
DESCRIPTION:Get your ass to Tiki Town for some DJ Hank-y panky! 😀
URL:https://tiki.town/event/tuesdays-with-dj-henry/2023-11-21/
LOCATION:Tiki Town Resort
ATTACH;FMTTYPE=image/png:https://tiki.town/wp-content/uploads/sites/6/2023/05/DJ-Henry-1.png
END:VEVENT
BEGIN:VEVENT
DTSTART;TZID=America/Los_Angeles:20231121T120000
DTEND;TZID=America/Los_Angeles:20231121T140000
DTSTAMP:20260423T004223
CREATED:20230517T015104Z
LAST-MODIFIED:20230517T020443Z
UID:10010751-1700568000-1700575200@tiki.town
SUMMARY:Tuesday Lunch Party with DJ Ana Lisa!
DESCRIPTION:
URL:https://tiki.town/event/tuesday-lunch-party-with-dj-ana-lisa/2023-11-21/
LOCATION:Tiki Town Resort
ATTACH;FMTTYPE=image/png:https://tiki.town/wp-content/uploads/sites/6/2023/05/DJ-Ana-Lisa.png
END:VEVENT
BEGIN:VEVENT
DTSTART;TZID=America/Los_Angeles:20231121T100000
DTEND;TZID=America/Los_Angeles:20231121T120000
DTSTAMP:20260423T004223
CREATED:20230916T014316Z
LAST-MODIFIED:20230916T014316Z
UID:10012881-1700560800-1700568000@tiki.town
SUMMARY:DJ Sugar Tuesday Tunes!
DESCRIPTION:
URL:https://tiki.town/event/dj-sugar-tuesday-tunes/2023-11-21/
LOCATION:Tiki Town Resort
ATTACH;FMTTYPE=image/jpeg:https://tiki.town/wp-content/uploads/sites/6/2023/09/DJ-Sugar.jpg
END:VEVENT
BEGIN:VEVENT
DTSTART;TZID=America/Los_Angeles:20231120T120000
DTEND;TZID=America/Los_Angeles:20231120T140000
DTSTAMP:20260423T004223
CREATED:20231117T014653Z
LAST-MODIFIED:20231117T014653Z
UID:10013325-1700481600-1700488800@tiki.town
SUMMARY:Monday afternoon with DJ NadinKatrin
DESCRIPTION:
URL:https://tiki.town/event/monday-afternoon-with-dj-nadinkatrin/2023-11-20/
LOCATION:Tiki Town Resort
END:VEVENT
BEGIN:VEVENT
DTSTART;TZID=America/Los_Angeles:20231120T100000
DTEND;TZID=America/Los_Angeles:20231120T120000
DTSTAMP:20260423T004223
CREATED:20230916T013823Z
LAST-MODIFIED:20230916T013823Z
UID:10012836-1700474400-1700481600@tiki.town
SUMMARY:DJ Sugar Monday Tunes!
DESCRIPTION:
URL:https://tiki.town/event/dj-sugar-monday-tunes/2023-11-20/
LOCATION:Tiki Town Resort
ATTACH;FMTTYPE=image/jpeg:https://tiki.town/wp-content/uploads/sites/6/2023/09/DJ-Sugar.jpg
END:VEVENT
BEGIN:VEVENT
DTSTART;TZID=America/Los_Angeles:20231119T170000
DTEND;TZID=America/Los_Angeles:20231119T200000
DTSTAMP:20260423T004223
CREATED:20231104T164456Z
LAST-MODIFIED:20231104T164456Z
UID:10013215-1700413200-1700424000@tiki.town
SUMMARY:Movie Night: The Blues Brothers (1980)
DESCRIPTION:After the release of Jake Blues from prison\, he and brother Elwood go to visit “The Penguin” (Kathleen Freeman)\, the last of the nuns who raised them in an orphanage. They learn the Archdiocese will stop supporting the school and will sell the place to the Education Authority. The only way to keep the place open is if the $5\,000 ($17\,868.41 in 2022 adjusted for inflation) tax on the property is paid within 11 days. The Blues Brothers want to help\, and decide to put their blues band back together and raise the money by staging a big gig. As they set off on their “mission from God” they seem to make more enemies along the way. Will they manage to come up with the money in time?
URL:https://tiki.town/event/movie-night-the-blues-brothers-1980/
LOCATION:Tiki Town Resort
END:VEVENT
BEGIN:VEVENT
DTSTART;TZID=America/Los_Angeles:20231119T120000
DTEND;TZID=America/Los_Angeles:20231119T140000
DTSTAMP:20260423T004223
CREATED:20231018T180500Z
LAST-MODIFIED:20231018T180500Z
UID:10013089-1700395200-1700402400@tiki.town
SUMMARY:Sunday afternoon with DJ ToRoo
DESCRIPTION:
URL:https://tiki.town/event/sunday-afternoon-with-dj-toroo/2023-11-19/
LOCATION:Tiki Town Resort
ATTACH;FMTTYPE=image/png:https://tiki.town/wp-content/uploads/sites/6/2023/10/DJ-MrToRoo.png
END:VEVENT
BEGIN:VEVENT
DTSTART;TZID=America/Los_Angeles:20231119T100000
DTEND;TZID=America/Los_Angeles:20231119T120000
DTSTAMP:20260423T004223
CREATED:20230916T011231Z
LAST-MODIFIED:20230916T013618Z
UID:10012804-1700388000-1700395200@tiki.town
SUMMARY:DJ Sugar Sunday Tunes!
DESCRIPTION:
URL:https://tiki.town/event/dj-gro-sunday-tunes-2-2/2023-11-19/
LOCATION:Tiki Town Resort
ATTACH;FMTTYPE=image/jpeg:https://tiki.town/wp-content/uploads/sites/6/2023/09/DJ-Sugar.jpg
END:VEVENT
BEGIN:VEVENT
DTSTART;TZID=America/Los_Angeles:20231119T080000
DTEND;TZID=America/Los_Angeles:20231119T100000
DTSTAMP:20260423T004223
CREATED:20231018T180041Z
LAST-MODIFIED:20231018T180041Z
UID:10013069-1700380800-1700388000@tiki.town
SUMMARY:Sunday morning with DJ TopStars
DESCRIPTION:
URL:https://tiki.town/event/sunday-morning-with-dj-topstars/2023-11-19/
LOCATION:Tiki Town Resort
ATTACH;FMTTYPE=image/png:https://tiki.town/wp-content/uploads/sites/6/2023/10/DJ-TopStars.png
END:VEVENT
BEGIN:VEVENT
DTSTART;TZID=America/Los_Angeles:20231118T140000
DTEND;TZID=America/Los_Angeles:20231118T180000
DTSTAMP:20260423T004223
CREATED:20231019T221138Z
LAST-MODIFIED:20231101T224626Z
UID:10013211-1700316000-1700330400@tiki.town
SUMMARY:House Party at Chloe's Place!
DESCRIPTION:I’m so freakin’ happy to invite all the Tiki peeps over to my little place for some music and dancing. This will be my very firstest time hosting a house party! Just try not to break anything. My place isn’t very big so yall might have to squeeze together a bit. \nDJ Molly: 2-4pm \nDJ Crissy: 4-6pm
URL:https://tiki.town/event/house-party-at-chloes-place/
LOCATION:Tiki Town Resort
END:VEVENT
BEGIN:VEVENT
DTSTART;TZID=America/Los_Angeles:20231118T080000
DTEND;TZID=America/Los_Angeles:20231118T100000
DTSTAMP:20260423T004223
CREATED:20231117T015941Z
LAST-MODIFIED:20231117T015941Z
UID:10013348-1700294400-1700301600@tiki.town
SUMMARY:Saturday morning with DJ TopStars
DESCRIPTION:
URL:https://tiki.town/event/saturday-morning-with-dj-topstars/2023-11-18/
LOCATION:Tiki Town Resort
ATTACH;FMTTYPE=image/png:https://tiki.town/wp-content/uploads/sites/6/2023/10/DJ-TopStars.png
END:VEVENT
BEGIN:VEVENT
DTSTART;TZID=America/Los_Angeles:20231117T200000
DTEND;TZID=America/Los_Angeles:20231117T220000
DTSTAMP:20260423T004223
CREATED:20231018T195131Z
LAST-MODIFIED:20231018T195231Z
UID:10013182-1700251200-1700258400@tiki.town
SUMMARY:Friday night with DJ Selena
DESCRIPTION:
URL:https://tiki.town/event/friday-morning-with-dj-selena/2023-11-17/
LOCATION:Tiki Town Resort
END:VEVENT
BEGIN:VEVENT
DTSTART;TZID=America/Los_Angeles:20231117T140000
DTEND;TZID=America/Los_Angeles:20231117T160000
DTSTAMP:20260423T004223
CREATED:20231018T195412Z
LAST-MODIFIED:20231018T195412Z
UID:10013203-1700229600-1700236800@tiki.town
SUMMARY:Friday afternoon with DJ TopStars
DESCRIPTION:
URL:https://tiki.town/event/friday-afternoon-with-dj-topstars/2023-11-17/
LOCATION:Tiki Town Resort
ATTACH;FMTTYPE=image/png:https://tiki.town/wp-content/uploads/sites/6/2023/10/DJ-TopStars.png
END:VEVENT
BEGIN:VEVENT
DTSTART;TZID=America/Los_Angeles:20231117T120000
DTEND;TZID=America/Los_Angeles:20231117T140000
DTSTAMP:20260423T004223
CREATED:20230517T030538Z
LAST-MODIFIED:20230517T231513Z
UID:10011805-1700222400-1700229600@tiki.town
SUMMARY:Mid-day Party with DJ Willow
DESCRIPTION:
URL:https://tiki.town/event/mid-day-party-with-dj-willow-2/2023-11-17/
LOCATION:Tiki Town Resort
ATTACH;FMTTYPE=image/png:https://tiki.town/wp-content/uploads/sites/6/2023/05/DJ-Willow.png
END:VEVENT
BEGIN:VEVENT
DTSTART;TZID=America/Los_Angeles:20231117T100000
DTEND;TZID=America/Los_Angeles:20231117T120000
DTSTAMP:20260423T004223
CREATED:20230916T015112Z
LAST-MODIFIED:20230916T015112Z
UID:10012973-1700215200-1700222400@tiki.town
SUMMARY:DJ Sugar Friday Tunes!
DESCRIPTION:
URL:https://tiki.town/event/dj-sugar-friday-tunes/2023-11-17/
LOCATION:Tiki Town Resort
ATTACH;FMTTYPE=image/jpeg:https://tiki.town/wp-content/uploads/sites/6/2023/09/DJ-Sugar.jpg
END:VEVENT
BEGIN:VEVENT
DTSTART;TZID=America/Los_Angeles:20231116T140000
DTEND;TZID=America/Los_Angeles:20231116T160000
DTSTAMP:20260423T004223
CREATED:20231018T194854Z
LAST-MODIFIED:20231018T194854Z
UID:10013150-1700143200-1700150400@tiki.town
SUMMARY:Thursday afternoon with DJ NadinKatrin
DESCRIPTION:
URL:https://tiki.town/event/thursday-afternoon-with-dj-nadinkatrin/2023-11-16/
LOCATION:Tiki Town Resort
END:VEVENT
BEGIN:VEVENT
DTSTART;TZID=America/Los_Angeles:20231116T100000
DTEND;TZID=America/Los_Angeles:20231116T120000
DTSTAMP:20260423T004223
CREATED:20230916T014350Z
LAST-MODIFIED:20230916T014433Z
UID:10012910-1700128800-1700136000@tiki.town
SUMMARY:DJ Sugar Thursday Tunes!
DESCRIPTION:
URL:https://tiki.town/event/dj-sugar-tuesday-tunes-2/2023-11-16/
LOCATION:Tiki Town Resort
ATTACH;FMTTYPE=image/jpeg:https://tiki.town/wp-content/uploads/sites/6/2023/09/DJ-Sugar.jpg
END:VEVENT
BEGIN:VEVENT
DTSTART;TZID=America/Los_Angeles:20231116T080000
DTEND;TZID=America/Los_Angeles:20231116T100000
DTSTAMP:20260423T004223
CREATED:20231018T194254Z
LAST-MODIFIED:20231018T194321Z
UID:10013128-1700121600-1700128800@tiki.town
SUMMARY:Thursday morning with DJ TopStars
DESCRIPTION:
URL:https://tiki.town/event/thursday-morning-with-dj-topstars/2023-11-16/
LOCATION:Tiki Town Resort
ATTACH;FMTTYPE=image/png:https://tiki.town/wp-content/uploads/sites/6/2023/10/DJ-TopStars.png
END:VEVENT
BEGIN:VEVENT
DTSTART;TZID=America/Los_Angeles:20231115T160000
DTEND;TZID=America/Los_Angeles:20231115T180000
DTSTAMP:20260423T004223
CREATED:20230517T022741Z
LAST-MODIFIED:20230517T022741Z
UID:10011178-1700064000-1700071200@tiki.town
SUMMARY:Wednesdays with DJ Stars!
DESCRIPTION:
URL:https://tiki.town/event/wednesdays-with-dj-stars/2023-11-15/
LOCATION:Tiki Town Resort
ATTACH;FMTTYPE=image/jpeg:https://tiki.town/wp-content/uploads/sites/6/2023/05/DJ_Stars.jpg
END:VEVENT
BEGIN:VEVENT
DTSTART;TZID=America/Los_Angeles:20231115T140000
DTEND;TZID=America/Los_Angeles:20231115T160000
DTSTAMP:20260423T004223
CREATED:20230817T165139Z
LAST-MODIFIED:20230817T165205Z
UID:10012780-1700056800-1700064000@tiki.town
SUMMARY:Wednesday Tunes with DJ Vindarin!
DESCRIPTION:
URL:https://tiki.town/event/wednesday-tunes-with-dj-vindarin/2023-11-15/
LOCATION:Tiki Town Resort
ATTACH;FMTTYPE=image/png:https://tiki.town/wp-content/uploads/sites/6/2023/08/Vindarin1.png
END:VEVENT
BEGIN:VEVENT
DTSTART;TZID=America/Los_Angeles:20231115T120000
DTEND;TZID=America/Los_Angeles:20231115T140000
DTSTAMP:20260423T004223
CREATED:20230817T164635Z
LAST-MODIFIED:20230817T164635Z
UID:10011046-1700049600-1700056800@tiki.town
SUMMARY:Wednesdays with DJ Marten!
DESCRIPTION:
URL:https://tiki.town/event/wednesdays-with-dj-marten-2/2023-11-15/
LOCATION:Tiki Town Resort
ATTACH;FMTTYPE=image/png:https://tiki.town/wp-content/uploads/sites/6/2023/05/DJ-Marten.png
END:VEVENT
BEGIN:VEVENT
DTSTART;TZID=America/Los_Angeles:20231114T180000
DTEND;TZID=America/Los_Angeles:20231114T200000
DTSTAMP:20260423T004223
CREATED:20230517T021453Z
LAST-MODIFIED:20230517T021453Z
UID:10010948-1699984800-1699992000@tiki.town
SUMMARY:Tiddy Tuesdays with DJ Boom!
DESCRIPTION:
URL:https://tiki.town/event/tiddy-tuesdays-with-dj-boom/2023-11-14/
LOCATION:Tiki Town Resort
ATTACH;FMTTYPE=image/jpeg:https://tiki.town/wp-content/uploads/sites/6/2023/05/Boomer-Profile-10_8_21.jpg
END:VEVENT
BEGIN:VEVENT
DTSTART;TZID=America/Los_Angeles:20231114T160000
DTEND;TZID=America/Los_Angeles:20231114T180000
DTSTAMP:20260423T004223
CREATED:20230517T021252Z
LAST-MODIFIED:20230714T015001Z
UID:10010882-1699977600-1699984800@tiki.town
SUMMARY:Tuesdays with DJ Hank!
DESCRIPTION:Get your ass to Tiki Town for some DJ Hank-y panky! 😀
URL:https://tiki.town/event/tuesdays-with-dj-henry/2023-11-14/
LOCATION:Tiki Town Resort
ATTACH;FMTTYPE=image/png:https://tiki.town/wp-content/uploads/sites/6/2023/05/DJ-Henry-1.png
END:VEVENT
BEGIN:VEVENT
DTSTART;TZID=America/Los_Angeles:20231114T120000
DTEND;TZID=America/Los_Angeles:20231114T140000
DTSTAMP:20260423T004223
CREATED:20230517T015104Z
LAST-MODIFIED:20230517T020443Z
UID:10010750-1699963200-1699970400@tiki.town
SUMMARY:Tuesday Lunch Party with DJ Ana Lisa!
DESCRIPTION:
URL:https://tiki.town/event/tuesday-lunch-party-with-dj-ana-lisa/2023-11-14/
LOCATION:Tiki Town Resort
ATTACH;FMTTYPE=image/png:https://tiki.town/wp-content/uploads/sites/6/2023/05/DJ-Ana-Lisa.png
END:VEVENT
BEGIN:VEVENT
DTSTART;TZID=America/Los_Angeles:20231114T100000
DTEND;TZID=America/Los_Angeles:20231114T120000
DTSTAMP:20260423T004223
CREATED:20230916T014316Z
LAST-MODIFIED:20230916T014316Z
UID:10012880-1699956000-1699963200@tiki.town
SUMMARY:DJ Sugar Tuesday Tunes!
DESCRIPTION:
URL:https://tiki.town/event/dj-sugar-tuesday-tunes/2023-11-14/
LOCATION:Tiki Town Resort
ATTACH;FMTTYPE=image/jpeg:https://tiki.town/wp-content/uploads/sites/6/2023/09/DJ-Sugar.jpg
END:VEVENT
BEGIN:VEVENT
DTSTART;TZID=America/Los_Angeles:20231113T160000
DTEND;TZID=America/Los_Angeles:20231113T180000
DTSTAMP:20260423T004223
CREATED:20230518T005603Z
LAST-MODIFIED:20230710T152349Z
UID:10012646-1699891200-1699898400@tiki.town
SUMMARY:DJ Kyo Presents Movie Tune Trivia Night 4-6PM
DESCRIPTION:Come test your movie song trivia knowledge\, and maybe even make a lil lindens. \nAt least 75L awarded out per song\, 25L each for whomever first names the Song Title\, Artist\, and Movie Title. There may even be some extra credit awards.
URL:https://tiki.town/event/dj-kyo-presents-hits-of-the-70s-and-80s/2023-11-13/
LOCATION:Tiki Town Resort
END:VEVENT
BEGIN:VEVENT
DTSTART;TZID=America/Los_Angeles:20231113T120000
DTEND;TZID=America/Los_Angeles:20231113T140000
DTSTAMP:20260423T004223
CREATED:20230924T223303Z
LAST-MODIFIED:20230924T223303Z
UID:10013033-1699876800-1699884000@tiki.town
SUMMARY:Mondays with DJ Kimmy
DESCRIPTION:
URL:https://tiki.town/event/mondays-with-dj-kimmy/2023-11-13/
LOCATION:Tiki Town Resort
ATTACH;FMTTYPE=image/png:https://tiki.town/wp-content/uploads/sites/6/2023/09/DJ-Kimmy.png
END:VEVENT
BEGIN:VEVENT
DTSTART;TZID=America/Los_Angeles:20231113T100000
DTEND;TZID=America/Los_Angeles:20231113T120000
DTSTAMP:20260423T004224
CREATED:20230916T013823Z
LAST-MODIFIED:20230916T013823Z
UID:10012835-1699869600-1699876800@tiki.town
SUMMARY:DJ Sugar Monday Tunes!
DESCRIPTION:
URL:https://tiki.town/event/dj-sugar-monday-tunes/2023-11-13/
LOCATION:Tiki Town Resort
ATTACH;FMTTYPE=image/jpeg:https://tiki.town/wp-content/uploads/sites/6/2023/09/DJ-Sugar.jpg
END:VEVENT
BEGIN:VEVENT
DTSTART;TZID=America/Los_Angeles:20231112T170000
DTEND;TZID=America/Los_Angeles:20231112T200000
DTSTAMP:20260423T004224
CREATED:20231104T163618Z
LAST-MODIFIED:20231104T163618Z
UID:10013214-1699808400-1699819200@tiki.town
SUMMARY:Movie Night: The Adventures of Buckaroo Banzai Across the 8th Dimension (1984)
DESCRIPTION:Brain surgeon\, rock musician\, adventurer Buckaroo Banzai is a modern renaissance man and has made scientific history. He perfected the Oscillation Overthruster\, which allows him to travel through solid matter by using the eighth dimension. But when his sworn enemy Dr. Emilio Lizardo devises a plot to steal the device and bring an evil army back to destroy Earth\, Buckaroo goes cranium to cranium with the madman in a battle that could spell doom for the universe. Along with his crime-fighting team\, the Hong Kong Cavaliers\, Buckaroo must stop the evil alien invaders from the eighth dimension who are planning to conquer our dimension. He is helped by Penny Pretty\, the long-lost twin sister of his late wife\, and some good extra-dimensional beings who look and talk like they are from Jamaica.
URL:https://tiki.town/event/movie-night-the-adventures-of-buckaroo-banzai-across-the-8th-dimension-1984/
LOCATION:Tiki Town Resort
END:VEVENT
BEGIN:VEVENT
DTSTART;TZID=America/Los_Angeles:20231112T120000
DTEND;TZID=America/Los_Angeles:20231112T140000
DTSTAMP:20260423T004224
CREATED:20231018T180500Z
LAST-MODIFIED:20231018T180500Z
UID:10013088-1699790400-1699797600@tiki.town
SUMMARY:Sunday afternoon with DJ ToRoo
DESCRIPTION:
URL:https://tiki.town/event/sunday-afternoon-with-dj-toroo/2023-11-12/
LOCATION:Tiki Town Resort
ATTACH;FMTTYPE=image/png:https://tiki.town/wp-content/uploads/sites/6/2023/10/DJ-MrToRoo.png
END:VEVENT
END:VCALENDAR