BEGIN:VCALENDAR
VERSION:2.0
PRODID:-//Tiki Town - ECPv6.15.20//NONSGML v1.0//EN
CALSCALE:GREGORIAN
METHOD:PUBLISH
X-ORIGINAL-URL:https://tiki.town
X-WR-CALDESC:Events for Tiki Town
REFRESH-INTERVAL;VALUE=DURATION:PT1H
X-Robots-Tag:noindex
X-PUBLISHED-TTL:PT1H
BEGIN:VTIMEZONE
TZID:America/Los_Angeles
BEGIN:DAYLIGHT
TZOFFSETFROM:-0800
TZOFFSETTO:-0700
TZNAME:PDT
DTSTART:20220313T100000
END:DAYLIGHT
BEGIN:STANDARD
TZOFFSETFROM:-0700
TZOFFSETTO:-0800
TZNAME:PST
DTSTART:20221106T090000
END:STANDARD
BEGIN:DAYLIGHT
TZOFFSETFROM:-0800
TZOFFSETTO:-0700
TZNAME:PDT
DTSTART:20230312T100000
END:DAYLIGHT
BEGIN:STANDARD
TZOFFSETFROM:-0700
TZOFFSETTO:-0800
TZNAME:PST
DTSTART:20231105T090000
END:STANDARD
BEGIN:DAYLIGHT
TZOFFSETFROM:-0800
TZOFFSETTO:-0700
TZNAME:PDT
DTSTART:20240310T100000
END:DAYLIGHT
BEGIN:STANDARD
TZOFFSETFROM:-0700
TZOFFSETTO:-0800
TZNAME:PST
DTSTART:20241103T090000
END:STANDARD
END:VTIMEZONE
BEGIN:VEVENT
DTSTART;TZID=America/Los_Angeles:20231114T160000
DTEND;TZID=America/Los_Angeles:20231114T180000
DTSTAMP:20260421T032158
CREATED:20230517T021252Z
LAST-MODIFIED:20230714T015001Z
UID:10010882-1699977600-1699984800@tiki.town
SUMMARY:Tuesdays with DJ Hank!
DESCRIPTION:Get your ass to Tiki Town for some DJ Hank-y panky! 😀
URL:https://tiki.town/event/tuesdays-with-dj-henry/2023-11-14/
LOCATION:Tiki Town Resort
ATTACH;FMTTYPE=image/png:https://tiki.town/wp-content/uploads/sites/6/2023/05/DJ-Henry-1.png
END:VEVENT
BEGIN:VEVENT
DTSTART;TZID=America/Los_Angeles:20231114T120000
DTEND;TZID=America/Los_Angeles:20231114T140000
DTSTAMP:20260421T032158
CREATED:20230517T015104Z
LAST-MODIFIED:20230517T020443Z
UID:10010750-1699963200-1699970400@tiki.town
SUMMARY:Tuesday Lunch Party with DJ Ana Lisa!
DESCRIPTION:
URL:https://tiki.town/event/tuesday-lunch-party-with-dj-ana-lisa/2023-11-14/
LOCATION:Tiki Town Resort
ATTACH;FMTTYPE=image/png:https://tiki.town/wp-content/uploads/sites/6/2023/05/DJ-Ana-Lisa.png
END:VEVENT
BEGIN:VEVENT
DTSTART;TZID=America/Los_Angeles:20231114T100000
DTEND;TZID=America/Los_Angeles:20231114T120000
DTSTAMP:20260421T032158
CREATED:20230916T014316Z
LAST-MODIFIED:20230916T014316Z
UID:10012880-1699956000-1699963200@tiki.town
SUMMARY:DJ Sugar Tuesday Tunes!
DESCRIPTION:
URL:https://tiki.town/event/dj-sugar-tuesday-tunes/2023-11-14/
LOCATION:Tiki Town Resort
ATTACH;FMTTYPE=image/jpeg:https://tiki.town/wp-content/uploads/sites/6/2023/09/DJ-Sugar.jpg
END:VEVENT
BEGIN:VEVENT
DTSTART;TZID=America/Los_Angeles:20231113T160000
DTEND;TZID=America/Los_Angeles:20231113T180000
DTSTAMP:20260421T032158
CREATED:20230518T005603Z
LAST-MODIFIED:20230710T152349Z
UID:10012646-1699891200-1699898400@tiki.town
SUMMARY:DJ Kyo Presents Movie Tune Trivia Night 4-6PM
DESCRIPTION:Come test your movie song trivia knowledge\, and maybe even make a lil lindens. \nAt least 75L awarded out per song\, 25L each for whomever first names the Song Title\, Artist\, and Movie Title. There may even be some extra credit awards.
URL:https://tiki.town/event/dj-kyo-presents-hits-of-the-70s-and-80s/2023-11-13/
LOCATION:Tiki Town Resort
END:VEVENT
BEGIN:VEVENT
DTSTART;TZID=America/Los_Angeles:20231113T120000
DTEND;TZID=America/Los_Angeles:20231113T140000
DTSTAMP:20260421T032158
CREATED:20230924T223303Z
LAST-MODIFIED:20230924T223303Z
UID:10013033-1699876800-1699884000@tiki.town
SUMMARY:Mondays with DJ Kimmy
DESCRIPTION:
URL:https://tiki.town/event/mondays-with-dj-kimmy/2023-11-13/
LOCATION:Tiki Town Resort
ATTACH;FMTTYPE=image/png:https://tiki.town/wp-content/uploads/sites/6/2023/09/DJ-Kimmy.png
END:VEVENT
BEGIN:VEVENT
DTSTART;TZID=America/Los_Angeles:20231113T100000
DTEND;TZID=America/Los_Angeles:20231113T120000
DTSTAMP:20260421T032158
CREATED:20230916T013823Z
LAST-MODIFIED:20230916T013823Z
UID:10012835-1699869600-1699876800@tiki.town
SUMMARY:DJ Sugar Monday Tunes!
DESCRIPTION:
URL:https://tiki.town/event/dj-sugar-monday-tunes/2023-11-13/
LOCATION:Tiki Town Resort
ATTACH;FMTTYPE=image/jpeg:https://tiki.town/wp-content/uploads/sites/6/2023/09/DJ-Sugar.jpg
END:VEVENT
BEGIN:VEVENT
DTSTART;TZID=America/Los_Angeles:20231112T170000
DTEND;TZID=America/Los_Angeles:20231112T200000
DTSTAMP:20260421T032158
CREATED:20231104T163618Z
LAST-MODIFIED:20231104T163618Z
UID:10013214-1699808400-1699819200@tiki.town
SUMMARY:Movie Night: The Adventures of Buckaroo Banzai Across the 8th Dimension (1984)
DESCRIPTION:Brain surgeon\, rock musician\, adventurer Buckaroo Banzai is a modern renaissance man and has made scientific history. He perfected the Oscillation Overthruster\, which allows him to travel through solid matter by using the eighth dimension. But when his sworn enemy Dr. Emilio Lizardo devises a plot to steal the device and bring an evil army back to destroy Earth\, Buckaroo goes cranium to cranium with the madman in a battle that could spell doom for the universe. Along with his crime-fighting team\, the Hong Kong Cavaliers\, Buckaroo must stop the evil alien invaders from the eighth dimension who are planning to conquer our dimension. He is helped by Penny Pretty\, the long-lost twin sister of his late wife\, and some good extra-dimensional beings who look and talk like they are from Jamaica.
URL:https://tiki.town/event/movie-night-the-adventures-of-buckaroo-banzai-across-the-8th-dimension-1984/
LOCATION:Tiki Town Resort
END:VEVENT
BEGIN:VEVENT
DTSTART;TZID=America/Los_Angeles:20231112T120000
DTEND;TZID=America/Los_Angeles:20231112T140000
DTSTAMP:20260421T032158
CREATED:20231018T180500Z
LAST-MODIFIED:20231018T180500Z
UID:10013088-1699790400-1699797600@tiki.town
SUMMARY:Sunday afternoon with DJ ToRoo
DESCRIPTION:
URL:https://tiki.town/event/sunday-afternoon-with-dj-toroo/2023-11-12/
LOCATION:Tiki Town Resort
ATTACH;FMTTYPE=image/png:https://tiki.town/wp-content/uploads/sites/6/2023/10/DJ-MrToRoo.png
END:VEVENT
BEGIN:VEVENT
DTSTART;TZID=America/Los_Angeles:20231112T100000
DTEND;TZID=America/Los_Angeles:20231112T120000
DTSTAMP:20260421T032158
CREATED:20230916T011231Z
LAST-MODIFIED:20230916T013618Z
UID:10012803-1699783200-1699790400@tiki.town
SUMMARY:DJ Sugar Sunday Tunes!
DESCRIPTION:
URL:https://tiki.town/event/dj-gro-sunday-tunes-2-2/2023-11-12/
LOCATION:Tiki Town Resort
ATTACH;FMTTYPE=image/jpeg:https://tiki.town/wp-content/uploads/sites/6/2023/09/DJ-Sugar.jpg
END:VEVENT
BEGIN:VEVENT
DTSTART;TZID=America/Los_Angeles:20231112T080000
DTEND;TZID=America/Los_Angeles:20231112T100000
DTSTAMP:20260421T032158
CREATED:20231018T180041Z
LAST-MODIFIED:20231018T180041Z
UID:10013068-1699776000-1699783200@tiki.town
SUMMARY:Sunday morning with DJ TopStars
DESCRIPTION:
URL:https://tiki.town/event/sunday-morning-with-dj-topstars/2023-11-12/
LOCATION:Tiki Town Resort
ATTACH;FMTTYPE=image/png:https://tiki.town/wp-content/uploads/sites/6/2023/10/DJ-TopStars.png
END:VEVENT
BEGIN:VEVENT
DTSTART;TZID=America/Los_Angeles:20231111T100000
DTEND;TZID=America/Los_Angeles:20231111T200000
DTSTAMP:20260421T032158
CREATED:20231105T202206Z
LAST-MODIFIED:20231107T033026Z
UID:10013220-1699696800-1699732800@tiki.town
SUMMARY:Tiki Town Saturday Sex Party: Suits & Lingerie Edition
DESCRIPTION:The Toybox will be the venue for this week’s Saturday Sex Party and the theme will be “Suits & Lingerie”. So\, you gentlemen should dress to impress in your best tailored suit or tuxedo and the ladies should be dressed in sexy lingerie. We all know you guys go crazy for a woman in a lacy negligee and of course every girl’s crazy about a sharp dressed man. The sexy fun starts at 10am SLT and runs until at least 8pm SLT. And look at this awesome list of DJs! \nDJ Pearl: 10am – noon\nDJ Anak: noon – 2pm\nDJ Dani: 2pm – 4pm\nDJ Selena: 4pm – 6pm\nDJ Bunny: 6pm – 8pm
URL:https://tiki.town/event/tiki-town-saturday-sex-party-suits-lingerie-edition/
LOCATION:Tiki Town Resort
ATTACH;FMTTYPE=image/jpeg:https://tiki.town/wp-content/uploads/sites/6/2023/11/Tiki-Town-SSP-2023-Poster-2.jpg
END:VEVENT
BEGIN:VEVENT
DTSTART;TZID=America/Los_Angeles:20231110T200000
DTEND;TZID=America/Los_Angeles:20231110T220000
DTSTAMP:20260421T032158
CREATED:20231018T195131Z
LAST-MODIFIED:20231018T195231Z
UID:10013181-1699646400-1699653600@tiki.town
SUMMARY:Friday night with DJ Selena
DESCRIPTION:
URL:https://tiki.town/event/friday-morning-with-dj-selena/2023-11-10/
LOCATION:Tiki Town Resort
END:VEVENT
BEGIN:VEVENT
DTSTART;TZID=America/Los_Angeles:20231110T140000
DTEND;TZID=America/Los_Angeles:20231110T160000
DTSTAMP:20260421T032158
CREATED:20231018T195412Z
LAST-MODIFIED:20231018T195412Z
UID:10013202-1699624800-1699632000@tiki.town
SUMMARY:Friday afternoon with DJ TopStars
DESCRIPTION:
URL:https://tiki.town/event/friday-afternoon-with-dj-topstars/2023-11-10/
LOCATION:Tiki Town Resort
ATTACH;FMTTYPE=image/png:https://tiki.town/wp-content/uploads/sites/6/2023/10/DJ-TopStars.png
END:VEVENT
BEGIN:VEVENT
DTSTART;TZID=America/Los_Angeles:20231110T120000
DTEND;TZID=America/Los_Angeles:20231110T140000
DTSTAMP:20260421T032158
CREATED:20230517T030538Z
LAST-MODIFIED:20230517T231513Z
UID:10011804-1699617600-1699624800@tiki.town
SUMMARY:Mid-day Party with DJ Willow
DESCRIPTION:
URL:https://tiki.town/event/mid-day-party-with-dj-willow-2/2023-11-10/
LOCATION:Tiki Town Resort
ATTACH;FMTTYPE=image/png:https://tiki.town/wp-content/uploads/sites/6/2023/05/DJ-Willow.png
END:VEVENT
BEGIN:VEVENT
DTSTART;TZID=America/Los_Angeles:20231110T100000
DTEND;TZID=America/Los_Angeles:20231110T120000
DTSTAMP:20260421T032158
CREATED:20230916T015112Z
LAST-MODIFIED:20230916T015112Z
UID:10012972-1699610400-1699617600@tiki.town
SUMMARY:DJ Sugar Friday Tunes!
DESCRIPTION:
URL:https://tiki.town/event/dj-sugar-friday-tunes/2023-11-10/
LOCATION:Tiki Town Resort
ATTACH;FMTTYPE=image/jpeg:https://tiki.town/wp-content/uploads/sites/6/2023/09/DJ-Sugar.jpg
END:VEVENT
BEGIN:VEVENT
DTSTART;TZID=America/Los_Angeles:20231109T140000
DTEND;TZID=America/Los_Angeles:20231109T160000
DTSTAMP:20260421T032158
CREATED:20231018T194854Z
LAST-MODIFIED:20231018T194854Z
UID:10013149-1699538400-1699545600@tiki.town
SUMMARY:Thursday afternoon with DJ NadinKatrin
DESCRIPTION:
URL:https://tiki.town/event/thursday-afternoon-with-dj-nadinkatrin/2023-11-09/
LOCATION:Tiki Town Resort
END:VEVENT
BEGIN:VEVENT
DTSTART;TZID=America/Los_Angeles:20231109T100000
DTEND;TZID=America/Los_Angeles:20231109T120000
DTSTAMP:20260421T032158
CREATED:20230916T014350Z
LAST-MODIFIED:20230916T014433Z
UID:10012909-1699524000-1699531200@tiki.town
SUMMARY:DJ Sugar Thursday Tunes!
DESCRIPTION:
URL:https://tiki.town/event/dj-sugar-tuesday-tunes-2/2023-11-09/
LOCATION:Tiki Town Resort
ATTACH;FMTTYPE=image/jpeg:https://tiki.town/wp-content/uploads/sites/6/2023/09/DJ-Sugar.jpg
END:VEVENT
BEGIN:VEVENT
DTSTART;TZID=America/Los_Angeles:20231109T080000
DTEND;TZID=America/Los_Angeles:20231109T100000
DTSTAMP:20260421T032158
CREATED:20231018T194254Z
LAST-MODIFIED:20231018T194321Z
UID:10013127-1699516800-1699524000@tiki.town
SUMMARY:Thursday morning with DJ TopStars
DESCRIPTION:
URL:https://tiki.town/event/thursday-morning-with-dj-topstars/2023-11-09/
LOCATION:Tiki Town Resort
ATTACH;FMTTYPE=image/png:https://tiki.town/wp-content/uploads/sites/6/2023/10/DJ-TopStars.png
END:VEVENT
BEGIN:VEVENT
DTSTART;TZID=America/Los_Angeles:20231108T160000
DTEND;TZID=America/Los_Angeles:20231108T180000
DTSTAMP:20260421T032158
CREATED:20230517T022741Z
LAST-MODIFIED:20230517T022741Z
UID:10011177-1699459200-1699466400@tiki.town
SUMMARY:Wednesdays with DJ Stars!
DESCRIPTION:
URL:https://tiki.town/event/wednesdays-with-dj-stars/2023-11-08/
LOCATION:Tiki Town Resort
ATTACH;FMTTYPE=image/jpeg:https://tiki.town/wp-content/uploads/sites/6/2023/05/DJ_Stars.jpg
END:VEVENT
BEGIN:VEVENT
DTSTART;TZID=America/Los_Angeles:20231108T140000
DTEND;TZID=America/Los_Angeles:20231108T160000
DTSTAMP:20260421T032158
CREATED:20230817T165139Z
LAST-MODIFIED:20230817T165205Z
UID:10012779-1699452000-1699459200@tiki.town
SUMMARY:Wednesday Tunes with DJ Vindarin!
DESCRIPTION:
URL:https://tiki.town/event/wednesday-tunes-with-dj-vindarin/2023-11-08/
LOCATION:Tiki Town Resort
ATTACH;FMTTYPE=image/png:https://tiki.town/wp-content/uploads/sites/6/2023/08/Vindarin1.png
END:VEVENT
BEGIN:VEVENT
DTSTART;TZID=America/Los_Angeles:20231108T120000
DTEND;TZID=America/Los_Angeles:20231108T140000
DTSTAMP:20260421T032158
CREATED:20230817T164635Z
LAST-MODIFIED:20230817T164635Z
UID:10011045-1699444800-1699452000@tiki.town
SUMMARY:Wednesdays with DJ Marten!
DESCRIPTION:
URL:https://tiki.town/event/wednesdays-with-dj-marten-2/2023-11-08/
LOCATION:Tiki Town Resort
ATTACH;FMTTYPE=image/png:https://tiki.town/wp-content/uploads/sites/6/2023/05/DJ-Marten.png
END:VEVENT
BEGIN:VEVENT
DTSTART;TZID=America/Los_Angeles:20231107T180000
DTEND;TZID=America/Los_Angeles:20231107T200000
DTSTAMP:20260421T032158
CREATED:20230517T021453Z
LAST-MODIFIED:20230517T021453Z
UID:10010947-1699380000-1699387200@tiki.town
SUMMARY:Tiddy Tuesdays with DJ Boom!
DESCRIPTION:
URL:https://tiki.town/event/tiddy-tuesdays-with-dj-boom/2023-11-07/
LOCATION:Tiki Town Resort
ATTACH;FMTTYPE=image/jpeg:https://tiki.town/wp-content/uploads/sites/6/2023/05/Boomer-Profile-10_8_21.jpg
END:VEVENT
BEGIN:VEVENT
DTSTART;TZID=America/Los_Angeles:20231107T160000
DTEND;TZID=America/Los_Angeles:20231107T180000
DTSTAMP:20260421T032158
CREATED:20230517T021252Z
LAST-MODIFIED:20230714T015001Z
UID:10010881-1699372800-1699380000@tiki.town
SUMMARY:Tuesdays with DJ Hank!
DESCRIPTION:Get your ass to Tiki Town for some DJ Hank-y panky! 😀
URL:https://tiki.town/event/tuesdays-with-dj-henry/2023-11-07/
LOCATION:Tiki Town Resort
ATTACH;FMTTYPE=image/png:https://tiki.town/wp-content/uploads/sites/6/2023/05/DJ-Henry-1.png
END:VEVENT
BEGIN:VEVENT
DTSTART;TZID=America/Los_Angeles:20231107T120000
DTEND;TZID=America/Los_Angeles:20231107T140000
DTSTAMP:20260421T032158
CREATED:20230517T015104Z
LAST-MODIFIED:20230517T020443Z
UID:10010749-1699358400-1699365600@tiki.town
SUMMARY:Tuesday Lunch Party with DJ Ana Lisa!
DESCRIPTION:
URL:https://tiki.town/event/tuesday-lunch-party-with-dj-ana-lisa/2023-11-07/
LOCATION:Tiki Town Resort
ATTACH;FMTTYPE=image/png:https://tiki.town/wp-content/uploads/sites/6/2023/05/DJ-Ana-Lisa.png
END:VEVENT
BEGIN:VEVENT
DTSTART;TZID=America/Los_Angeles:20231107T100000
DTEND;TZID=America/Los_Angeles:20231107T120000
DTSTAMP:20260421T032158
CREATED:20230916T014316Z
LAST-MODIFIED:20230916T014316Z
UID:10012879-1699351200-1699358400@tiki.town
SUMMARY:DJ Sugar Tuesday Tunes!
DESCRIPTION:
URL:https://tiki.town/event/dj-sugar-tuesday-tunes/2023-11-07/
LOCATION:Tiki Town Resort
ATTACH;FMTTYPE=image/jpeg:https://tiki.town/wp-content/uploads/sites/6/2023/09/DJ-Sugar.jpg
END:VEVENT
BEGIN:VEVENT
DTSTART;TZID=America/Los_Angeles:20231106T160000
DTEND;TZID=America/Los_Angeles:20231106T180000
DTSTAMP:20260421T032158
CREATED:20230518T005527Z
LAST-MODIFIED:20230605T182819Z
UID:10012632-1699286400-1699293600@tiki.town
SUMMARY:DJ Kyo Presents Movie Tune Trivia Night
DESCRIPTION:Come on in and test out your movie tune trivia knowledge! \nAwards (L$25) given for up to three things : \n1. Artist \n2. Title of song \n3. If Song and movie do not have the same name\, the movie name.
URL:https://tiki.town/event/dj-kyo-presents-hits-of-the-50s-and-60s/2023-11-06/
LOCATION:Tiki Town Resort
END:VEVENT
BEGIN:VEVENT
DTSTART;TZID=America/Los_Angeles:20231106T120000
DTEND;TZID=America/Los_Angeles:20231106T140000
DTSTAMP:20260421T032158
CREATED:20230924T223303Z
LAST-MODIFIED:20230924T223303Z
UID:10013032-1699272000-1699279200@tiki.town
SUMMARY:Mondays with DJ Kimmy
DESCRIPTION:
URL:https://tiki.town/event/mondays-with-dj-kimmy/2023-11-06/
LOCATION:Tiki Town Resort
ATTACH;FMTTYPE=image/png:https://tiki.town/wp-content/uploads/sites/6/2023/09/DJ-Kimmy.png
END:VEVENT
BEGIN:VEVENT
DTSTART;TZID=America/Los_Angeles:20231106T100000
DTEND;TZID=America/Los_Angeles:20231106T120000
DTSTAMP:20260421T032158
CREATED:20230916T013823Z
LAST-MODIFIED:20230916T013823Z
UID:10012834-1699264800-1699272000@tiki.town
SUMMARY:DJ Sugar Monday Tunes!
DESCRIPTION:
URL:https://tiki.town/event/dj-sugar-monday-tunes/2023-11-06/
LOCATION:Tiki Town Resort
ATTACH;FMTTYPE=image/jpeg:https://tiki.town/wp-content/uploads/sites/6/2023/09/DJ-Sugar.jpg
END:VEVENT
BEGIN:VEVENT
DTSTART;TZID=America/Los_Angeles:20231105T170000
DTEND;TZID=America/Los_Angeles:20231105T200000
DTSTAMP:20260421T032158
CREATED:20231030T023857Z
LAST-MODIFIED:20231030T023857Z
UID:10013212-1699203600-1699214400@tiki.town
SUMMARY:Movie Night: The Invisible Man (2020)
DESCRIPTION:The film follows Cecilia\, who receives the news of her abusive ex-boyfriend’s suicide. She begins to re-build her life for the better. However\, her sense of reality is put into question when she begins to suspect her deceased lover is not actually dead
URL:https://tiki.town/event/movie-night-the-invisible-man-2020/
LOCATION:Tiki Town Resort
END:VEVENT
BEGIN:VEVENT
DTSTART;TZID=America/Los_Angeles:20231105T120000
DTEND;TZID=America/Los_Angeles:20231105T140000
DTSTAMP:20260421T032158
CREATED:20231018T180500Z
LAST-MODIFIED:20231018T180500Z
UID:10013087-1699185600-1699192800@tiki.town
SUMMARY:Sunday afternoon with DJ ToRoo
DESCRIPTION:
URL:https://tiki.town/event/sunday-afternoon-with-dj-toroo/2023-11-05/
LOCATION:Tiki Town Resort
ATTACH;FMTTYPE=image/png:https://tiki.town/wp-content/uploads/sites/6/2023/10/DJ-MrToRoo.png
END:VEVENT
END:VCALENDAR