BEGIN:VCALENDAR
VERSION:2.0
PRODID:-//Tiki Town - ECPv6.15.20//NONSGML v1.0//EN
CALSCALE:GREGORIAN
METHOD:PUBLISH
X-WR-CALNAME:Tiki Town
X-ORIGINAL-URL:https://tiki.town
X-WR-CALDESC:Events for Tiki Town
REFRESH-INTERVAL;VALUE=DURATION:PT1H
X-Robots-Tag:noindex
X-PUBLISHED-TTL:PT1H
BEGIN:VTIMEZONE
TZID:America/Los_Angeles
BEGIN:DAYLIGHT
TZOFFSETFROM:-0800
TZOFFSETTO:-0700
TZNAME:PDT
DTSTART:20220313T100000
END:DAYLIGHT
BEGIN:STANDARD
TZOFFSETFROM:-0700
TZOFFSETTO:-0800
TZNAME:PST
DTSTART:20221106T090000
END:STANDARD
BEGIN:DAYLIGHT
TZOFFSETFROM:-0800
TZOFFSETTO:-0700
TZNAME:PDT
DTSTART:20230312T100000
END:DAYLIGHT
BEGIN:STANDARD
TZOFFSETFROM:-0700
TZOFFSETTO:-0800
TZNAME:PST
DTSTART:20231105T090000
END:STANDARD
BEGIN:DAYLIGHT
TZOFFSETFROM:-0800
TZOFFSETTO:-0700
TZNAME:PDT
DTSTART:20240310T100000
END:DAYLIGHT
BEGIN:STANDARD
TZOFFSETFROM:-0700
TZOFFSETTO:-0800
TZNAME:PST
DTSTART:20241103T090000
END:STANDARD
END:VTIMEZONE
BEGIN:VEVENT
DTSTART;TZID=America/Los_Angeles:20231030T100000
DTEND;TZID=America/Los_Angeles:20231030T120000
DTSTAMP:20260421T100128
CREATED:20230916T013823Z
LAST-MODIFIED:20230916T013823Z
UID:10012833-1698660000-1698667200@tiki.town
SUMMARY:DJ Sugar Monday Tunes!
DESCRIPTION:
URL:https://tiki.town/event/dj-sugar-monday-tunes/2023-10-30/
LOCATION:Tiki Town Resort
ATTACH;FMTTYPE=image/jpeg:https://tiki.town/wp-content/uploads/sites/6/2023/09/DJ-Sugar.jpg
END:VEVENT
BEGIN:VEVENT
DTSTART;TZID=America/Los_Angeles:20231029T170000
DTEND;TZID=America/Los_Angeles:20231029T200000
DTSTAMP:20260421T100128
CREATED:20230926T015818Z
LAST-MODIFIED:20230926T015818Z
UID:10013044-1698598800-1698609600@tiki.town
SUMMARY:Movie Night: Children of the Corn (1984)
DESCRIPTION:A boy preacher named Isaac goes to Gatlin\, Nebraska and gets all the children to murder every adult in town. A young couple on a road trip stop in Gatlin to report a murder and seek help\, but the town seems deserted. They are soon trapped in Gatlin with little chance of getting out alive.
URL:https://tiki.town/event/movie-night-children-of-the-corn-1984/
LOCATION:Tiki Town Resort
END:VEVENT
BEGIN:VEVENT
DTSTART;TZID=America/Los_Angeles:20231029T120000
DTEND;TZID=America/Los_Angeles:20231029T140000
DTSTAMP:20260421T100128
CREATED:20231018T180500Z
LAST-MODIFIED:20231018T180500Z
UID:10013086-1698580800-1698588000@tiki.town
SUMMARY:Sunday afternoon with DJ ToRoo
DESCRIPTION:
URL:https://tiki.town/event/sunday-afternoon-with-dj-toroo/2023-10-29/
LOCATION:Tiki Town Resort
ATTACH;FMTTYPE=image/png:https://tiki.town/wp-content/uploads/sites/6/2023/10/DJ-MrToRoo.png
END:VEVENT
BEGIN:VEVENT
DTSTART;TZID=America/Los_Angeles:20231029T100000
DTEND;TZID=America/Los_Angeles:20231029T120000
DTSTAMP:20260421T100128
CREATED:20230916T011231Z
LAST-MODIFIED:20230916T013618Z
UID:10012801-1698573600-1698580800@tiki.town
SUMMARY:DJ Sugar Sunday Tunes!
DESCRIPTION:
URL:https://tiki.town/event/dj-gro-sunday-tunes-2-2/2023-10-29/
LOCATION:Tiki Town Resort
ATTACH;FMTTYPE=image/jpeg:https://tiki.town/wp-content/uploads/sites/6/2023/09/DJ-Sugar.jpg
END:VEVENT
BEGIN:VEVENT
DTSTART;TZID=America/Los_Angeles:20231029T080000
DTEND;TZID=America/Los_Angeles:20231029T100000
DTSTAMP:20260421T100128
CREATED:20231018T180041Z
LAST-MODIFIED:20231018T180041Z
UID:10013066-1698566400-1698573600@tiki.town
SUMMARY:Sunday morning with DJ TopStars
DESCRIPTION:
URL:https://tiki.town/event/sunday-morning-with-dj-topstars/2023-10-29/
LOCATION:Tiki Town Resort
ATTACH;FMTTYPE=image/png:https://tiki.town/wp-content/uploads/sites/6/2023/10/DJ-TopStars.png
END:VEVENT
BEGIN:VEVENT
DTSTART;TZID=America/Los_Angeles:20231028T100000
DTEND;TZID=America/Los_Angeles:20231028T200000
DTSTAMP:20260421T100128
CREATED:20231008T035142Z
LAST-MODIFIED:20231008T035424Z
UID:10013048-1698487200-1698523200@tiki.town
SUMMARY:Tiki Town Halloween Sex Party
DESCRIPTION:This year Halloween is going to be spooky AND sexy! Put on your best sexy or scary costume for the Tiki Town Saturday Sex Party: Halloween Edition! \n 
URL:https://tiki.town/event/tiki-town-halloween-sex-party/
LOCATION:Tiki Town Resort
END:VEVENT
BEGIN:VEVENT
DTSTART;TZID=America/Los_Angeles:20231027T200000
DTEND;TZID=America/Los_Angeles:20231027T220000
DTSTAMP:20260421T100128
CREATED:20231018T195131Z
LAST-MODIFIED:20231018T195231Z
UID:10013179-1698436800-1698444000@tiki.town
SUMMARY:Friday night with DJ Selena
DESCRIPTION:
URL:https://tiki.town/event/friday-morning-with-dj-selena/2023-10-27/
LOCATION:Tiki Town Resort
END:VEVENT
BEGIN:VEVENT
DTSTART;TZID=America/Los_Angeles:20231027T140000
DTEND;TZID=America/Los_Angeles:20231027T160000
DTSTAMP:20260421T100128
CREATED:20231018T195412Z
LAST-MODIFIED:20231018T195412Z
UID:10013200-1698415200-1698422400@tiki.town
SUMMARY:Friday afternoon with DJ TopStars
DESCRIPTION:
URL:https://tiki.town/event/friday-afternoon-with-dj-topstars/2023-10-27/
LOCATION:Tiki Town Resort
ATTACH;FMTTYPE=image/png:https://tiki.town/wp-content/uploads/sites/6/2023/10/DJ-TopStars.png
END:VEVENT
BEGIN:VEVENT
DTSTART;TZID=America/Los_Angeles:20231027T120000
DTEND;TZID=America/Los_Angeles:20231027T140000
DTSTAMP:20260421T100128
CREATED:20230517T030538Z
LAST-MODIFIED:20230517T231513Z
UID:10011802-1698408000-1698415200@tiki.town
SUMMARY:Mid-day Party with DJ Willow
DESCRIPTION:
URL:https://tiki.town/event/mid-day-party-with-dj-willow-2/2023-10-27/
LOCATION:Tiki Town Resort
ATTACH;FMTTYPE=image/png:https://tiki.town/wp-content/uploads/sites/6/2023/05/DJ-Willow.png
END:VEVENT
BEGIN:VEVENT
DTSTART;TZID=America/Los_Angeles:20231027T100000
DTEND;TZID=America/Los_Angeles:20231027T120000
DTSTAMP:20260421T100128
CREATED:20230916T015112Z
LAST-MODIFIED:20230916T015112Z
UID:10012970-1698400800-1698408000@tiki.town
SUMMARY:DJ Sugar Friday Tunes!
DESCRIPTION:
URL:https://tiki.town/event/dj-sugar-friday-tunes/2023-10-27/
LOCATION:Tiki Town Resort
ATTACH;FMTTYPE=image/jpeg:https://tiki.town/wp-content/uploads/sites/6/2023/09/DJ-Sugar.jpg
END:VEVENT
BEGIN:VEVENT
DTSTART;TZID=America/Los_Angeles:20231026T140000
DTEND;TZID=America/Los_Angeles:20231026T160000
DTSTAMP:20260421T100128
CREATED:20231018T194854Z
LAST-MODIFIED:20231018T194854Z
UID:10013147-1698328800-1698336000@tiki.town
SUMMARY:Thursday afternoon with DJ NadinKatrin
DESCRIPTION:
URL:https://tiki.town/event/thursday-afternoon-with-dj-nadinkatrin/2023-10-26/
LOCATION:Tiki Town Resort
END:VEVENT
BEGIN:VEVENT
DTSTART;TZID=America/Los_Angeles:20231026T100000
DTEND;TZID=America/Los_Angeles:20231026T120000
DTSTAMP:20260421T100128
CREATED:20230916T014350Z
LAST-MODIFIED:20230916T014433Z
UID:10012907-1698314400-1698321600@tiki.town
SUMMARY:DJ Sugar Thursday Tunes!
DESCRIPTION:
URL:https://tiki.town/event/dj-sugar-tuesday-tunes-2/2023-10-26/
LOCATION:Tiki Town Resort
ATTACH;FMTTYPE=image/jpeg:https://tiki.town/wp-content/uploads/sites/6/2023/09/DJ-Sugar.jpg
END:VEVENT
BEGIN:VEVENT
DTSTART;TZID=America/Los_Angeles:20231026T080000
DTEND;TZID=America/Los_Angeles:20231026T100000
DTSTAMP:20260421T100128
CREATED:20231018T194254Z
LAST-MODIFIED:20231018T194321Z
UID:10013125-1698307200-1698314400@tiki.town
SUMMARY:Thursday morning with DJ TopStars
DESCRIPTION:
URL:https://tiki.town/event/thursday-morning-with-dj-topstars/2023-10-26/
LOCATION:Tiki Town Resort
ATTACH;FMTTYPE=image/png:https://tiki.town/wp-content/uploads/sites/6/2023/10/DJ-TopStars.png
END:VEVENT
BEGIN:VEVENT
DTSTART;TZID=America/Los_Angeles:20231025T160000
DTEND;TZID=America/Los_Angeles:20231025T180000
DTSTAMP:20260421T100128
CREATED:20230517T022741Z
LAST-MODIFIED:20230517T022741Z
UID:10011175-1698249600-1698256800@tiki.town
SUMMARY:Wednesdays with DJ Stars!
DESCRIPTION:
URL:https://tiki.town/event/wednesdays-with-dj-stars/2023-10-25/
LOCATION:Tiki Town Resort
ATTACH;FMTTYPE=image/jpeg:https://tiki.town/wp-content/uploads/sites/6/2023/05/DJ_Stars.jpg
END:VEVENT
BEGIN:VEVENT
DTSTART;TZID=America/Los_Angeles:20231025T140000
DTEND;TZID=America/Los_Angeles:20231025T160000
DTSTAMP:20260421T100128
CREATED:20230817T165139Z
LAST-MODIFIED:20230817T165205Z
UID:10012777-1698242400-1698249600@tiki.town
SUMMARY:Wednesday Tunes with DJ Vindarin!
DESCRIPTION:
URL:https://tiki.town/event/wednesday-tunes-with-dj-vindarin/2023-10-25/
LOCATION:Tiki Town Resort
ATTACH;FMTTYPE=image/png:https://tiki.town/wp-content/uploads/sites/6/2023/08/Vindarin1.png
END:VEVENT
BEGIN:VEVENT
DTSTART;TZID=America/Los_Angeles:20231025T120000
DTEND;TZID=America/Los_Angeles:20231025T140000
DTSTAMP:20260421T100128
CREATED:20230817T164635Z
LAST-MODIFIED:20230817T164635Z
UID:10011043-1698235200-1698242400@tiki.town
SUMMARY:Wednesdays with DJ Marten!
DESCRIPTION:
URL:https://tiki.town/event/wednesdays-with-dj-marten-2/2023-10-25/
LOCATION:Tiki Town Resort
ATTACH;FMTTYPE=image/png:https://tiki.town/wp-content/uploads/sites/6/2023/05/DJ-Marten.png
END:VEVENT
BEGIN:VEVENT
DTSTART;TZID=America/Los_Angeles:20231024T180000
DTEND;TZID=America/Los_Angeles:20231024T200000
DTSTAMP:20260421T100128
CREATED:20230517T021453Z
LAST-MODIFIED:20230517T021453Z
UID:10010945-1698170400-1698177600@tiki.town
SUMMARY:Tiddy Tuesdays with DJ Boom!
DESCRIPTION:
URL:https://tiki.town/event/tiddy-tuesdays-with-dj-boom/2023-10-24/
LOCATION:Tiki Town Resort
ATTACH;FMTTYPE=image/jpeg:https://tiki.town/wp-content/uploads/sites/6/2023/05/Boomer-Profile-10_8_21.jpg
END:VEVENT
BEGIN:VEVENT
DTSTART;TZID=America/Los_Angeles:20231024T160000
DTEND;TZID=America/Los_Angeles:20231024T180000
DTSTAMP:20260421T100128
CREATED:20230517T021252Z
LAST-MODIFIED:20230714T015001Z
UID:10010879-1698163200-1698170400@tiki.town
SUMMARY:Tuesdays with DJ Hank!
DESCRIPTION:Get your ass to Tiki Town for some DJ Hank-y panky! 😀
URL:https://tiki.town/event/tuesdays-with-dj-henry/2023-10-24/
LOCATION:Tiki Town Resort
ATTACH;FMTTYPE=image/png:https://tiki.town/wp-content/uploads/sites/6/2023/05/DJ-Henry-1.png
END:VEVENT
BEGIN:VEVENT
DTSTART;TZID=America/Los_Angeles:20231024T120000
DTEND;TZID=America/Los_Angeles:20231024T140000
DTSTAMP:20260421T100128
CREATED:20230517T015104Z
LAST-MODIFIED:20230517T020443Z
UID:10010747-1698148800-1698156000@tiki.town
SUMMARY:Tuesday Lunch Party with DJ Ana Lisa!
DESCRIPTION:
URL:https://tiki.town/event/tuesday-lunch-party-with-dj-ana-lisa/2023-10-24/
LOCATION:Tiki Town Resort
ATTACH;FMTTYPE=image/png:https://tiki.town/wp-content/uploads/sites/6/2023/05/DJ-Ana-Lisa.png
END:VEVENT
BEGIN:VEVENT
DTSTART;TZID=America/Los_Angeles:20231024T100000
DTEND;TZID=America/Los_Angeles:20231024T120000
DTSTAMP:20260421T100128
CREATED:20230916T014316Z
LAST-MODIFIED:20230916T014316Z
UID:10012877-1698141600-1698148800@tiki.town
SUMMARY:DJ Sugar Tuesday Tunes!
DESCRIPTION:
URL:https://tiki.town/event/dj-sugar-tuesday-tunes/2023-10-24/
LOCATION:Tiki Town Resort
ATTACH;FMTTYPE=image/jpeg:https://tiki.town/wp-content/uploads/sites/6/2023/09/DJ-Sugar.jpg
END:VEVENT
BEGIN:VEVENT
DTSTART;TZID=America/Los_Angeles:20231023T160000
DTEND;TZID=America/Los_Angeles:20231023T180000
DTSTAMP:20260421T100128
CREATED:20230518T003848Z
LAST-MODIFIED:20230518T003848Z
UID:10012564-1698076800-1698084000@tiki.town
SUMMARY:DJ Kyo Presents Country Super Groups and Artists
DESCRIPTION:
URL:https://tiki.town/event/dj-kyo-presents-country-super-groups-and-artists/2023-10-23/
LOCATION:Tiki Town Resort
END:VEVENT
BEGIN:VEVENT
DTSTART;TZID=America/Los_Angeles:20231023T120000
DTEND;TZID=America/Los_Angeles:20231023T140000
DTSTAMP:20260421T100128
CREATED:20230924T223303Z
LAST-MODIFIED:20230924T223303Z
UID:10013030-1698062400-1698069600@tiki.town
SUMMARY:Mondays with DJ Kimmy
DESCRIPTION:
URL:https://tiki.town/event/mondays-with-dj-kimmy/2023-10-23/
LOCATION:Tiki Town Resort
ATTACH;FMTTYPE=image/png:https://tiki.town/wp-content/uploads/sites/6/2023/09/DJ-Kimmy.png
END:VEVENT
BEGIN:VEVENT
DTSTART;TZID=America/Los_Angeles:20231023T100000
DTEND;TZID=America/Los_Angeles:20231023T120000
DTSTAMP:20260421T100128
CREATED:20230916T013823Z
LAST-MODIFIED:20230916T013823Z
UID:10012832-1698055200-1698062400@tiki.town
SUMMARY:DJ Sugar Monday Tunes!
DESCRIPTION:
URL:https://tiki.town/event/dj-sugar-monday-tunes/2023-10-23/
LOCATION:Tiki Town Resort
ATTACH;FMTTYPE=image/jpeg:https://tiki.town/wp-content/uploads/sites/6/2023/09/DJ-Sugar.jpg
END:VEVENT
BEGIN:VEVENT
DTSTART;TZID=America/Los_Angeles:20231022T170000
DTEND;TZID=America/Los_Angeles:20231022T200000
DTSTAMP:20260421T100128
CREATED:20230926T015012Z
LAST-MODIFIED:20230926T015012Z
UID:10013043-1697994000-1698004800@tiki.town
SUMMARY:Movie Night: Halloween (1978)
DESCRIPTION:The year is 1963\, the night: Halloween. Police are called to 43 Lampkin Ln. only to discover that 15 year old Judith Myers has been stabbed to death\, by her 6 year-old brother\, Michael. After being institutionalized for 15 years\, Myers breaks out on the night before Halloween. No one knows\, nor wants to find out\, what will happen on October 31st 1978 besides Myers’ psychiatrist\, Dr. Loomis. He knows Michael is coming back to Haddonfield\, but by the time the town realizes it\, it’ll be too late for many people
URL:https://tiki.town/event/movie-night-halloween-1978/
LOCATION:Tiki Town Resort
END:VEVENT
BEGIN:VEVENT
DTSTART;TZID=America/Los_Angeles:20231022T120000
DTEND;TZID=America/Los_Angeles:20231022T140000
DTSTAMP:20260421T100128
CREATED:20231018T180500Z
LAST-MODIFIED:20231018T180500Z
UID:10013085-1697976000-1697983200@tiki.town
SUMMARY:Sunday afternoon with DJ ToRoo
DESCRIPTION:
URL:https://tiki.town/event/sunday-afternoon-with-dj-toroo/2023-10-22/
LOCATION:Tiki Town Resort
ATTACH;FMTTYPE=image/png:https://tiki.town/wp-content/uploads/sites/6/2023/10/DJ-MrToRoo.png
END:VEVENT
BEGIN:VEVENT
DTSTART;TZID=America/Los_Angeles:20231022T100000
DTEND;TZID=America/Los_Angeles:20231022T120000
DTSTAMP:20260421T100128
CREATED:20230916T011231Z
LAST-MODIFIED:20230916T013618Z
UID:10012800-1697968800-1697976000@tiki.town
SUMMARY:DJ Sugar Sunday Tunes!
DESCRIPTION:
URL:https://tiki.town/event/dj-gro-sunday-tunes-2-2/2023-10-22/
LOCATION:Tiki Town Resort
ATTACH;FMTTYPE=image/jpeg:https://tiki.town/wp-content/uploads/sites/6/2023/09/DJ-Sugar.jpg
END:VEVENT
BEGIN:VEVENT
DTSTART;TZID=America/Los_Angeles:20231022T080000
DTEND;TZID=America/Los_Angeles:20231022T100000
DTSTAMP:20260421T100128
CREATED:20231018T180041Z
LAST-MODIFIED:20231018T180041Z
UID:10013065-1697961600-1697968800@tiki.town
SUMMARY:Sunday morning with DJ TopStars
DESCRIPTION:
URL:https://tiki.town/event/sunday-morning-with-dj-topstars/2023-10-22/
LOCATION:Tiki Town Resort
ATTACH;FMTTYPE=image/png:https://tiki.town/wp-content/uploads/sites/6/2023/10/DJ-TopStars.png
END:VEVENT
BEGIN:VEVENT
DTSTART;TZID=America/Los_Angeles:20231021T160000
DTEND;TZID=America/Los_Angeles:20231021T200000
DTSTAMP:20260421T100128
CREATED:20231018T174910Z
LAST-MODIFIED:20231018T234755Z
UID:10001416-1697904000-1697918400@tiki.town
SUMMARY:House Party at Xenia's Place!
DESCRIPTION:We have another first time house party host this week! Xenia has invited all of Tiki Town over to her house for a Saturday party! The fun starts at 4pm SLT! \nDJ Kyo: 4-6pm SLT \nDJ Tarica: 6-8pm SLT
URL:https://tiki.town/event/house-party-at-xenias-place/
LOCATION:Tiki Town Resort
END:VEVENT
BEGIN:VEVENT
DTSTART;TZID=America/Los_Angeles:20231021T140000
DTEND;TZID=America/Los_Angeles:20231021T160000
DTSTAMP:20260421T100128
CREATED:20230926T020603Z
LAST-MODIFIED:20231018T175644Z
UID:10013046-1697896800-1697904000@tiki.town
SUMMARY:Movie Matinee: Plan 9 From Outer Space(1957)
DESCRIPTION:We’ll be showing a special Halloween matinee movie before the house party! The movie will start promptly at 2pm SLT with no previews or pre-show features.\n\n\n\nIn California\, an old man (Bela Lugosi) grieves the loss of his wife (Vampira) and on the next day he also dies. However\, the space soldier Eros and his mate Tanna use an electric device to resurrect them both and the strong Inspector Clay who was murdered by the couple. Their intention is not to conquer Earth but to stop mankind from developing the powerful bomb “Solaranite” that would threaten the universe. When the population of Hollywood and Washington DC sees flying saucers in the sky\, a colonel\, a police lieutenant\, a commercial pilot\, his wife and a policeman try to stop the aliens.
URL:https://tiki.town/event/movie-matinee-plan-9-from-outer-space1957/
LOCATION:Tiki Town Resort
END:VEVENT
BEGIN:VEVENT
DTSTART;TZID=America/Los_Angeles:20231020T200000
DTEND;TZID=America/Los_Angeles:20231020T220000
DTSTAMP:20260421T100128
CREATED:20231018T195131Z
LAST-MODIFIED:20231018T195231Z
UID:10013178-1697832000-1697839200@tiki.town
SUMMARY:Friday night with DJ Selena
DESCRIPTION:
URL:https://tiki.town/event/friday-morning-with-dj-selena/2023-10-20/
LOCATION:Tiki Town Resort
END:VEVENT
END:VCALENDAR