BEGIN:VCALENDAR
VERSION:2.0
PRODID:-//Tiki Town - ECPv6.15.20//NONSGML v1.0//EN
CALSCALE:GREGORIAN
METHOD:PUBLISH
X-WR-CALNAME:Tiki Town
X-ORIGINAL-URL:https://tiki.town
X-WR-CALDESC:Events for Tiki Town
REFRESH-INTERVAL;VALUE=DURATION:PT1H
X-Robots-Tag:noindex
X-PUBLISHED-TTL:PT1H
BEGIN:VTIMEZONE
TZID:America/Los_Angeles
BEGIN:DAYLIGHT
TZOFFSETFROM:-0800
TZOFFSETTO:-0700
TZNAME:PDT
DTSTART:20220313T100000
END:DAYLIGHT
BEGIN:STANDARD
TZOFFSETFROM:-0700
TZOFFSETTO:-0800
TZNAME:PST
DTSTART:20221106T090000
END:STANDARD
BEGIN:DAYLIGHT
TZOFFSETFROM:-0800
TZOFFSETTO:-0700
TZNAME:PDT
DTSTART:20230312T100000
END:DAYLIGHT
BEGIN:STANDARD
TZOFFSETFROM:-0700
TZOFFSETTO:-0800
TZNAME:PST
DTSTART:20231105T090000
END:STANDARD
BEGIN:DAYLIGHT
TZOFFSETFROM:-0800
TZOFFSETTO:-0700
TZNAME:PDT
DTSTART:20240310T100000
END:DAYLIGHT
BEGIN:STANDARD
TZOFFSETFROM:-0700
TZOFFSETTO:-0800
TZNAME:PST
DTSTART:20241103T090000
END:STANDARD
END:VTIMEZONE
BEGIN:VEVENT
DTSTART;TZID=America/Los_Angeles:20231022T170000
DTEND;TZID=America/Los_Angeles:20231022T200000
DTSTAMP:20260421T130715
CREATED:20230926T015012Z
LAST-MODIFIED:20230926T015012Z
UID:10013043-1697994000-1698004800@tiki.town
SUMMARY:Movie Night: Halloween (1978)
DESCRIPTION:The year is 1963\, the night: Halloween. Police are called to 43 Lampkin Ln. only to discover that 15 year old Judith Myers has been stabbed to death\, by her 6 year-old brother\, Michael. After being institutionalized for 15 years\, Myers breaks out on the night before Halloween. No one knows\, nor wants to find out\, what will happen on October 31st 1978 besides Myers’ psychiatrist\, Dr. Loomis. He knows Michael is coming back to Haddonfield\, but by the time the town realizes it\, it’ll be too late for many people
URL:https://tiki.town/event/movie-night-halloween-1978/
LOCATION:Tiki Town Resort
END:VEVENT
BEGIN:VEVENT
DTSTART;TZID=America/Los_Angeles:20231022T120000
DTEND;TZID=America/Los_Angeles:20231022T140000
DTSTAMP:20260421T130715
CREATED:20231018T180500Z
LAST-MODIFIED:20231018T180500Z
UID:10013085-1697976000-1697983200@tiki.town
SUMMARY:Sunday afternoon with DJ ToRoo
DESCRIPTION:
URL:https://tiki.town/event/sunday-afternoon-with-dj-toroo/2023-10-22/
LOCATION:Tiki Town Resort
ATTACH;FMTTYPE=image/png:https://tiki.town/wp-content/uploads/sites/6/2023/10/DJ-MrToRoo.png
END:VEVENT
BEGIN:VEVENT
DTSTART;TZID=America/Los_Angeles:20231022T100000
DTEND;TZID=America/Los_Angeles:20231022T120000
DTSTAMP:20260421T130715
CREATED:20230916T011231Z
LAST-MODIFIED:20230916T013618Z
UID:10012800-1697968800-1697976000@tiki.town
SUMMARY:DJ Sugar Sunday Tunes!
DESCRIPTION:
URL:https://tiki.town/event/dj-gro-sunday-tunes-2-2/2023-10-22/
LOCATION:Tiki Town Resort
ATTACH;FMTTYPE=image/jpeg:https://tiki.town/wp-content/uploads/sites/6/2023/09/DJ-Sugar.jpg
END:VEVENT
BEGIN:VEVENT
DTSTART;TZID=America/Los_Angeles:20231022T080000
DTEND;TZID=America/Los_Angeles:20231022T100000
DTSTAMP:20260421T130715
CREATED:20231018T180041Z
LAST-MODIFIED:20231018T180041Z
UID:10013065-1697961600-1697968800@tiki.town
SUMMARY:Sunday morning with DJ TopStars
DESCRIPTION:
URL:https://tiki.town/event/sunday-morning-with-dj-topstars/2023-10-22/
LOCATION:Tiki Town Resort
ATTACH;FMTTYPE=image/png:https://tiki.town/wp-content/uploads/sites/6/2023/10/DJ-TopStars.png
END:VEVENT
BEGIN:VEVENT
DTSTART;TZID=America/Los_Angeles:20231021T160000
DTEND;TZID=America/Los_Angeles:20231021T200000
DTSTAMP:20260421T130715
CREATED:20231018T174910Z
LAST-MODIFIED:20231018T234755Z
UID:10001416-1697904000-1697918400@tiki.town
SUMMARY:House Party at Xenia's Place!
DESCRIPTION:We have another first time house party host this week! Xenia has invited all of Tiki Town over to her house for a Saturday party! The fun starts at 4pm SLT! \nDJ Kyo: 4-6pm SLT \nDJ Tarica: 6-8pm SLT
URL:https://tiki.town/event/house-party-at-xenias-place/
LOCATION:Tiki Town Resort
END:VEVENT
BEGIN:VEVENT
DTSTART;TZID=America/Los_Angeles:20231021T140000
DTEND;TZID=America/Los_Angeles:20231021T160000
DTSTAMP:20260421T130715
CREATED:20230926T020603Z
LAST-MODIFIED:20231018T175644Z
UID:10013046-1697896800-1697904000@tiki.town
SUMMARY:Movie Matinee: Plan 9 From Outer Space(1957)
DESCRIPTION:We’ll be showing a special Halloween matinee movie before the house party! The movie will start promptly at 2pm SLT with no previews or pre-show features.\n\n\n\nIn California\, an old man (Bela Lugosi) grieves the loss of his wife (Vampira) and on the next day he also dies. However\, the space soldier Eros and his mate Tanna use an electric device to resurrect them both and the strong Inspector Clay who was murdered by the couple. Their intention is not to conquer Earth but to stop mankind from developing the powerful bomb “Solaranite” that would threaten the universe. When the population of Hollywood and Washington DC sees flying saucers in the sky\, a colonel\, a police lieutenant\, a commercial pilot\, his wife and a policeman try to stop the aliens.
URL:https://tiki.town/event/movie-matinee-plan-9-from-outer-space1957/
LOCATION:Tiki Town Resort
END:VEVENT
BEGIN:VEVENT
DTSTART;TZID=America/Los_Angeles:20231020T200000
DTEND;TZID=America/Los_Angeles:20231020T220000
DTSTAMP:20260421T130715
CREATED:20231018T195131Z
LAST-MODIFIED:20231018T195231Z
UID:10013178-1697832000-1697839200@tiki.town
SUMMARY:Friday night with DJ Selena
DESCRIPTION:
URL:https://tiki.town/event/friday-morning-with-dj-selena/2023-10-20/
LOCATION:Tiki Town Resort
END:VEVENT
BEGIN:VEVENT
DTSTART;TZID=America/Los_Angeles:20231020T140000
DTEND;TZID=America/Los_Angeles:20231020T160000
DTSTAMP:20260421T130715
CREATED:20231018T195412Z
LAST-MODIFIED:20231018T195412Z
UID:10013199-1697810400-1697817600@tiki.town
SUMMARY:Friday afternoon with DJ TopStars
DESCRIPTION:
URL:https://tiki.town/event/friday-afternoon-with-dj-topstars/2023-10-20/
LOCATION:Tiki Town Resort
ATTACH;FMTTYPE=image/png:https://tiki.town/wp-content/uploads/sites/6/2023/10/DJ-TopStars.png
END:VEVENT
BEGIN:VEVENT
DTSTART;TZID=America/Los_Angeles:20231020T120000
DTEND;TZID=America/Los_Angeles:20231020T140000
DTSTAMP:20260421T130715
CREATED:20230517T030538Z
LAST-MODIFIED:20230517T231513Z
UID:10011801-1697803200-1697810400@tiki.town
SUMMARY:Mid-day Party with DJ Willow
DESCRIPTION:
URL:https://tiki.town/event/mid-day-party-with-dj-willow-2/2023-10-20/
LOCATION:Tiki Town Resort
ATTACH;FMTTYPE=image/png:https://tiki.town/wp-content/uploads/sites/6/2023/05/DJ-Willow.png
END:VEVENT
BEGIN:VEVENT
DTSTART;TZID=America/Los_Angeles:20231020T100000
DTEND;TZID=America/Los_Angeles:20231020T120000
DTSTAMP:20260421T130715
CREATED:20230916T015112Z
LAST-MODIFIED:20230916T015112Z
UID:10012969-1697796000-1697803200@tiki.town
SUMMARY:DJ Sugar Friday Tunes!
DESCRIPTION:
URL:https://tiki.town/event/dj-sugar-friday-tunes/2023-10-20/
LOCATION:Tiki Town Resort
ATTACH;FMTTYPE=image/jpeg:https://tiki.town/wp-content/uploads/sites/6/2023/09/DJ-Sugar.jpg
END:VEVENT
BEGIN:VEVENT
DTSTART;TZID=America/Los_Angeles:20231019T140000
DTEND;TZID=America/Los_Angeles:20231019T160000
DTSTAMP:20260421T130715
CREATED:20231018T194854Z
LAST-MODIFIED:20231018T194854Z
UID:10013146-1697724000-1697731200@tiki.town
SUMMARY:Thursday afternoon with DJ NadinKatrin
DESCRIPTION:
URL:https://tiki.town/event/thursday-afternoon-with-dj-nadinkatrin/2023-10-19/
LOCATION:Tiki Town Resort
END:VEVENT
BEGIN:VEVENT
DTSTART;TZID=America/Los_Angeles:20231019T100000
DTEND;TZID=America/Los_Angeles:20231019T120000
DTSTAMP:20260421T130715
CREATED:20230916T014350Z
LAST-MODIFIED:20230916T014433Z
UID:10012906-1697709600-1697716800@tiki.town
SUMMARY:DJ Sugar Thursday Tunes!
DESCRIPTION:
URL:https://tiki.town/event/dj-sugar-tuesday-tunes-2/2023-10-19/
LOCATION:Tiki Town Resort
ATTACH;FMTTYPE=image/jpeg:https://tiki.town/wp-content/uploads/sites/6/2023/09/DJ-Sugar.jpg
END:VEVENT
BEGIN:VEVENT
DTSTART;TZID=America/Los_Angeles:20231019T080000
DTEND;TZID=America/Los_Angeles:20231019T100000
DTSTAMP:20260421T130715
CREATED:20231018T194254Z
LAST-MODIFIED:20231018T194321Z
UID:10013135-1697702400-1697709600@tiki.town
SUMMARY:Thursday morning with DJ TopStars
DESCRIPTION:
URL:https://tiki.town/event/thursday-morning-with-dj-topstars/2023-10-19/
LOCATION:Tiki Town Resort
ATTACH;FMTTYPE=image/png:https://tiki.town/wp-content/uploads/sites/6/2023/10/DJ-TopStars.png
END:VEVENT
BEGIN:VEVENT
DTSTART;TZID=America/Los_Angeles:20231018T160000
DTEND;TZID=America/Los_Angeles:20231018T180000
DTSTAMP:20260421T130715
CREATED:20230517T022741Z
LAST-MODIFIED:20230517T022741Z
UID:10011174-1697644800-1697652000@tiki.town
SUMMARY:Wednesdays with DJ Stars!
DESCRIPTION:
URL:https://tiki.town/event/wednesdays-with-dj-stars/2023-10-18/
LOCATION:Tiki Town Resort
ATTACH;FMTTYPE=image/jpeg:https://tiki.town/wp-content/uploads/sites/6/2023/05/DJ_Stars.jpg
END:VEVENT
BEGIN:VEVENT
DTSTART;TZID=America/Los_Angeles:20231018T140000
DTEND;TZID=America/Los_Angeles:20231018T160000
DTSTAMP:20260421T130715
CREATED:20230817T165139Z
LAST-MODIFIED:20230817T165205Z
UID:10012776-1697637600-1697644800@tiki.town
SUMMARY:Wednesday Tunes with DJ Vindarin!
DESCRIPTION:
URL:https://tiki.town/event/wednesday-tunes-with-dj-vindarin/2023-10-18/
LOCATION:Tiki Town Resort
ATTACH;FMTTYPE=image/png:https://tiki.town/wp-content/uploads/sites/6/2023/08/Vindarin1.png
END:VEVENT
BEGIN:VEVENT
DTSTART;TZID=America/Los_Angeles:20231018T120000
DTEND;TZID=America/Los_Angeles:20231018T140000
DTSTAMP:20260421T130715
CREATED:20230817T164635Z
LAST-MODIFIED:20230817T164635Z
UID:10011042-1697630400-1697637600@tiki.town
SUMMARY:Wednesdays with DJ Marten!
DESCRIPTION:
URL:https://tiki.town/event/wednesdays-with-dj-marten-2/2023-10-18/
LOCATION:Tiki Town Resort
ATTACH;FMTTYPE=image/png:https://tiki.town/wp-content/uploads/sites/6/2023/05/DJ-Marten.png
END:VEVENT
BEGIN:VEVENT
DTSTART;TZID=America/Los_Angeles:20231017T180000
DTEND;TZID=America/Los_Angeles:20231017T200000
DTSTAMP:20260421T130715
CREATED:20230517T021453Z
LAST-MODIFIED:20230517T021453Z
UID:10010944-1697565600-1697572800@tiki.town
SUMMARY:Tiddy Tuesdays with DJ Boom!
DESCRIPTION:
URL:https://tiki.town/event/tiddy-tuesdays-with-dj-boom/2023-10-17/
LOCATION:Tiki Town Resort
ATTACH;FMTTYPE=image/jpeg:https://tiki.town/wp-content/uploads/sites/6/2023/05/Boomer-Profile-10_8_21.jpg
END:VEVENT
BEGIN:VEVENT
DTSTART;TZID=America/Los_Angeles:20231017T160000
DTEND;TZID=America/Los_Angeles:20231017T180000
DTSTAMP:20260421T130715
CREATED:20230517T021252Z
LAST-MODIFIED:20230714T015001Z
UID:10010878-1697558400-1697565600@tiki.town
SUMMARY:Tuesdays with DJ Hank!
DESCRIPTION:Get your ass to Tiki Town for some DJ Hank-y panky! 😀
URL:https://tiki.town/event/tuesdays-with-dj-henry/2023-10-17/
LOCATION:Tiki Town Resort
ATTACH;FMTTYPE=image/png:https://tiki.town/wp-content/uploads/sites/6/2023/05/DJ-Henry-1.png
END:VEVENT
BEGIN:VEVENT
DTSTART;TZID=America/Los_Angeles:20231017T120000
DTEND;TZID=America/Los_Angeles:20231017T140000
DTSTAMP:20260421T130715
CREATED:20230517T015104Z
LAST-MODIFIED:20230517T020443Z
UID:10010746-1697544000-1697551200@tiki.town
SUMMARY:Tuesday Lunch Party with DJ Ana Lisa!
DESCRIPTION:
URL:https://tiki.town/event/tuesday-lunch-party-with-dj-ana-lisa/2023-10-17/
LOCATION:Tiki Town Resort
ATTACH;FMTTYPE=image/png:https://tiki.town/wp-content/uploads/sites/6/2023/05/DJ-Ana-Lisa.png
END:VEVENT
BEGIN:VEVENT
DTSTART;TZID=America/Los_Angeles:20231017T100000
DTEND;TZID=America/Los_Angeles:20231017T120000
DTSTAMP:20260421T130715
CREATED:20230916T014316Z
LAST-MODIFIED:20230916T014316Z
UID:10012876-1697536800-1697544000@tiki.town
SUMMARY:DJ Sugar Tuesday Tunes!
DESCRIPTION:
URL:https://tiki.town/event/dj-sugar-tuesday-tunes/2023-10-17/
LOCATION:Tiki Town Resort
ATTACH;FMTTYPE=image/jpeg:https://tiki.town/wp-content/uploads/sites/6/2023/09/DJ-Sugar.jpg
END:VEVENT
BEGIN:VEVENT
DTSTART;TZID=America/Los_Angeles:20231016T160000
DTEND;TZID=America/Los_Angeles:20231016T180000
DTSTAMP:20260421T130715
CREATED:20230518T005638Z
LAST-MODIFIED:20230518T005638Z
UID:10012659-1697472000-1697479200@tiki.town
SUMMARY:DJ Kyo Presents Hits of the 90's and 00's
DESCRIPTION:
URL:https://tiki.town/event/dj-kyo-presents-hits-of-the-90s-and-00s/2023-10-16/
LOCATION:Tiki Town Resort
END:VEVENT
BEGIN:VEVENT
DTSTART;TZID=America/Los_Angeles:20231016T120000
DTEND;TZID=America/Los_Angeles:20231016T140000
DTSTAMP:20260421T130715
CREATED:20230924T223303Z
LAST-MODIFIED:20230924T223303Z
UID:10013029-1697457600-1697464800@tiki.town
SUMMARY:Mondays with DJ Kimmy
DESCRIPTION:
URL:https://tiki.town/event/mondays-with-dj-kimmy/2023-10-16/
LOCATION:Tiki Town Resort
ATTACH;FMTTYPE=image/png:https://tiki.town/wp-content/uploads/sites/6/2023/09/DJ-Kimmy.png
END:VEVENT
BEGIN:VEVENT
DTSTART;TZID=America/Los_Angeles:20231016T100000
DTEND;TZID=America/Los_Angeles:20231016T120000
DTSTAMP:20260421T130715
CREATED:20230916T013823Z
LAST-MODIFIED:20230916T013823Z
UID:10012831-1697450400-1697457600@tiki.town
SUMMARY:DJ Sugar Monday Tunes!
DESCRIPTION:
URL:https://tiki.town/event/dj-sugar-monday-tunes/2023-10-16/
LOCATION:Tiki Town Resort
ATTACH;FMTTYPE=image/jpeg:https://tiki.town/wp-content/uploads/sites/6/2023/09/DJ-Sugar.jpg
END:VEVENT
BEGIN:VEVENT
DTSTART;TZID=America/Los_Angeles:20231015T170000
DTEND;TZID=America/Los_Angeles:20231015T200000
DTSTAMP:20260421T130715
CREATED:20230926T013643Z
LAST-MODIFIED:20230926T013643Z
UID:10013042-1697389200-1697400000@tiki.town
SUMMARY:Movie Night: The Fly (1986)
DESCRIPTION:An eccentric scientist changes the world with his teleportation technology: when his experiment seems to be going well\, Dr. Seth Brundle tests his machine on himself and he gets fused with the worst kind of pest on Planet Earth; The Fly. What is the price of a man playing God? Only Seth knows
URL:https://tiki.town/event/movie-night-the-fly-1986/
LOCATION:Tiki Town Resort
END:VEVENT
BEGIN:VEVENT
DTSTART;TZID=America/Los_Angeles:20231015T100000
DTEND;TZID=America/Los_Angeles:20231015T120000
DTSTAMP:20260421T130715
CREATED:20230916T011231Z
LAST-MODIFIED:20230916T013618Z
UID:10012799-1697364000-1697371200@tiki.town
SUMMARY:DJ Sugar Sunday Tunes!
DESCRIPTION:
URL:https://tiki.town/event/dj-gro-sunday-tunes-2-2/2023-10-15/
LOCATION:Tiki Town Resort
ATTACH;FMTTYPE=image/jpeg:https://tiki.town/wp-content/uploads/sites/6/2023/09/DJ-Sugar.jpg
END:VEVENT
BEGIN:VEVENT
DTSTART;TZID=America/Los_Angeles:20231014T100000
DTEND;TZID=America/Los_Angeles:20231014T200000
DTSTAMP:20260421T130715
CREATED:20231008T205951Z
LAST-MODIFIED:20231012T232631Z
UID:10013049-1697277600-1697313600@tiki.town
SUMMARY:Tiki Town Saturday Sex Party
DESCRIPTION:This week we’re taking the party to the Grotto… that (somewhat) hidden little area a little ways from the main dancefloor. \nWe have a great line-up of DJs too! \n10-noon: DJ Hank \nnoon-2: DJ Marten Faulkwing \n2-4: DJ Alessia \n4-6: DJ Kyo \n6-8: DJ Tarica
URL:https://tiki.town/event/tiki-town-saturday-sex-party/
LOCATION:Tiki Town Resort
ATTACH;FMTTYPE=image/jpeg:https://tiki.town/wp-content/uploads/sites/6/2023/05/Tiki-Town-SSP.jpg
END:VEVENT
BEGIN:VEVENT
DTSTART;TZID=America/Los_Angeles:20231013T140000
DTEND;TZID=America/Los_Angeles:20231013T160000
DTSTAMP:20260421T130715
CREATED:20230916T015518Z
LAST-MODIFIED:20230916T015518Z
UID:10012998-1697205600-1697212800@tiki.town
SUMMARY:DJ Destiny Friday Fun
DESCRIPTION:
URL:https://tiki.town/event/dj-destiny-friday-fun/2023-10-13/
LOCATION:Tiki Town Resort
ATTACH;FMTTYPE=image/png:https://tiki.town/wp-content/uploads/sites/6/2023/09/DJ-Destiny.png
END:VEVENT
BEGIN:VEVENT
DTSTART;TZID=America/Los_Angeles:20231013T120000
DTEND;TZID=America/Los_Angeles:20231013T140000
DTSTAMP:20260421T130715
CREATED:20230517T030538Z
LAST-MODIFIED:20230517T231513Z
UID:10011800-1697198400-1697205600@tiki.town
SUMMARY:Mid-day Party with DJ Willow
DESCRIPTION:
URL:https://tiki.town/event/mid-day-party-with-dj-willow-2/2023-10-13/
LOCATION:Tiki Town Resort
ATTACH;FMTTYPE=image/png:https://tiki.town/wp-content/uploads/sites/6/2023/05/DJ-Willow.png
END:VEVENT
BEGIN:VEVENT
DTSTART;TZID=America/Los_Angeles:20231013T100000
DTEND;TZID=America/Los_Angeles:20231013T120000
DTSTAMP:20260421T130715
CREATED:20230916T015112Z
LAST-MODIFIED:20230916T015112Z
UID:10012968-1697191200-1697198400@tiki.town
SUMMARY:DJ Sugar Friday Tunes!
DESCRIPTION:
URL:https://tiki.town/event/dj-sugar-friday-tunes/2023-10-13/
LOCATION:Tiki Town Resort
ATTACH;FMTTYPE=image/jpeg:https://tiki.town/wp-content/uploads/sites/6/2023/09/DJ-Sugar.jpg
END:VEVENT
BEGIN:VEVENT
DTSTART;TZID=America/Los_Angeles:20231012T100000
DTEND;TZID=America/Los_Angeles:20231012T120000
DTSTAMP:20260421T130715
CREATED:20230916T014350Z
LAST-MODIFIED:20230916T014433Z
UID:10012905-1697104800-1697112000@tiki.town
SUMMARY:DJ Sugar Thursday Tunes!
DESCRIPTION:
URL:https://tiki.town/event/dj-sugar-tuesday-tunes-2/2023-10-12/
LOCATION:Tiki Town Resort
ATTACH;FMTTYPE=image/jpeg:https://tiki.town/wp-content/uploads/sites/6/2023/09/DJ-Sugar.jpg
END:VEVENT
END:VCALENDAR