BEGIN:VCALENDAR
VERSION:2.0
PRODID:-//Tiki Town - ECPv6.15.20//NONSGML v1.0//EN
CALSCALE:GREGORIAN
METHOD:PUBLISH
X-ORIGINAL-URL:https://tiki.town
X-WR-CALDESC:Events for Tiki Town
REFRESH-INTERVAL;VALUE=DURATION:PT1H
X-Robots-Tag:noindex
X-PUBLISHED-TTL:PT1H
BEGIN:VTIMEZONE
TZID:America/Los_Angeles
BEGIN:DAYLIGHT
TZOFFSETFROM:-0800
TZOFFSETTO:-0700
TZNAME:PDT
DTSTART:20220313T100000
END:DAYLIGHT
BEGIN:STANDARD
TZOFFSETFROM:-0700
TZOFFSETTO:-0800
TZNAME:PST
DTSTART:20221106T090000
END:STANDARD
BEGIN:DAYLIGHT
TZOFFSETFROM:-0800
TZOFFSETTO:-0700
TZNAME:PDT
DTSTART:20230312T100000
END:DAYLIGHT
BEGIN:STANDARD
TZOFFSETFROM:-0700
TZOFFSETTO:-0800
TZNAME:PST
DTSTART:20231105T090000
END:STANDARD
BEGIN:DAYLIGHT
TZOFFSETFROM:-0800
TZOFFSETTO:-0700
TZNAME:PDT
DTSTART:20240310T100000
END:DAYLIGHT
BEGIN:STANDARD
TZOFFSETFROM:-0700
TZOFFSETTO:-0800
TZNAME:PST
DTSTART:20241103T090000
END:STANDARD
END:VTIMEZONE
BEGIN:VEVENT
DTSTART;TZID=America/Los_Angeles:20231006T120000
DTEND;TZID=America/Los_Angeles:20231006T140000
DTSTAMP:20260421T192755
CREATED:20230517T030538Z
LAST-MODIFIED:20230517T231513Z
UID:10011799-1696593600-1696600800@tiki.town
SUMMARY:Mid-day Party with DJ Willow
DESCRIPTION:
URL:https://tiki.town/event/mid-day-party-with-dj-willow-2/2023-10-06/
LOCATION:Tiki Town Resort
ATTACH;FMTTYPE=image/png:https://tiki.town/wp-content/uploads/sites/6/2023/05/DJ-Willow.png
END:VEVENT
BEGIN:VEVENT
DTSTART;TZID=America/Los_Angeles:20231006T100000
DTEND;TZID=America/Los_Angeles:20231006T120000
DTSTAMP:20260421T192755
CREATED:20230916T015112Z
LAST-MODIFIED:20230916T015112Z
UID:10012967-1696586400-1696593600@tiki.town
SUMMARY:DJ Sugar Friday Tunes!
DESCRIPTION:
URL:https://tiki.town/event/dj-sugar-friday-tunes/2023-10-06/
LOCATION:Tiki Town Resort
ATTACH;FMTTYPE=image/jpeg:https://tiki.town/wp-content/uploads/sites/6/2023/09/DJ-Sugar.jpg
END:VEVENT
BEGIN:VEVENT
DTSTART;TZID=America/Los_Angeles:20231005T100000
DTEND;TZID=America/Los_Angeles:20231005T120000
DTSTAMP:20260421T192755
CREATED:20230916T014350Z
LAST-MODIFIED:20230916T014433Z
UID:10012904-1696500000-1696507200@tiki.town
SUMMARY:DJ Sugar Thursday Tunes!
DESCRIPTION:
URL:https://tiki.town/event/dj-sugar-tuesday-tunes-2/2023-10-05/
LOCATION:Tiki Town Resort
ATTACH;FMTTYPE=image/jpeg:https://tiki.town/wp-content/uploads/sites/6/2023/09/DJ-Sugar.jpg
END:VEVENT
BEGIN:VEVENT
DTSTART;TZID=America/Los_Angeles:20231004T160000
DTEND;TZID=America/Los_Angeles:20231004T180000
DTSTAMP:20260421T192755
CREATED:20230517T022741Z
LAST-MODIFIED:20230517T022741Z
UID:10011172-1696435200-1696442400@tiki.town
SUMMARY:Wednesdays with DJ Stars!
DESCRIPTION:
URL:https://tiki.town/event/wednesdays-with-dj-stars/2023-10-04/
LOCATION:Tiki Town Resort
ATTACH;FMTTYPE=image/jpeg:https://tiki.town/wp-content/uploads/sites/6/2023/05/DJ_Stars.jpg
END:VEVENT
BEGIN:VEVENT
DTSTART;TZID=America/Los_Angeles:20231004T140000
DTEND;TZID=America/Los_Angeles:20231004T160000
DTSTAMP:20260421T192755
CREATED:20230817T165139Z
LAST-MODIFIED:20230817T165205Z
UID:10012774-1696428000-1696435200@tiki.town
SUMMARY:Wednesday Tunes with DJ Vindarin!
DESCRIPTION:
URL:https://tiki.town/event/wednesday-tunes-with-dj-vindarin/2023-10-04/
LOCATION:Tiki Town Resort
ATTACH;FMTTYPE=image/png:https://tiki.town/wp-content/uploads/sites/6/2023/08/Vindarin1.png
END:VEVENT
BEGIN:VEVENT
DTSTART;TZID=America/Los_Angeles:20231004T120000
DTEND;TZID=America/Los_Angeles:20231004T140000
DTSTAMP:20260421T192755
CREATED:20230817T164635Z
LAST-MODIFIED:20230817T164635Z
UID:10011040-1696420800-1696428000@tiki.town
SUMMARY:Wednesdays with DJ Marten!
DESCRIPTION:
URL:https://tiki.town/event/wednesdays-with-dj-marten-2/2023-10-04/
LOCATION:Tiki Town Resort
ATTACH;FMTTYPE=image/png:https://tiki.town/wp-content/uploads/sites/6/2023/05/DJ-Marten.png
END:VEVENT
BEGIN:VEVENT
DTSTART;TZID=America/Los_Angeles:20231003T180000
DTEND;TZID=America/Los_Angeles:20231003T200000
DTSTAMP:20260421T192755
CREATED:20230517T021453Z
LAST-MODIFIED:20230517T021453Z
UID:10010942-1696356000-1696363200@tiki.town
SUMMARY:Tiddy Tuesdays with DJ Boom!
DESCRIPTION:
URL:https://tiki.town/event/tiddy-tuesdays-with-dj-boom/2023-10-03/
LOCATION:Tiki Town Resort
ATTACH;FMTTYPE=image/jpeg:https://tiki.town/wp-content/uploads/sites/6/2023/05/Boomer-Profile-10_8_21.jpg
END:VEVENT
BEGIN:VEVENT
DTSTART;TZID=America/Los_Angeles:20231003T160000
DTEND;TZID=America/Los_Angeles:20231003T180000
DTSTAMP:20260421T192755
CREATED:20230517T021252Z
LAST-MODIFIED:20230714T015001Z
UID:10010876-1696348800-1696356000@tiki.town
SUMMARY:Tuesdays with DJ Hank!
DESCRIPTION:Get your ass to Tiki Town for some DJ Hank-y panky! 😀
URL:https://tiki.town/event/tuesdays-with-dj-henry/2023-10-03/
LOCATION:Tiki Town Resort
ATTACH;FMTTYPE=image/png:https://tiki.town/wp-content/uploads/sites/6/2023/05/DJ-Henry-1.png
END:VEVENT
BEGIN:VEVENT
DTSTART;TZID=America/Los_Angeles:20231003T120000
DTEND;TZID=America/Los_Angeles:20231003T140000
DTSTAMP:20260421T192755
CREATED:20230517T015104Z
LAST-MODIFIED:20230517T020443Z
UID:10010744-1696334400-1696341600@tiki.town
SUMMARY:Tuesday Lunch Party with DJ Ana Lisa!
DESCRIPTION:
URL:https://tiki.town/event/tuesday-lunch-party-with-dj-ana-lisa/2023-10-03/
LOCATION:Tiki Town Resort
ATTACH;FMTTYPE=image/png:https://tiki.town/wp-content/uploads/sites/6/2023/05/DJ-Ana-Lisa.png
END:VEVENT
BEGIN:VEVENT
DTSTART;TZID=America/Los_Angeles:20231003T100000
DTEND;TZID=America/Los_Angeles:20231003T120000
DTSTAMP:20260421T192755
CREATED:20230916T014316Z
LAST-MODIFIED:20230916T014316Z
UID:10012874-1696327200-1696334400@tiki.town
SUMMARY:DJ Sugar Tuesday Tunes!
DESCRIPTION:
URL:https://tiki.town/event/dj-sugar-tuesday-tunes/2023-10-03/
LOCATION:Tiki Town Resort
ATTACH;FMTTYPE=image/jpeg:https://tiki.town/wp-content/uploads/sites/6/2023/09/DJ-Sugar.jpg
END:VEVENT
BEGIN:VEVENT
DTSTART;TZID=America/Los_Angeles:20231002T160000
DTEND;TZID=America/Los_Angeles:20231002T180000
DTSTAMP:20260421T192755
CREATED:20230518T005527Z
LAST-MODIFIED:20230605T182819Z
UID:10012631-1696262400-1696269600@tiki.town
SUMMARY:DJ Kyo Presents Movie Tune Trivia Night
DESCRIPTION:Come on in and test out your movie tune trivia knowledge! \nAwards (L$25) given for up to three things : \n1. Artist \n2. Title of song \n3. If Song and movie do not have the same name\, the movie name.
URL:https://tiki.town/event/dj-kyo-presents-hits-of-the-50s-and-60s/2023-10-02/
LOCATION:Tiki Town Resort
END:VEVENT
BEGIN:VEVENT
DTSTART;TZID=America/Los_Angeles:20231002T120000
DTEND;TZID=America/Los_Angeles:20231002T140000
DTSTAMP:20260421T192755
CREATED:20230924T223303Z
LAST-MODIFIED:20230924T223303Z
UID:10013027-1696248000-1696255200@tiki.town
SUMMARY:Mondays with DJ Kimmy
DESCRIPTION:
URL:https://tiki.town/event/mondays-with-dj-kimmy/2023-10-02/
LOCATION:Tiki Town Resort
ATTACH;FMTTYPE=image/png:https://tiki.town/wp-content/uploads/sites/6/2023/09/DJ-Kimmy.png
END:VEVENT
BEGIN:VEVENT
DTSTART;TZID=America/Los_Angeles:20231002T100000
DTEND;TZID=America/Los_Angeles:20231002T120000
DTSTAMP:20260421T192755
CREATED:20230916T013823Z
LAST-MODIFIED:20230916T013823Z
UID:10012829-1696240800-1696248000@tiki.town
SUMMARY:DJ Sugar Monday Tunes!
DESCRIPTION:
URL:https://tiki.town/event/dj-sugar-monday-tunes/2023-10-02/
LOCATION:Tiki Town Resort
ATTACH;FMTTYPE=image/jpeg:https://tiki.town/wp-content/uploads/sites/6/2023/09/DJ-Sugar.jpg
END:VEVENT
BEGIN:VEVENT
DTSTART;TZID=America/Los_Angeles:20231001T170000
DTEND;TZID=America/Los_Angeles:20231001T200000
DTSTAMP:20260421T192755
CREATED:20230926T013131Z
LAST-MODIFIED:20230926T013131Z
UID:10013040-1696179600-1696190400@tiki.town
SUMMARY:Movie Night: The Silence of the Lambs(1991)
DESCRIPTION:F.B.I. trainee Clarice Starling (Jodie Foster) works hard to advance her career\, while trying to hide or put behind her West Virginia roots\, of which if some knew\, would automatically classify her as being backward or white trash. After graduation\, she aspires to work in the agency’s Behavioral Science Unit under the leadership of Jack Crawford (Scott Glenn). While she is still a trainee\, Crawford asks her to question Dr. Hannibal Lecter (Sir Anthony Hopkins)\, a psychiatrist imprisoned\, thus far\, for eight years in maximum security isolation for being a serial killer who cannibalized his victims. Clarice is able to figure out the assignment is to pick Lecter’s brains to help them solve another serial murder case\, that of someone coined by the media as “Buffalo Bill” (Ted Levine)\, who has so far killed five victims\, all located in the eastern U.S.\, all young women\, who are slightly overweight (especially around the hips)\, all who were drowned in natural bodies of water\, and all who were stripped of large swaths of skin. She also figures that Crawford chose her\, as a woman\, to be able to trigger some emotional response from Lecter. After speaking to Lecter for the first time\, she realizes that everything with him will be a psychological game\, with her often having to read between the very cryptic lines he provides. She has to decide how much she will play along\, as his request in return for talking to him is to expose herself emotionally to him. The case takes a more dire turn when a sixth victim is discovered\, this one from who they are able to retrieve a key piece of evidence\, if Lecter is being forthright as to its meaning. A potential seventh victim is high profile Catherine Martin (Brooke Smith)\, the daughter of Senator Ruth Martin (Diane Baker)\, which places greater scrutiny on the case as they search for a hopefully still alive Catherine. Who may factor into what happens is Dr. Frederick Chilton (Anthony Heald)\, the warden at the prison\, an opportunist who sees the higher profile with Catherine\, meaning a higher profile for himself if he can insert himself successfully into the proceedings
URL:https://tiki.town/event/movie-night-the-silence-of-the-lambs1991/
LOCATION:Tiki Town Resort
END:VEVENT
BEGIN:VEVENT
DTSTART;TZID=America/Los_Angeles:20231001T100000
DTEND;TZID=America/Los_Angeles:20231001T120000
DTSTAMP:20260421T192755
CREATED:20230916T011231Z
LAST-MODIFIED:20230916T013618Z
UID:10012797-1696154400-1696161600@tiki.town
SUMMARY:DJ Sugar Sunday Tunes!
DESCRIPTION:
URL:https://tiki.town/event/dj-gro-sunday-tunes-2-2/2023-10-01/
LOCATION:Tiki Town Resort
ATTACH;FMTTYPE=image/jpeg:https://tiki.town/wp-content/uploads/sites/6/2023/09/DJ-Sugar.jpg
END:VEVENT
BEGIN:VEVENT
DTSTART;TZID=America/Los_Angeles:20230930T120000
DTEND;TZID=America/Los_Angeles:20230930T160000
DTSTAMP:20260421T192755
CREATED:20230829T173501Z
LAST-MODIFIED:20230926T175139Z
UID:10012789-1696075200-1696089600@tiki.town
SUMMARY:House Party at Mac's Place!
DESCRIPTION:RuthlessMac will be hosting a house party for the very first time. We’ll be invading his place and bringing some hard rock and metal tunes! \nDJ Kyo: noon – 2pm \nDK Chloe: 2pm – 4pm
URL:https://tiki.town/event/house-party-at-macs-place/
LOCATION:Tiki Town Resort
END:VEVENT
BEGIN:VEVENT
DTSTART;TZID=America/Los_Angeles:20230929T140000
DTEND;TZID=America/Los_Angeles:20230929T160000
DTSTAMP:20260421T192755
CREATED:20230916T015518Z
LAST-MODIFIED:20230916T015518Z
UID:10012996-1695996000-1696003200@tiki.town
SUMMARY:DJ Destiny Friday Fun
DESCRIPTION:
URL:https://tiki.town/event/dj-destiny-friday-fun/2023-09-29/
LOCATION:Tiki Town Resort
ATTACH;FMTTYPE=image/png:https://tiki.town/wp-content/uploads/sites/6/2023/09/DJ-Destiny.png
END:VEVENT
BEGIN:VEVENT
DTSTART;TZID=America/Los_Angeles:20230929T120000
DTEND;TZID=America/Los_Angeles:20230929T140000
DTSTAMP:20260421T192755
CREATED:20230517T030538Z
LAST-MODIFIED:20230517T231513Z
UID:10011798-1695988800-1695996000@tiki.town
SUMMARY:Mid-day Party with DJ Willow
DESCRIPTION:
URL:https://tiki.town/event/mid-day-party-with-dj-willow-2/2023-09-29/
LOCATION:Tiki Town Resort
ATTACH;FMTTYPE=image/png:https://tiki.town/wp-content/uploads/sites/6/2023/05/DJ-Willow.png
END:VEVENT
BEGIN:VEVENT
DTSTART;TZID=America/Los_Angeles:20230929T100000
DTEND;TZID=America/Los_Angeles:20230929T120000
DTSTAMP:20260421T192755
CREATED:20230916T015112Z
LAST-MODIFIED:20230916T015112Z
UID:10012966-1695981600-1695988800@tiki.town
SUMMARY:DJ Sugar Friday Tunes!
DESCRIPTION:
URL:https://tiki.town/event/dj-sugar-friday-tunes/2023-09-29/
LOCATION:Tiki Town Resort
ATTACH;FMTTYPE=image/jpeg:https://tiki.town/wp-content/uploads/sites/6/2023/09/DJ-Sugar.jpg
END:VEVENT
BEGIN:VEVENT
DTSTART;TZID=America/Los_Angeles:20230928T100000
DTEND;TZID=America/Los_Angeles:20230928T120000
DTSTAMP:20260421T192755
CREATED:20230916T014350Z
LAST-MODIFIED:20230916T014433Z
UID:10012903-1695895200-1695902400@tiki.town
SUMMARY:DJ Sugar Thursday Tunes!
DESCRIPTION:
URL:https://tiki.town/event/dj-sugar-tuesday-tunes-2/2023-09-28/
LOCATION:Tiki Town Resort
ATTACH;FMTTYPE=image/jpeg:https://tiki.town/wp-content/uploads/sites/6/2023/09/DJ-Sugar.jpg
END:VEVENT
BEGIN:VEVENT
DTSTART;TZID=America/Los_Angeles:20230927T160000
DTEND;TZID=America/Los_Angeles:20230927T180000
DTSTAMP:20260421T192755
CREATED:20230517T022741Z
LAST-MODIFIED:20230517T022741Z
UID:10011171-1695830400-1695837600@tiki.town
SUMMARY:Wednesdays with DJ Stars!
DESCRIPTION:
URL:https://tiki.town/event/wednesdays-with-dj-stars/2023-09-27/
LOCATION:Tiki Town Resort
ATTACH;FMTTYPE=image/jpeg:https://tiki.town/wp-content/uploads/sites/6/2023/05/DJ_Stars.jpg
END:VEVENT
BEGIN:VEVENT
DTSTART;TZID=America/Los_Angeles:20230927T140000
DTEND;TZID=America/Los_Angeles:20230927T160000
DTSTAMP:20260421T192755
CREATED:20230817T165139Z
LAST-MODIFIED:20230817T165205Z
UID:10012773-1695823200-1695830400@tiki.town
SUMMARY:Wednesday Tunes with DJ Vindarin!
DESCRIPTION:
URL:https://tiki.town/event/wednesday-tunes-with-dj-vindarin/2023-09-27/
LOCATION:Tiki Town Resort
ATTACH;FMTTYPE=image/png:https://tiki.town/wp-content/uploads/sites/6/2023/08/Vindarin1.png
END:VEVENT
BEGIN:VEVENT
DTSTART;TZID=America/Los_Angeles:20230927T120000
DTEND;TZID=America/Los_Angeles:20230927T140000
DTSTAMP:20260421T192755
CREATED:20230817T164635Z
LAST-MODIFIED:20230817T164635Z
UID:10011039-1695816000-1695823200@tiki.town
SUMMARY:Wednesdays with DJ Marten!
DESCRIPTION:
URL:https://tiki.town/event/wednesdays-with-dj-marten-2/2023-09-27/
LOCATION:Tiki Town Resort
ATTACH;FMTTYPE=image/png:https://tiki.town/wp-content/uploads/sites/6/2023/05/DJ-Marten.png
END:VEVENT
BEGIN:VEVENT
DTSTART;TZID=America/Los_Angeles:20230926T180000
DTEND;TZID=America/Los_Angeles:20230926T200000
DTSTAMP:20260421T192755
CREATED:20230517T021453Z
LAST-MODIFIED:20230517T021453Z
UID:10010941-1695751200-1695758400@tiki.town
SUMMARY:Tiddy Tuesdays with DJ Boom!
DESCRIPTION:
URL:https://tiki.town/event/tiddy-tuesdays-with-dj-boom/2023-09-26/
LOCATION:Tiki Town Resort
ATTACH;FMTTYPE=image/jpeg:https://tiki.town/wp-content/uploads/sites/6/2023/05/Boomer-Profile-10_8_21.jpg
END:VEVENT
BEGIN:VEVENT
DTSTART;TZID=America/Los_Angeles:20230926T160000
DTEND;TZID=America/Los_Angeles:20230926T180000
DTSTAMP:20260421T192755
CREATED:20230517T021252Z
LAST-MODIFIED:20230714T015001Z
UID:10010875-1695744000-1695751200@tiki.town
SUMMARY:Tuesdays with DJ Hank!
DESCRIPTION:Get your ass to Tiki Town for some DJ Hank-y panky! 😀
URL:https://tiki.town/event/tuesdays-with-dj-henry/2023-09-26/
LOCATION:Tiki Town Resort
ATTACH;FMTTYPE=image/png:https://tiki.town/wp-content/uploads/sites/6/2023/05/DJ-Henry-1.png
END:VEVENT
BEGIN:VEVENT
DTSTART;TZID=America/Los_Angeles:20230926T120000
DTEND;TZID=America/Los_Angeles:20230926T140000
DTSTAMP:20260421T192755
CREATED:20230517T015104Z
LAST-MODIFIED:20230517T020443Z
UID:10010743-1695729600-1695736800@tiki.town
SUMMARY:Tuesday Lunch Party with DJ Ana Lisa!
DESCRIPTION:
URL:https://tiki.town/event/tuesday-lunch-party-with-dj-ana-lisa/2023-09-26/
LOCATION:Tiki Town Resort
ATTACH;FMTTYPE=image/png:https://tiki.town/wp-content/uploads/sites/6/2023/05/DJ-Ana-Lisa.png
END:VEVENT
BEGIN:VEVENT
DTSTART;TZID=America/Los_Angeles:20230926T100000
DTEND;TZID=America/Los_Angeles:20230926T120000
DTSTAMP:20260421T192755
CREATED:20230916T014316Z
LAST-MODIFIED:20230916T014316Z
UID:10012873-1695722400-1695729600@tiki.town
SUMMARY:DJ Sugar Tuesday Tunes!
DESCRIPTION:
URL:https://tiki.town/event/dj-sugar-tuesday-tunes/2023-09-26/
LOCATION:Tiki Town Resort
ATTACH;FMTTYPE=image/jpeg:https://tiki.town/wp-content/uploads/sites/6/2023/09/DJ-Sugar.jpg
END:VEVENT
BEGIN:VEVENT
DTSTART;TZID=America/Los_Angeles:20230925T160000
DTEND;TZID=America/Los_Angeles:20230925T180000
DTSTAMP:20260421T192755
CREATED:20230518T003848Z
LAST-MODIFIED:20230518T003848Z
UID:10012563-1695657600-1695664800@tiki.town
SUMMARY:DJ Kyo Presents Country Super Groups and Artists
DESCRIPTION:
URL:https://tiki.town/event/dj-kyo-presents-country-super-groups-and-artists/2023-09-25/
LOCATION:Tiki Town Resort
END:VEVENT
BEGIN:VEVENT
DTSTART;TZID=America/Los_Angeles:20230925T120000
DTEND;TZID=America/Los_Angeles:20230925T140000
DTSTAMP:20260421T192755
CREATED:20230924T223303Z
LAST-MODIFIED:20230924T223303Z
UID:10013026-1695643200-1695650400@tiki.town
SUMMARY:Mondays with DJ Kimmy
DESCRIPTION:
URL:https://tiki.town/event/mondays-with-dj-kimmy/2023-09-25/
LOCATION:Tiki Town Resort
ATTACH;FMTTYPE=image/png:https://tiki.town/wp-content/uploads/sites/6/2023/09/DJ-Kimmy.png
END:VEVENT
BEGIN:VEVENT
DTSTART;TZID=America/Los_Angeles:20230925T100000
DTEND;TZID=America/Los_Angeles:20230925T120000
DTSTAMP:20260421T192755
CREATED:20230916T013823Z
LAST-MODIFIED:20230916T013823Z
UID:10012828-1695636000-1695643200@tiki.town
SUMMARY:DJ Sugar Monday Tunes!
DESCRIPTION:
URL:https://tiki.town/event/dj-sugar-monday-tunes/2023-09-25/
LOCATION:Tiki Town Resort
ATTACH;FMTTYPE=image/jpeg:https://tiki.town/wp-content/uploads/sites/6/2023/09/DJ-Sugar.jpg
END:VEVENT
END:VCALENDAR