BEGIN:VCALENDAR
VERSION:2.0
PRODID:-//Tiki Town - ECPv6.15.20//NONSGML v1.0//EN
CALSCALE:GREGORIAN
METHOD:PUBLISH
X-WR-CALNAME:Tiki Town
X-ORIGINAL-URL:https://tiki.town
X-WR-CALDESC:Events for Tiki Town
REFRESH-INTERVAL;VALUE=DURATION:PT1H
X-Robots-Tag:noindex
X-PUBLISHED-TTL:PT1H
BEGIN:VTIMEZONE
TZID:America/Los_Angeles
BEGIN:DAYLIGHT
TZOFFSETFROM:-0800
TZOFFSETTO:-0700
TZNAME:PDT
DTSTART:20220313T100000
END:DAYLIGHT
BEGIN:STANDARD
TZOFFSETFROM:-0700
TZOFFSETTO:-0800
TZNAME:PST
DTSTART:20221106T090000
END:STANDARD
BEGIN:DAYLIGHT
TZOFFSETFROM:-0800
TZOFFSETTO:-0700
TZNAME:PDT
DTSTART:20230312T100000
END:DAYLIGHT
BEGIN:STANDARD
TZOFFSETFROM:-0700
TZOFFSETTO:-0800
TZNAME:PST
DTSTART:20231105T090000
END:STANDARD
BEGIN:DAYLIGHT
TZOFFSETFROM:-0800
TZOFFSETTO:-0700
TZNAME:PDT
DTSTART:20240310T100000
END:DAYLIGHT
BEGIN:STANDARD
TZOFFSETFROM:-0700
TZOFFSETTO:-0800
TZNAME:PST
DTSTART:20241103T090000
END:STANDARD
END:VTIMEZONE
BEGIN:VEVENT
DTSTART;TZID=America/Los_Angeles:20230921T100000
DTEND;TZID=America/Los_Angeles:20230921T120000
DTSTAMP:20260422T000303
CREATED:20230916T014350Z
LAST-MODIFIED:20230916T014433Z
UID:10012902-1695290400-1695297600@tiki.town
SUMMARY:DJ Sugar Thursday Tunes!
DESCRIPTION:
URL:https://tiki.town/event/dj-sugar-tuesday-tunes-2/2023-09-21/
LOCATION:Tiki Town Resort
ATTACH;FMTTYPE=image/jpeg:https://tiki.town/wp-content/uploads/sites/6/2023/09/DJ-Sugar.jpg
END:VEVENT
BEGIN:VEVENT
DTSTART;TZID=America/Los_Angeles:20230920T160000
DTEND;TZID=America/Los_Angeles:20230920T180000
DTSTAMP:20260422T000303
CREATED:20230517T022741Z
LAST-MODIFIED:20230517T022741Z
UID:10011170-1695225600-1695232800@tiki.town
SUMMARY:Wednesdays with DJ Stars!
DESCRIPTION:
URL:https://tiki.town/event/wednesdays-with-dj-stars/2023-09-20/
LOCATION:Tiki Town Resort
ATTACH;FMTTYPE=image/jpeg:https://tiki.town/wp-content/uploads/sites/6/2023/05/DJ_Stars.jpg
END:VEVENT
BEGIN:VEVENT
DTSTART;TZID=America/Los_Angeles:20230920T140000
DTEND;TZID=America/Los_Angeles:20230920T160000
DTSTAMP:20260422T000303
CREATED:20230817T165139Z
LAST-MODIFIED:20230817T165205Z
UID:10012772-1695218400-1695225600@tiki.town
SUMMARY:Wednesday Tunes with DJ Vindarin!
DESCRIPTION:
URL:https://tiki.town/event/wednesday-tunes-with-dj-vindarin/2023-09-20/
LOCATION:Tiki Town Resort
ATTACH;FMTTYPE=image/png:https://tiki.town/wp-content/uploads/sites/6/2023/08/Vindarin1.png
END:VEVENT
BEGIN:VEVENT
DTSTART;TZID=America/Los_Angeles:20230920T120000
DTEND;TZID=America/Los_Angeles:20230920T140000
DTSTAMP:20260422T000303
CREATED:20230817T164635Z
LAST-MODIFIED:20230817T164635Z
UID:10011038-1695211200-1695218400@tiki.town
SUMMARY:Wednesdays with DJ Marten!
DESCRIPTION:
URL:https://tiki.town/event/wednesdays-with-dj-marten-2/2023-09-20/
LOCATION:Tiki Town Resort
ATTACH;FMTTYPE=image/png:https://tiki.town/wp-content/uploads/sites/6/2023/05/DJ-Marten.png
END:VEVENT
BEGIN:VEVENT
DTSTART;TZID=America/Los_Angeles:20230919T180000
DTEND;TZID=America/Los_Angeles:20230919T200000
DTSTAMP:20260422T000303
CREATED:20230517T021453Z
LAST-MODIFIED:20230517T021453Z
UID:10010940-1695146400-1695153600@tiki.town
SUMMARY:Tiddy Tuesdays with DJ Boom!
DESCRIPTION:
URL:https://tiki.town/event/tiddy-tuesdays-with-dj-boom/2023-09-19/
LOCATION:Tiki Town Resort
ATTACH;FMTTYPE=image/jpeg:https://tiki.town/wp-content/uploads/sites/6/2023/05/Boomer-Profile-10_8_21.jpg
END:VEVENT
BEGIN:VEVENT
DTSTART;TZID=America/Los_Angeles:20230919T160000
DTEND;TZID=America/Los_Angeles:20230919T180000
DTSTAMP:20260422T000303
CREATED:20230517T021252Z
LAST-MODIFIED:20230714T015001Z
UID:10010874-1695139200-1695146400@tiki.town
SUMMARY:Tuesdays with DJ Hank!
DESCRIPTION:Get your ass to Tiki Town for some DJ Hank-y panky! 😀
URL:https://tiki.town/event/tuesdays-with-dj-henry/2023-09-19/
LOCATION:Tiki Town Resort
ATTACH;FMTTYPE=image/png:https://tiki.town/wp-content/uploads/sites/6/2023/05/DJ-Henry-1.png
END:VEVENT
BEGIN:VEVENT
DTSTART;TZID=America/Los_Angeles:20230919T120000
DTEND;TZID=America/Los_Angeles:20230919T140000
DTSTAMP:20260422T000303
CREATED:20230517T015104Z
LAST-MODIFIED:20230517T020443Z
UID:10010742-1695124800-1695132000@tiki.town
SUMMARY:Tuesday Lunch Party with DJ Ana Lisa!
DESCRIPTION:
URL:https://tiki.town/event/tuesday-lunch-party-with-dj-ana-lisa/2023-09-19/
LOCATION:Tiki Town Resort
ATTACH;FMTTYPE=image/png:https://tiki.town/wp-content/uploads/sites/6/2023/05/DJ-Ana-Lisa.png
END:VEVENT
BEGIN:VEVENT
DTSTART;TZID=America/Los_Angeles:20230919T100000
DTEND;TZID=America/Los_Angeles:20230919T120000
DTSTAMP:20260422T000303
CREATED:20230916T014316Z
LAST-MODIFIED:20230916T014316Z
UID:10012872-1695117600-1695124800@tiki.town
SUMMARY:DJ Sugar Tuesday Tunes!
DESCRIPTION:
URL:https://tiki.town/event/dj-sugar-tuesday-tunes/2023-09-19/
LOCATION:Tiki Town Resort
ATTACH;FMTTYPE=image/jpeg:https://tiki.town/wp-content/uploads/sites/6/2023/09/DJ-Sugar.jpg
END:VEVENT
BEGIN:VEVENT
DTSTART;TZID=America/Los_Angeles:20230918T160000
DTEND;TZID=America/Los_Angeles:20230918T180000
DTSTAMP:20260422T000303
CREATED:20230518T005638Z
LAST-MODIFIED:20230518T005638Z
UID:10012658-1695052800-1695060000@tiki.town
SUMMARY:DJ Kyo Presents Hits of the 90's and 00's
DESCRIPTION:
URL:https://tiki.town/event/dj-kyo-presents-hits-of-the-90s-and-00s/2023-09-18/
LOCATION:Tiki Town Resort
END:VEVENT
BEGIN:VEVENT
DTSTART;TZID=America/Los_Angeles:20230918T100000
DTEND;TZID=America/Los_Angeles:20230918T120000
DTSTAMP:20260422T000303
CREATED:20230916T013823Z
LAST-MODIFIED:20230916T013823Z
UID:10012827-1695031200-1695038400@tiki.town
SUMMARY:DJ Sugar Monday Tunes!
DESCRIPTION:
URL:https://tiki.town/event/dj-sugar-monday-tunes/2023-09-18/
LOCATION:Tiki Town Resort
ATTACH;FMTTYPE=image/jpeg:https://tiki.town/wp-content/uploads/sites/6/2023/09/DJ-Sugar.jpg
END:VEVENT
BEGIN:VEVENT
DTSTART;TZID=America/Los_Angeles:20230917T170000
DTEND;TZID=America/Los_Angeles:20230917T200000
DTSTAMP:20260422T000303
CREATED:20230903T230147Z
LAST-MODIFIED:20230903T230147Z
UID:10012793-1694970000-1694980800@tiki.town
SUMMARY:Movie Night: Lemmy (2010)
DESCRIPTION:“Lemmy” (sub-title: “49% mother@#$%er\, 51% son-of-a-@#$%”) is an engrossing documentary about the life and times of Motorhead bassist/frontman Ian “Lemmy” Kilmister\, one of the more unique figures in rock and roll. His band\, of course\, is legendary\, and till now Lemmy has been a rather mysterious figure. He has never been one to seek the spotlight or grab tabloid headlines\, and seems content to simply do what he does and remain “under the radar” to everyone but his devoted fan base. \nThe film follows Lemmy around during his day-to-day life (recording sessions for Motorhead’s 2007 “MOTORIZER” album\, gigs with his ’50s/rockabilly side band The Head Cat\, appearing on the “Loveline” radio show\, and holding down his customary bar stool at Hollywood’s Rainbow Bar & Grill) while an extensive parade of rock and showbiz royalty (including such luminaries as Nikki Sixx of Motley Crue\, Slash and Duff of Guns N Roses\, Henry Rollins\, Scott Ian of Anthrax\, all of the members of Metallica\, actor Billy Bob Thornton\, tattoo artist Kat Von D\, and Marky Ramone\, just to name a few) all confirm what most of us knew already: that Lemmy is one of the coolest\, most bad-ass rock & roll mo-fo’s ever to walk on God’s green Earth. Interviews with the man himself reveal him to be a man with rock ‘n’ roll encoded in his DNA. This is a guy who saw the Beatles live in Liverpool before they even had a record out\, who roadied for Jimi Hendrix\, and made his mark in the legendary space-rock band Hawkwind before going on to infect the world with Motorhead. Underneath all that\, though\,he’s a pretty simple guy who lives alone in a small Hollywood apartment\, doesn’t put on airs and doesn’t put himself on a pedestal. His vibe seems to be\, more or less\, “this is me\, this is what I do\, if you like it\, fine…if not\, go to hell.” A mix of current and vintage Motorhead concert clips keep the volume level up and prove that even after nearly 35 years\, Motorhead remain a force to be reckoned with in the live arena. He’s a true national treasure. \nEven if you’re not a Motorhead fan (and if you’re not\, shame on you!) “Lemmy” is a fast\, funny\, and totally entertaining profile of a man who’s definitely a true original.
URL:https://tiki.town/event/movie-night-lemmy-2010/
LOCATION:Tiki Town Resort
END:VEVENT
BEGIN:VEVENT
DTSTART;TZID=America/Los_Angeles:20230917T100000
DTEND;TZID=America/Los_Angeles:20230917T120000
DTSTAMP:20260422T000303
CREATED:20230916T011231Z
LAST-MODIFIED:20230916T013618Z
UID:10012795-1694944800-1694952000@tiki.town
SUMMARY:DJ Sugar Sunday Tunes!
DESCRIPTION:
URL:https://tiki.town/event/dj-gro-sunday-tunes-2-2/2023-09-17/
LOCATION:Tiki Town Resort
ATTACH;FMTTYPE=image/jpeg:https://tiki.town/wp-content/uploads/sites/6/2023/09/DJ-Sugar.jpg
END:VEVENT
BEGIN:VEVENT
DTSTART;TZID=America/Los_Angeles:20230916T120000
DTEND;TZID=America/Los_Angeles:20230916T160000
DTSTAMP:20260422T000303
CREATED:20230829T173140Z
LAST-MODIFIED:20230830T214342Z
UID:10012788-1694865600-1694880000@tiki.town
SUMMARY:House Party at Kytanna's and Teresa's Place!
DESCRIPTION:At long last we finally get to invade the sanctitude of TT’s and KK’s home and maybe finally find out what REALLY goes on there! \nDJ Chloe: noon – 2pm \nDJ David: 2pm – 4pm \nWe’re gonna fill that place up and make it shake! \n 
URL:https://tiki.town/event/house-party-at-kytannas-and-teresas-place/
LOCATION:Tiki Town Resort
END:VEVENT
BEGIN:VEVENT
DTSTART;TZID=America/Los_Angeles:20230915T120000
DTEND;TZID=America/Los_Angeles:20230915T140000
DTSTAMP:20260422T000303
CREATED:20230517T030538Z
LAST-MODIFIED:20230517T231513Z
UID:10011796-1694779200-1694786400@tiki.town
SUMMARY:Mid-day Party with DJ Willow
DESCRIPTION:
URL:https://tiki.town/event/mid-day-party-with-dj-willow-2/2023-09-15/
LOCATION:Tiki Town Resort
ATTACH;FMTTYPE=image/png:https://tiki.town/wp-content/uploads/sites/6/2023/05/DJ-Willow.png
END:VEVENT
BEGIN:VEVENT
DTSTART;TZID=America/Los_Angeles:20230914T120000
DTEND;TZID=America/Los_Angeles:20230914T140000
DTSTAMP:20260422T000303
CREATED:20230517T025331Z
LAST-MODIFIED:20230517T025331Z
UID:10011367-1694692800-1694700000@tiki.town
SUMMARY:Thursday lunchdate with DJ Molly!
DESCRIPTION:
URL:https://tiki.town/event/thursday-lunchdate-with-dj-molly/2023-09-14/
LOCATION:Tiki Town Resort
ATTACH;FMTTYPE=image/png:https://tiki.town/wp-content/uploads/sites/6/2023/05/DJ-Molly_003.png
END:VEVENT
BEGIN:VEVENT
DTSTART;TZID=America/Los_Angeles:20230914T100000
DTEND;TZID=America/Los_Angeles:20230914T120000
DTSTAMP:20260422T000303
CREATED:20230517T024250Z
LAST-MODIFIED:20230517T024250Z
UID:10011301-1694685600-1694692800@tiki.town
SUMMARY:Thursday morning with DJ Kinsley!
DESCRIPTION:
URL:https://tiki.town/event/thursday-morning-with-dj-kinsley/2023-09-14/
LOCATION:Tiki Town Resort
ATTACH;FMTTYPE=image/png:https://tiki.town/wp-content/uploads/sites/6/2023/05/DJ-Kinsley.png
END:VEVENT
BEGIN:VEVENT
DTSTART;TZID=America/Los_Angeles:20230913T160000
DTEND;TZID=America/Los_Angeles:20230913T180000
DTSTAMP:20260422T000303
CREATED:20230517T022741Z
LAST-MODIFIED:20230517T022741Z
UID:10011169-1694620800-1694628000@tiki.town
SUMMARY:Wednesdays with DJ Stars!
DESCRIPTION:
URL:https://tiki.town/event/wednesdays-with-dj-stars/2023-09-13/
LOCATION:Tiki Town Resort
ATTACH;FMTTYPE=image/jpeg:https://tiki.town/wp-content/uploads/sites/6/2023/05/DJ_Stars.jpg
END:VEVENT
BEGIN:VEVENT
DTSTART;TZID=America/Los_Angeles:20230913T140000
DTEND;TZID=America/Los_Angeles:20230913T160000
DTSTAMP:20260422T000303
CREATED:20230817T165139Z
LAST-MODIFIED:20230817T165205Z
UID:10012771-1694613600-1694620800@tiki.town
SUMMARY:Wednesday Tunes with DJ Vindarin!
DESCRIPTION:
URL:https://tiki.town/event/wednesday-tunes-with-dj-vindarin/2023-09-13/
LOCATION:Tiki Town Resort
ATTACH;FMTTYPE=image/png:https://tiki.town/wp-content/uploads/sites/6/2023/08/Vindarin1.png
END:VEVENT
BEGIN:VEVENT
DTSTART;TZID=America/Los_Angeles:20230913T120000
DTEND;TZID=America/Los_Angeles:20230913T140000
DTSTAMP:20260422T000303
CREATED:20230817T164635Z
LAST-MODIFIED:20230817T164635Z
UID:10011037-1694606400-1694613600@tiki.town
SUMMARY:Wednesdays with DJ Marten!
DESCRIPTION:
URL:https://tiki.town/event/wednesdays-with-dj-marten-2/2023-09-13/
LOCATION:Tiki Town Resort
ATTACH;FMTTYPE=image/png:https://tiki.town/wp-content/uploads/sites/6/2023/05/DJ-Marten.png
END:VEVENT
BEGIN:VEVENT
DTSTART;TZID=America/Los_Angeles:20230912T180000
DTEND;TZID=America/Los_Angeles:20230912T200000
DTSTAMP:20260422T000303
CREATED:20230517T021453Z
LAST-MODIFIED:20230517T021453Z
UID:10010939-1694541600-1694548800@tiki.town
SUMMARY:Tiddy Tuesdays with DJ Boom!
DESCRIPTION:
URL:https://tiki.town/event/tiddy-tuesdays-with-dj-boom/2023-09-12/
LOCATION:Tiki Town Resort
ATTACH;FMTTYPE=image/jpeg:https://tiki.town/wp-content/uploads/sites/6/2023/05/Boomer-Profile-10_8_21.jpg
END:VEVENT
BEGIN:VEVENT
DTSTART;TZID=America/Los_Angeles:20230912T160000
DTEND;TZID=America/Los_Angeles:20230912T180000
DTSTAMP:20260422T000303
CREATED:20230517T021252Z
LAST-MODIFIED:20230714T015001Z
UID:10010873-1694534400-1694541600@tiki.town
SUMMARY:Tuesdays with DJ Hank!
DESCRIPTION:Get your ass to Tiki Town for some DJ Hank-y panky! 😀
URL:https://tiki.town/event/tuesdays-with-dj-henry/2023-09-12/
LOCATION:Tiki Town Resort
ATTACH;FMTTYPE=image/png:https://tiki.town/wp-content/uploads/sites/6/2023/05/DJ-Henry-1.png
END:VEVENT
BEGIN:VEVENT
DTSTART;TZID=America/Los_Angeles:20230912T140000
DTEND;TZID=America/Los_Angeles:20230912T160000
DTSTAMP:20260422T000303
CREATED:20230517T015632Z
LAST-MODIFIED:20230517T020606Z
UID:10010807-1694527200-1694534400@tiki.town
SUMMARY:Tuesdays with DJ Anak!
DESCRIPTION:
URL:https://tiki.town/event/tuesdays-with-dj-anak/2023-09-12/
LOCATION:Tiki Town Resort
ATTACH;FMTTYPE=image/png:https://tiki.town/wp-content/uploads/sites/6/2023/05/DJ-Anak-1.png
END:VEVENT
BEGIN:VEVENT
DTSTART;TZID=America/Los_Angeles:20230912T120000
DTEND;TZID=America/Los_Angeles:20230912T140000
DTSTAMP:20260422T000303
CREATED:20230517T015104Z
LAST-MODIFIED:20230517T020443Z
UID:10010741-1694520000-1694527200@tiki.town
SUMMARY:Tuesday Lunch Party with DJ Ana Lisa!
DESCRIPTION:
URL:https://tiki.town/event/tuesday-lunch-party-with-dj-ana-lisa/2023-09-12/
LOCATION:Tiki Town Resort
ATTACH;FMTTYPE=image/png:https://tiki.town/wp-content/uploads/sites/6/2023/05/DJ-Ana-Lisa.png
END:VEVENT
BEGIN:VEVENT
DTSTART;TZID=America/Los_Angeles:20230911T160000
DTEND;TZID=America/Los_Angeles:20230911T180000
DTSTAMP:20260422T000303
CREATED:20230518T005603Z
LAST-MODIFIED:20230710T152349Z
UID:10012644-1694448000-1694455200@tiki.town
SUMMARY:DJ Kyo Presents Movie Tune Trivia Night 4-6PM
DESCRIPTION:Come test your movie song trivia knowledge\, and maybe even make a lil lindens. \nAt least 75L awarded out per song\, 25L each for whomever first names the Song Title\, Artist\, and Movie Title. There may even be some extra credit awards.
URL:https://tiki.town/event/dj-kyo-presents-hits-of-the-70s-and-80s/2023-09-11/
LOCATION:Tiki Town Resort
END:VEVENT
BEGIN:VEVENT
DTSTART;TZID=America/Los_Angeles:20230911T100000
DTEND;TZID=America/Los_Angeles:20230911T120000
DTSTAMP:20260422T000303
CREATED:20230518T003048Z
LAST-MODIFIED:20230518T004650Z
UID:10012383-1694426400-1694433600@tiki.town
SUMMARY:Mondays with DJ Kinsley
DESCRIPTION:
URL:https://tiki.town/event/mondays-with-dj-kinsley/2023-09-11/
LOCATION:Tiki Town Resort
ATTACH;FMTTYPE=image/png:https://tiki.town/wp-content/uploads/sites/6/2023/05/DJ-Kinsley.png
END:VEVENT
BEGIN:VEVENT
DTSTART;TZID=America/Los_Angeles:20230910T170000
DTEND;TZID=America/Los_Angeles:20230910T200000
DTSTAMP:20260422T000303
CREATED:20230903T225504Z
LAST-MODIFIED:20230903T225504Z
UID:10012792-1694365200-1694376000@tiki.town
SUMMARY:Movie Night: Tron (1982)
DESCRIPTION:Hacker/arcade owner Kevin Flynn is digitally broken down into a data stream by a villainous software pirate known as Master Control and reconstituted into the internal\, 3-D graphical world of computers. It is there\, in the ultimate blazingly colorful\, geometrically intense landscapes of cyberspace\, that Flynn joins forces with Tron to outmaneuver the Master Control Program that holds them captive in the equivalent of a gigantic\, infinitely challenging computer game
URL:https://tiki.town/event/movie-night-tron-1982/
LOCATION:Tiki Town Resort
END:VEVENT
BEGIN:VEVENT
DTSTART;TZID=America/Los_Angeles:20230910T120000
DTEND;TZID=America/Los_Angeles:20230910T130000
DTSTAMP:20260422T000303
CREATED:20230517T234833Z
LAST-MODIFIED:20230517T234929Z
UID:10012115-1694347200-1694350800@tiki.town
SUMMARY:Ringo Robonaught Live at The Sticky Whisker
DESCRIPTION:
URL:https://tiki.town/event/ringo-robonaught-live-at-the-sticky-whisker/2023-09-10/
LOCATION:Tiki Town Resort
ATTACH;FMTTYPE=image/png:https://tiki.town/wp-content/uploads/sites/6/2023/05/Ringo-Robonaught-1.png
END:VEVENT
BEGIN:VEVENT
DTSTART;TZID=America/Los_Angeles:20230909T100000
DTEND;TZID=America/Los_Angeles:20230909T200000
DTSTAMP:20260422T000303
CREATED:20230904T213700Z
LAST-MODIFIED:20230908T000845Z
UID:10012794-1694253600-1694289600@tiki.town
SUMMARY:Saturday Sex Party at Daddy's @ La Cuna
DESCRIPTION:We’re taking the party to Daddy’s in La Cuna for 10 hours of music and naughty fun! The party starts at 10am and doesn’t end until at least 8pm. \n10 – noon: DJ Alessia \nnoon – 2pm: DJ Ana Lisa \n2pm – 4pm: DJ Dani \n4pm – 6pm: DJ Vin \n6pm – 8pm: DJ Molly \n  \n 
URL:https://tiki.town/event/saturday-sex-party-at-daddys-la-cuna/
LOCATION:Tiki Town Resort
ATTACH;FMTTYPE=image/jpeg:https://tiki.town/wp-content/uploads/sites/6/2023/05/Tiki-Town-SSP.jpg
END:VEVENT
BEGIN:VEVENT
DTSTART;TZID=America/Los_Angeles:20230908T120000
DTEND;TZID=America/Los_Angeles:20230908T140000
DTSTAMP:20260422T000303
CREATED:20230517T030538Z
LAST-MODIFIED:20230517T231513Z
UID:10011795-1694174400-1694181600@tiki.town
SUMMARY:Mid-day Party with DJ Willow
DESCRIPTION:
URL:https://tiki.town/event/mid-day-party-with-dj-willow-2/2023-09-08/
LOCATION:Tiki Town Resort
ATTACH;FMTTYPE=image/png:https://tiki.town/wp-content/uploads/sites/6/2023/05/DJ-Willow.png
END:VEVENT
BEGIN:VEVENT
DTSTART;TZID=America/Los_Angeles:20230907T120000
DTEND;TZID=America/Los_Angeles:20230907T140000
DTSTAMP:20260422T000303
CREATED:20230517T025331Z
LAST-MODIFIED:20230517T025331Z
UID:10011366-1694088000-1694095200@tiki.town
SUMMARY:Thursday lunchdate with DJ Molly!
DESCRIPTION:
URL:https://tiki.town/event/thursday-lunchdate-with-dj-molly/2023-09-07/
LOCATION:Tiki Town Resort
ATTACH;FMTTYPE=image/png:https://tiki.town/wp-content/uploads/sites/6/2023/05/DJ-Molly_003.png
END:VEVENT
END:VCALENDAR