BEGIN:VCALENDAR
VERSION:2.0
PRODID:-//Tiki Town - ECPv6.15.20//NONSGML v1.0//EN
CALSCALE:GREGORIAN
METHOD:PUBLISH
X-WR-CALNAME:Tiki Town
X-ORIGINAL-URL:https://tiki.town
X-WR-CALDESC:Events for Tiki Town
REFRESH-INTERVAL;VALUE=DURATION:PT1H
X-Robots-Tag:noindex
X-PUBLISHED-TTL:PT1H
BEGIN:VTIMEZONE
TZID:America/Los_Angeles
BEGIN:DAYLIGHT
TZOFFSETFROM:-0800
TZOFFSETTO:-0700
TZNAME:PDT
DTSTART:20220313T100000
END:DAYLIGHT
BEGIN:STANDARD
TZOFFSETFROM:-0700
TZOFFSETTO:-0800
TZNAME:PST
DTSTART:20221106T090000
END:STANDARD
BEGIN:DAYLIGHT
TZOFFSETFROM:-0800
TZOFFSETTO:-0700
TZNAME:PDT
DTSTART:20230312T100000
END:DAYLIGHT
BEGIN:STANDARD
TZOFFSETFROM:-0700
TZOFFSETTO:-0800
TZNAME:PST
DTSTART:20231105T090000
END:STANDARD
BEGIN:DAYLIGHT
TZOFFSETFROM:-0800
TZOFFSETTO:-0700
TZNAME:PDT
DTSTART:20240310T100000
END:DAYLIGHT
BEGIN:STANDARD
TZOFFSETFROM:-0700
TZOFFSETTO:-0800
TZNAME:PST
DTSTART:20241103T090000
END:STANDARD
END:VTIMEZONE
BEGIN:VEVENT
DTSTART;TZID=America/Los_Angeles:20230905T140000
DTEND;TZID=America/Los_Angeles:20230905T160000
DTSTAMP:20260422T044151
CREATED:20230517T015632Z
LAST-MODIFIED:20230517T020606Z
UID:10010806-1693922400-1693929600@tiki.town
SUMMARY:Tuesdays with DJ Anak!
DESCRIPTION:
URL:https://tiki.town/event/tuesdays-with-dj-anak/2023-09-05/
LOCATION:Tiki Town Resort
ATTACH;FMTTYPE=image/png:https://tiki.town/wp-content/uploads/sites/6/2023/05/DJ-Anak-1.png
END:VEVENT
BEGIN:VEVENT
DTSTART;TZID=America/Los_Angeles:20230905T120000
DTEND;TZID=America/Los_Angeles:20230905T140000
DTSTAMP:20260422T044151
CREATED:20230517T015104Z
LAST-MODIFIED:20230517T020443Z
UID:10010740-1693915200-1693922400@tiki.town
SUMMARY:Tuesday Lunch Party with DJ Ana Lisa!
DESCRIPTION:
URL:https://tiki.town/event/tuesday-lunch-party-with-dj-ana-lisa/2023-09-05/
LOCATION:Tiki Town Resort
ATTACH;FMTTYPE=image/png:https://tiki.town/wp-content/uploads/sites/6/2023/05/DJ-Ana-Lisa.png
END:VEVENT
BEGIN:VEVENT
DTSTART;TZID=America/Los_Angeles:20230904T160000
DTEND;TZID=America/Los_Angeles:20230904T180000
DTSTAMP:20260422T044151
CREATED:20230518T005527Z
LAST-MODIFIED:20230605T182819Z
UID:10012630-1693843200-1693850400@tiki.town
SUMMARY:DJ Kyo Presents Movie Tune Trivia Night
DESCRIPTION:Come on in and test out your movie tune trivia knowledge! \nAwards (L$25) given for up to three things : \n1. Artist \n2. Title of song \n3. If Song and movie do not have the same name\, the movie name.
URL:https://tiki.town/event/dj-kyo-presents-hits-of-the-50s-and-60s/2023-09-04/
LOCATION:Tiki Town Resort
END:VEVENT
BEGIN:VEVENT
DTSTART;TZID=America/Los_Angeles:20230904T100000
DTEND;TZID=America/Los_Angeles:20230904T120000
DTSTAMP:20260422T044151
CREATED:20230518T003048Z
LAST-MODIFIED:20230518T004650Z
UID:10012382-1693821600-1693828800@tiki.town
SUMMARY:Mondays with DJ Kinsley
DESCRIPTION:
URL:https://tiki.town/event/mondays-with-dj-kinsley/2023-09-04/
LOCATION:Tiki Town Resort
ATTACH;FMTTYPE=image/png:https://tiki.town/wp-content/uploads/sites/6/2023/05/DJ-Kinsley.png
END:VEVENT
BEGIN:VEVENT
DTSTART;TZID=America/Los_Angeles:20230903T170000
DTEND;TZID=America/Los_Angeles:20230903T200000
DTSTAMP:20260422T044151
CREATED:20230903T224508Z
LAST-MODIFIED:20230903T224508Z
UID:10012791-1693760400-1693771200@tiki.town
SUMMARY:Movie Night: Vacation (2015)
DESCRIPTION:Following in the footsteps of his father\, Clark Griswold\, the man with a vision in National Lampoon’s Vacation (1983)\, his son\, too\, the hard-working family man\, Rusty Griswold\, wants to have some quality time with his wife\, Debbie\, and their two sons\, Kevin and James. With the idea of revisiting the place of his vivid childhood memories\, the exciting Walley World\, keep coming to mind\, Rusty decides to surprise his family with his proposal for an unforgettable trip across the country in their rented Albanian SUV. However\, as the Griswolds hit the road for some serious family-bonding\, this is easier said than done\, and\, disaster after disaster\, Rusty’s romantic intentions seem to go down the drain. Can some minor mishaps thwart Rusty’s plans for creating the perfect family vacation?
URL:https://tiki.town/event/movie-night-vacation-2015/
LOCATION:Tiki Town Resort
END:VEVENT
BEGIN:VEVENT
DTSTART;TZID=America/Los_Angeles:20230903T120000
DTEND;TZID=America/Los_Angeles:20230903T130000
DTSTAMP:20260422T044151
CREATED:20230517T234833Z
LAST-MODIFIED:20230517T234929Z
UID:10012114-1693742400-1693746000@tiki.town
SUMMARY:Ringo Robonaught Live at The Sticky Whisker
DESCRIPTION:
URL:https://tiki.town/event/ringo-robonaught-live-at-the-sticky-whisker/2023-09-03/
LOCATION:Tiki Town Resort
ATTACH;FMTTYPE=image/png:https://tiki.town/wp-content/uploads/sites/6/2023/05/Ringo-Robonaught-1.png
END:VEVENT
BEGIN:VEVENT
DTSTART;TZID=America/Los_Angeles:20230902T100000
DTEND;TZID=America/Los_Angeles:20230902T140000
DTSTAMP:20260422T044151
CREATED:20230829T194434Z
LAST-MODIFIED:20230830T013542Z
UID:10012790-1693648800-1693663200@tiki.town
SUMMARY:House Party at Sunny's Place!
DESCRIPTION:Sunny is hosting a house party for the very first time! Come have some fun in the sun! \nDJ Marten: 10am – noon \nDJ Sunny: noon – 2pm
URL:https://tiki.town/event/house-party-at-sunnys-place/
LOCATION:Tiki Town Resort
END:VEVENT
BEGIN:VEVENT
DTSTART;TZID=America/Los_Angeles:20230901T120000
DTEND;TZID=America/Los_Angeles:20230901T140000
DTSTAMP:20260422T044151
CREATED:20230517T030538Z
LAST-MODIFIED:20230517T231513Z
UID:10011794-1693569600-1693576800@tiki.town
SUMMARY:Mid-day Party with DJ Willow
DESCRIPTION:
URL:https://tiki.town/event/mid-day-party-with-dj-willow-2/2023-09-01/
LOCATION:Tiki Town Resort
ATTACH;FMTTYPE=image/png:https://tiki.town/wp-content/uploads/sites/6/2023/05/DJ-Willow.png
END:VEVENT
BEGIN:VEVENT
DTSTART;TZID=America/Los_Angeles:20230831T120000
DTEND;TZID=America/Los_Angeles:20230831T140000
DTSTAMP:20260422T044151
CREATED:20230517T025331Z
LAST-MODIFIED:20230517T025331Z
UID:10011365-1693483200-1693490400@tiki.town
SUMMARY:Thursday lunchdate with DJ Molly!
DESCRIPTION:
URL:https://tiki.town/event/thursday-lunchdate-with-dj-molly/2023-08-31/
LOCATION:Tiki Town Resort
ATTACH;FMTTYPE=image/png:https://tiki.town/wp-content/uploads/sites/6/2023/05/DJ-Molly_003.png
END:VEVENT
BEGIN:VEVENT
DTSTART;TZID=America/Los_Angeles:20230831T100000
DTEND;TZID=America/Los_Angeles:20230831T120000
DTSTAMP:20260422T044151
CREATED:20230517T024250Z
LAST-MODIFIED:20230517T024250Z
UID:10011299-1693476000-1693483200@tiki.town
SUMMARY:Thursday morning with DJ Kinsley!
DESCRIPTION:
URL:https://tiki.town/event/thursday-morning-with-dj-kinsley/2023-08-31/
LOCATION:Tiki Town Resort
ATTACH;FMTTYPE=image/png:https://tiki.town/wp-content/uploads/sites/6/2023/05/DJ-Kinsley.png
END:VEVENT
BEGIN:VEVENT
DTSTART;TZID=America/Los_Angeles:20230830T160000
DTEND;TZID=America/Los_Angeles:20230830T180000
DTSTAMP:20260422T044151
CREATED:20230517T022741Z
LAST-MODIFIED:20230517T022741Z
UID:10011167-1693411200-1693418400@tiki.town
SUMMARY:Wednesdays with DJ Stars!
DESCRIPTION:
URL:https://tiki.town/event/wednesdays-with-dj-stars/2023-08-30/
LOCATION:Tiki Town Resort
ATTACH;FMTTYPE=image/jpeg:https://tiki.town/wp-content/uploads/sites/6/2023/05/DJ_Stars.jpg
END:VEVENT
BEGIN:VEVENT
DTSTART;TZID=America/Los_Angeles:20230830T140000
DTEND;TZID=America/Los_Angeles:20230830T160000
DTSTAMP:20260422T044151
CREATED:20230817T165139Z
LAST-MODIFIED:20230817T165205Z
UID:10012769-1693404000-1693411200@tiki.town
SUMMARY:Wednesday Tunes with DJ Vindarin!
DESCRIPTION:
URL:https://tiki.town/event/wednesday-tunes-with-dj-vindarin/2023-08-30/
LOCATION:Tiki Town Resort
ATTACH;FMTTYPE=image/png:https://tiki.town/wp-content/uploads/sites/6/2023/08/Vindarin1.png
END:VEVENT
BEGIN:VEVENT
DTSTART;TZID=America/Los_Angeles:20230830T120000
DTEND;TZID=America/Los_Angeles:20230830T140000
DTSTAMP:20260422T044151
CREATED:20230817T164635Z
LAST-MODIFIED:20230817T164635Z
UID:10011035-1693396800-1693404000@tiki.town
SUMMARY:Wednesdays with DJ Marten!
DESCRIPTION:
URL:https://tiki.town/event/wednesdays-with-dj-marten-2/2023-08-30/
LOCATION:Tiki Town Resort
ATTACH;FMTTYPE=image/png:https://tiki.town/wp-content/uploads/sites/6/2023/05/DJ-Marten.png
END:VEVENT
BEGIN:VEVENT
DTSTART;TZID=America/Los_Angeles:20230829T180000
DTEND;TZID=America/Los_Angeles:20230829T200000
DTSTAMP:20260422T044151
CREATED:20230517T021453Z
LAST-MODIFIED:20230517T021453Z
UID:10010937-1693332000-1693339200@tiki.town
SUMMARY:Tiddy Tuesdays with DJ Boom!
DESCRIPTION:
URL:https://tiki.town/event/tiddy-tuesdays-with-dj-boom/2023-08-29/
LOCATION:Tiki Town Resort
ATTACH;FMTTYPE=image/jpeg:https://tiki.town/wp-content/uploads/sites/6/2023/05/Boomer-Profile-10_8_21.jpg
END:VEVENT
BEGIN:VEVENT
DTSTART;TZID=America/Los_Angeles:20230829T160000
DTEND;TZID=America/Los_Angeles:20230829T180000
DTSTAMP:20260422T044151
CREATED:20230517T021252Z
LAST-MODIFIED:20230714T015001Z
UID:10010871-1693324800-1693332000@tiki.town
SUMMARY:Tuesdays with DJ Hank!
DESCRIPTION:Get your ass to Tiki Town for some DJ Hank-y panky! 😀
URL:https://tiki.town/event/tuesdays-with-dj-henry/2023-08-29/
LOCATION:Tiki Town Resort
ATTACH;FMTTYPE=image/png:https://tiki.town/wp-content/uploads/sites/6/2023/05/DJ-Henry-1.png
END:VEVENT
BEGIN:VEVENT
DTSTART;TZID=America/Los_Angeles:20230829T140000
DTEND;TZID=America/Los_Angeles:20230829T160000
DTSTAMP:20260422T044151
CREATED:20230517T015632Z
LAST-MODIFIED:20230517T020606Z
UID:10010805-1693317600-1693324800@tiki.town
SUMMARY:Tuesdays with DJ Anak!
DESCRIPTION:
URL:https://tiki.town/event/tuesdays-with-dj-anak/2023-08-29/
LOCATION:Tiki Town Resort
ATTACH;FMTTYPE=image/png:https://tiki.town/wp-content/uploads/sites/6/2023/05/DJ-Anak-1.png
END:VEVENT
BEGIN:VEVENT
DTSTART;TZID=America/Los_Angeles:20230829T120000
DTEND;TZID=America/Los_Angeles:20230829T140000
DTSTAMP:20260422T044151
CREATED:20230517T015104Z
LAST-MODIFIED:20230517T020443Z
UID:10010739-1693310400-1693317600@tiki.town
SUMMARY:Tuesday Lunch Party with DJ Ana Lisa!
DESCRIPTION:
URL:https://tiki.town/event/tuesday-lunch-party-with-dj-ana-lisa/2023-08-29/
LOCATION:Tiki Town Resort
ATTACH;FMTTYPE=image/png:https://tiki.town/wp-content/uploads/sites/6/2023/05/DJ-Ana-Lisa.png
END:VEVENT
BEGIN:VEVENT
DTSTART;TZID=America/Los_Angeles:20230828T160000
DTEND;TZID=America/Los_Angeles:20230828T180000
DTSTAMP:20260422T044151
CREATED:20230518T003848Z
LAST-MODIFIED:20230518T003848Z
UID:10012562-1693238400-1693245600@tiki.town
SUMMARY:DJ Kyo Presents Country Super Groups and Artists
DESCRIPTION:
URL:https://tiki.town/event/dj-kyo-presents-country-super-groups-and-artists/2023-08-28/
LOCATION:Tiki Town Resort
END:VEVENT
BEGIN:VEVENT
DTSTART;TZID=America/Los_Angeles:20230828T100000
DTEND;TZID=America/Los_Angeles:20230828T120000
DTSTAMP:20260422T044151
CREATED:20230518T003048Z
LAST-MODIFIED:20230518T004650Z
UID:10012381-1693216800-1693224000@tiki.town
SUMMARY:Mondays with DJ Kinsley
DESCRIPTION:
URL:https://tiki.town/event/mondays-with-dj-kinsley/2023-08-28/
LOCATION:Tiki Town Resort
ATTACH;FMTTYPE=image/png:https://tiki.town/wp-content/uploads/sites/6/2023/05/DJ-Kinsley.png
END:VEVENT
BEGIN:VEVENT
DTSTART;TZID=America/Los_Angeles:20230827T170000
DTEND;TZID=America/Los_Angeles:20230827T200000
DTSTAMP:20260422T044151
CREATED:20230626T172213Z
LAST-MODIFIED:20230626T172213Z
UID:10012681-1693155600-1693166400@tiki.town
SUMMARY:Movie Night: Star Wars: A New Hope (Ep IV) (1977)
DESCRIPTION:The Imperial Forces\, under orders from cruel Darth Vader\, hold Princess Leia hostage in their efforts to quell the rebellion against the Galactic Empire. Luke Skywalker and Han Solo\, captain of the Millennium Falcon\, work together with the companionable droid duo R2-D2 and C-3PO to rescue the beautiful princess\, help the Rebel Alliance and restore freedom and justice to the Galaxy
URL:https://tiki.town/event/movie-night-star-wars-a-new-hope-ep-iv-1977/
LOCATION:Tiki Town Resort
END:VEVENT
BEGIN:VEVENT
DTSTART;TZID=America/Los_Angeles:20230827T120000
DTEND;TZID=America/Los_Angeles:20230827T130000
DTSTAMP:20260422T044151
CREATED:20230517T234833Z
LAST-MODIFIED:20230517T234929Z
UID:10012113-1693137600-1693141200@tiki.town
SUMMARY:Ringo Robonaught Live at The Sticky Whisker
DESCRIPTION:
URL:https://tiki.town/event/ringo-robonaught-live-at-the-sticky-whisker/2023-08-27/
LOCATION:Tiki Town Resort
ATTACH;FMTTYPE=image/png:https://tiki.town/wp-content/uploads/sites/6/2023/05/Ringo-Robonaught-1.png
END:VEVENT
BEGIN:VEVENT
DTSTART;TZID=America/Los_Angeles:20230826T160000
DTEND;TZID=America/Los_Angeles:20230826T200000
DTSTAMP:20260422T044151
CREATED:20230705T163805Z
LAST-MODIFIED:20230821T232859Z
UID:10012685-1693065600-1693080000@tiki.town
SUMMARY:Summer Formal - Casino Nights Theme
DESCRIPTION:It will be Casino Royale\, the Tiki Town way! \n4pm – 6pm SLT: DJ Anak \n6pm – 8pm SLT: DJ Kyo \n  \n 
URL:https://tiki.town/event/summer-formal-casino-nights-theme/
LOCATION:Tiki Town Resort
ATTACH;FMTTYPE=image/png:https://tiki.town/wp-content/uploads/sites/6/2023/07/Casino-Royale-Dance-image.png
END:VEVENT
BEGIN:VEVENT
DTSTART;TZID=America/Los_Angeles:20230825T120000
DTEND;TZID=America/Los_Angeles:20230825T140000
DTSTAMP:20260422T044151
CREATED:20230517T030538Z
LAST-MODIFIED:20230517T231513Z
UID:10011793-1692964800-1692972000@tiki.town
SUMMARY:Mid-day Party with DJ Willow
DESCRIPTION:
URL:https://tiki.town/event/mid-day-party-with-dj-willow-2/2023-08-25/
LOCATION:Tiki Town Resort
ATTACH;FMTTYPE=image/png:https://tiki.town/wp-content/uploads/sites/6/2023/05/DJ-Willow.png
END:VEVENT
BEGIN:VEVENT
DTSTART;TZID=America/Los_Angeles:20230824T120000
DTEND;TZID=America/Los_Angeles:20230824T140000
DTSTAMP:20260422T044151
CREATED:20230517T025331Z
LAST-MODIFIED:20230517T025331Z
UID:10011364-1692878400-1692885600@tiki.town
SUMMARY:Thursday lunchdate with DJ Molly!
DESCRIPTION:
URL:https://tiki.town/event/thursday-lunchdate-with-dj-molly/2023-08-24/
LOCATION:Tiki Town Resort
ATTACH;FMTTYPE=image/png:https://tiki.town/wp-content/uploads/sites/6/2023/05/DJ-Molly_003.png
END:VEVENT
BEGIN:VEVENT
DTSTART;TZID=America/Los_Angeles:20230824T100000
DTEND;TZID=America/Los_Angeles:20230824T120000
DTSTAMP:20260422T044151
CREATED:20230517T024250Z
LAST-MODIFIED:20230517T024250Z
UID:10011298-1692871200-1692878400@tiki.town
SUMMARY:Thursday morning with DJ Kinsley!
DESCRIPTION:
URL:https://tiki.town/event/thursday-morning-with-dj-kinsley/2023-08-24/
LOCATION:Tiki Town Resort
ATTACH;FMTTYPE=image/png:https://tiki.town/wp-content/uploads/sites/6/2023/05/DJ-Kinsley.png
END:VEVENT
BEGIN:VEVENT
DTSTART;TZID=America/Los_Angeles:20230823T160000
DTEND;TZID=America/Los_Angeles:20230823T180000
DTSTAMP:20260422T044151
CREATED:20230517T022741Z
LAST-MODIFIED:20230517T022741Z
UID:10011166-1692806400-1692813600@tiki.town
SUMMARY:Wednesdays with DJ Stars!
DESCRIPTION:
URL:https://tiki.town/event/wednesdays-with-dj-stars/2023-08-23/
LOCATION:Tiki Town Resort
ATTACH;FMTTYPE=image/jpeg:https://tiki.town/wp-content/uploads/sites/6/2023/05/DJ_Stars.jpg
END:VEVENT
BEGIN:VEVENT
DTSTART;TZID=America/Los_Angeles:20230823T140000
DTEND;TZID=America/Los_Angeles:20230823T160000
DTSTAMP:20260422T044151
CREATED:20230817T165139Z
LAST-MODIFIED:20230817T165205Z
UID:10012768-1692799200-1692806400@tiki.town
SUMMARY:Wednesday Tunes with DJ Vindarin!
DESCRIPTION:
URL:https://tiki.town/event/wednesday-tunes-with-dj-vindarin/2023-08-23/
LOCATION:Tiki Town Resort
ATTACH;FMTTYPE=image/png:https://tiki.town/wp-content/uploads/sites/6/2023/08/Vindarin1.png
END:VEVENT
BEGIN:VEVENT
DTSTART;TZID=America/Los_Angeles:20230823T120000
DTEND;TZID=America/Los_Angeles:20230823T140000
DTSTAMP:20260422T044151
CREATED:20230817T164635Z
LAST-MODIFIED:20230817T164635Z
UID:10011034-1692792000-1692799200@tiki.town
SUMMARY:Wednesdays with DJ Marten!
DESCRIPTION:
URL:https://tiki.town/event/wednesdays-with-dj-marten-2/2023-08-23/
LOCATION:Tiki Town Resort
ATTACH;FMTTYPE=image/png:https://tiki.town/wp-content/uploads/sites/6/2023/05/DJ-Marten.png
END:VEVENT
BEGIN:VEVENT
DTSTART;TZID=America/Los_Angeles:20230822T180000
DTEND;TZID=America/Los_Angeles:20230822T200000
DTSTAMP:20260422T044151
CREATED:20230517T021453Z
LAST-MODIFIED:20230517T021453Z
UID:10010936-1692727200-1692734400@tiki.town
SUMMARY:Tiddy Tuesdays with DJ Boom!
DESCRIPTION:
URL:https://tiki.town/event/tiddy-tuesdays-with-dj-boom/2023-08-22/
LOCATION:Tiki Town Resort
ATTACH;FMTTYPE=image/jpeg:https://tiki.town/wp-content/uploads/sites/6/2023/05/Boomer-Profile-10_8_21.jpg
END:VEVENT
BEGIN:VEVENT
DTSTART;TZID=America/Los_Angeles:20230822T160000
DTEND;TZID=America/Los_Angeles:20230822T180000
DTSTAMP:20260422T044151
CREATED:20230517T021252Z
LAST-MODIFIED:20230714T015001Z
UID:10010870-1692720000-1692727200@tiki.town
SUMMARY:Tuesdays with DJ Hank!
DESCRIPTION:Get your ass to Tiki Town for some DJ Hank-y panky! 😀
URL:https://tiki.town/event/tuesdays-with-dj-henry/2023-08-22/
LOCATION:Tiki Town Resort
ATTACH;FMTTYPE=image/png:https://tiki.town/wp-content/uploads/sites/6/2023/05/DJ-Henry-1.png
END:VEVENT
END:VCALENDAR