BEGIN:VCALENDAR
VERSION:2.0
PRODID:-//Tiki Town - ECPv6.15.20//NONSGML v1.0//EN
CALSCALE:GREGORIAN
METHOD:PUBLISH
X-WR-CALNAME:Tiki Town
X-ORIGINAL-URL:https://tiki.town
X-WR-CALDESC:Events for Tiki Town
REFRESH-INTERVAL;VALUE=DURATION:PT1H
X-Robots-Tag:noindex
X-PUBLISHED-TTL:PT1H
BEGIN:VTIMEZONE
TZID:America/Los_Angeles
BEGIN:DAYLIGHT
TZOFFSETFROM:-0800
TZOFFSETTO:-0700
TZNAME:PDT
DTSTART:20220313T100000
END:DAYLIGHT
BEGIN:STANDARD
TZOFFSETFROM:-0700
TZOFFSETTO:-0800
TZNAME:PST
DTSTART:20221106T090000
END:STANDARD
BEGIN:DAYLIGHT
TZOFFSETFROM:-0800
TZOFFSETTO:-0700
TZNAME:PDT
DTSTART:20230312T100000
END:DAYLIGHT
BEGIN:STANDARD
TZOFFSETFROM:-0700
TZOFFSETTO:-0800
TZNAME:PST
DTSTART:20231105T090000
END:STANDARD
BEGIN:DAYLIGHT
TZOFFSETFROM:-0800
TZOFFSETTO:-0700
TZNAME:PDT
DTSTART:20240310T100000
END:DAYLIGHT
BEGIN:STANDARD
TZOFFSETFROM:-0700
TZOFFSETTO:-0800
TZNAME:PST
DTSTART:20241103T090000
END:STANDARD
END:VTIMEZONE
BEGIN:VEVENT
DTSTART;TZID=America/Los_Angeles:20230824T100000
DTEND;TZID=America/Los_Angeles:20230824T120000
DTSTAMP:20260422T074005
CREATED:20230517T024250Z
LAST-MODIFIED:20230517T024250Z
UID:10011298-1692871200-1692878400@tiki.town
SUMMARY:Thursday morning with DJ Kinsley!
DESCRIPTION:
URL:https://tiki.town/event/thursday-morning-with-dj-kinsley/2023-08-24/
LOCATION:Tiki Town Resort
ATTACH;FMTTYPE=image/png:https://tiki.town/wp-content/uploads/sites/6/2023/05/DJ-Kinsley.png
END:VEVENT
BEGIN:VEVENT
DTSTART;TZID=America/Los_Angeles:20230823T160000
DTEND;TZID=America/Los_Angeles:20230823T180000
DTSTAMP:20260422T074005
CREATED:20230517T022741Z
LAST-MODIFIED:20230517T022741Z
UID:10011166-1692806400-1692813600@tiki.town
SUMMARY:Wednesdays with DJ Stars!
DESCRIPTION:
URL:https://tiki.town/event/wednesdays-with-dj-stars/2023-08-23/
LOCATION:Tiki Town Resort
ATTACH;FMTTYPE=image/jpeg:https://tiki.town/wp-content/uploads/sites/6/2023/05/DJ_Stars.jpg
END:VEVENT
BEGIN:VEVENT
DTSTART;TZID=America/Los_Angeles:20230823T140000
DTEND;TZID=America/Los_Angeles:20230823T160000
DTSTAMP:20260422T074005
CREATED:20230817T165139Z
LAST-MODIFIED:20230817T165205Z
UID:10012768-1692799200-1692806400@tiki.town
SUMMARY:Wednesday Tunes with DJ Vindarin!
DESCRIPTION:
URL:https://tiki.town/event/wednesday-tunes-with-dj-vindarin/2023-08-23/
LOCATION:Tiki Town Resort
ATTACH;FMTTYPE=image/png:https://tiki.town/wp-content/uploads/sites/6/2023/08/Vindarin1.png
END:VEVENT
BEGIN:VEVENT
DTSTART;TZID=America/Los_Angeles:20230823T120000
DTEND;TZID=America/Los_Angeles:20230823T140000
DTSTAMP:20260422T074005
CREATED:20230817T164635Z
LAST-MODIFIED:20230817T164635Z
UID:10011034-1692792000-1692799200@tiki.town
SUMMARY:Wednesdays with DJ Marten!
DESCRIPTION:
URL:https://tiki.town/event/wednesdays-with-dj-marten-2/2023-08-23/
LOCATION:Tiki Town Resort
ATTACH;FMTTYPE=image/png:https://tiki.town/wp-content/uploads/sites/6/2023/05/DJ-Marten.png
END:VEVENT
BEGIN:VEVENT
DTSTART;TZID=America/Los_Angeles:20230822T180000
DTEND;TZID=America/Los_Angeles:20230822T200000
DTSTAMP:20260422T074005
CREATED:20230517T021453Z
LAST-MODIFIED:20230517T021453Z
UID:10010936-1692727200-1692734400@tiki.town
SUMMARY:Tiddy Tuesdays with DJ Boom!
DESCRIPTION:
URL:https://tiki.town/event/tiddy-tuesdays-with-dj-boom/2023-08-22/
LOCATION:Tiki Town Resort
ATTACH;FMTTYPE=image/jpeg:https://tiki.town/wp-content/uploads/sites/6/2023/05/Boomer-Profile-10_8_21.jpg
END:VEVENT
BEGIN:VEVENT
DTSTART;TZID=America/Los_Angeles:20230822T160000
DTEND;TZID=America/Los_Angeles:20230822T180000
DTSTAMP:20260422T074005
CREATED:20230517T021252Z
LAST-MODIFIED:20230714T015001Z
UID:10010870-1692720000-1692727200@tiki.town
SUMMARY:Tuesdays with DJ Hank!
DESCRIPTION:Get your ass to Tiki Town for some DJ Hank-y panky! 😀
URL:https://tiki.town/event/tuesdays-with-dj-henry/2023-08-22/
LOCATION:Tiki Town Resort
ATTACH;FMTTYPE=image/png:https://tiki.town/wp-content/uploads/sites/6/2023/05/DJ-Henry-1.png
END:VEVENT
BEGIN:VEVENT
DTSTART;TZID=America/Los_Angeles:20230822T140000
DTEND;TZID=America/Los_Angeles:20230822T160000
DTSTAMP:20260422T074005
CREATED:20230517T015632Z
LAST-MODIFIED:20230517T020606Z
UID:10010804-1692712800-1692720000@tiki.town
SUMMARY:Tuesdays with DJ Anak!
DESCRIPTION:
URL:https://tiki.town/event/tuesdays-with-dj-anak/2023-08-22/
LOCATION:Tiki Town Resort
ATTACH;FMTTYPE=image/png:https://tiki.town/wp-content/uploads/sites/6/2023/05/DJ-Anak-1.png
END:VEVENT
BEGIN:VEVENT
DTSTART;TZID=America/Los_Angeles:20230822T120000
DTEND;TZID=America/Los_Angeles:20230822T140000
DTSTAMP:20260422T074005
CREATED:20230517T015104Z
LAST-MODIFIED:20230517T020443Z
UID:10010738-1692705600-1692712800@tiki.town
SUMMARY:Tuesday Lunch Party with DJ Ana Lisa!
DESCRIPTION:
URL:https://tiki.town/event/tuesday-lunch-party-with-dj-ana-lisa/2023-08-22/
LOCATION:Tiki Town Resort
ATTACH;FMTTYPE=image/png:https://tiki.town/wp-content/uploads/sites/6/2023/05/DJ-Ana-Lisa.png
END:VEVENT
BEGIN:VEVENT
DTSTART;TZID=America/Los_Angeles:20230821T160000
DTEND;TZID=America/Los_Angeles:20230821T180000
DTSTAMP:20260422T074005
CREATED:20230518T005638Z
LAST-MODIFIED:20230518T005638Z
UID:10012657-1692633600-1692640800@tiki.town
SUMMARY:DJ Kyo Presents Hits of the 90's and 00's
DESCRIPTION:
URL:https://tiki.town/event/dj-kyo-presents-hits-of-the-90s-and-00s/2023-08-21/
LOCATION:Tiki Town Resort
END:VEVENT
BEGIN:VEVENT
DTSTART;TZID=America/Los_Angeles:20230821T100000
DTEND;TZID=America/Los_Angeles:20230821T120000
DTSTAMP:20260422T074005
CREATED:20230518T003048Z
LAST-MODIFIED:20230518T004650Z
UID:10012380-1692612000-1692619200@tiki.town
SUMMARY:Mondays with DJ Kinsley
DESCRIPTION:
URL:https://tiki.town/event/mondays-with-dj-kinsley/2023-08-21/
LOCATION:Tiki Town Resort
ATTACH;FMTTYPE=image/png:https://tiki.town/wp-content/uploads/sites/6/2023/05/DJ-Kinsley.png
END:VEVENT
BEGIN:VEVENT
DTSTART;TZID=America/Los_Angeles:20230820T170000
DTEND;TZID=America/Los_Angeles:20230820T200000
DTSTAMP:20260422T074005
CREATED:20230626T171821Z
LAST-MODIFIED:20230626T171821Z
UID:10012680-1692550800-1692561600@tiki.town
SUMMARY:Movie Night: Gimme Shelter (1970)
DESCRIPTION:A documentary on the Rolling Stones’ 1969 US tour and the tragic events that concluded it. We see footage of their concerts and of them making the Sticky Fingers album in Muscle Shoals\, Alabama. However\, the main focus of the film is on one concert – Altamont Speedway\, outside San Francisco\, 6 December 1969. A free concert\, it is the Stones’ idea and it was meant to be the Woodstock of the West (Woodstock having occurred four months earlier). Other bands performing included Jefferson Airplane\, The Flying Burrito Brothers\, Ike and Tina Turner\, Crosby Stills Nash and Young and Santana. However\, it is far from being the peace and love of Woodstock. Part of the problem is that the Stones hired the Hells Angels as security. The other problem was that a large portion of the crowd were high on drugs. Friction ensues. During the Stones’ set\, Meredith Hunter\, high on methamphetamine and armed with a gun\, makes a lunge for the stage and is stabbed to death by the Hells Angels. The peace and love era of the 60s was over.
URL:https://tiki.town/event/movie-night-gimme-shelter-1970/
LOCATION:Tiki Town Resort
END:VEVENT
BEGIN:VEVENT
DTSTART;TZID=America/Los_Angeles:20230820T120000
DTEND;TZID=America/Los_Angeles:20230820T130000
DTSTAMP:20260422T074005
CREATED:20230517T234833Z
LAST-MODIFIED:20230517T234929Z
UID:10012112-1692532800-1692536400@tiki.town
SUMMARY:Ringo Robonaught Live at The Sticky Whisker
DESCRIPTION:
URL:https://tiki.town/event/ringo-robonaught-live-at-the-sticky-whisker/2023-08-20/
LOCATION:Tiki Town Resort
ATTACH;FMTTYPE=image/png:https://tiki.town/wp-content/uploads/sites/6/2023/05/Ringo-Robonaught-1.png
END:VEVENT
BEGIN:VEVENT
DTSTART;TZID=America/Los_Angeles:20230819T100000
DTEND;TZID=America/Los_Angeles:20230819T200000
DTSTAMP:20260422T074005
CREATED:20230816T011725Z
LAST-MODIFIED:20230819T003254Z
UID:10012728-1692439200-1692475200@tiki.town
SUMMARY:Saturday Sex Party @ the Pirate's Cove
DESCRIPTION:We’re setting sail for some fresh booty and we’re gonna swab the main mast and blow the deck… or something like that. Anyway\, you know it’s gonna be another fun\, sexy Tiki Town party! The party starts at 10am SLT and doesn’t end until at least 8pm SLT. \n10am – 12: TBA \n12 – 2pm: DJ Bunny \n2pm – 4pm: DJ Anak \n4pm – 6pm: DJ  Stars \n6pm – 8pm: DJ Skeeve
URL:https://tiki.town/event/saturday-sex-party-the-pirates-cove/
LOCATION:Tiki Town Resort
ATTACH;FMTTYPE=image/jpeg:https://tiki.town/wp-content/uploads/sites/6/2023/05/Tiki-Town-SSP.jpg
END:VEVENT
BEGIN:VEVENT
DTSTART;TZID=America/Los_Angeles:20230818T120000
DTEND;TZID=America/Los_Angeles:20230818T140000
DTSTAMP:20260422T074005
CREATED:20230517T030538Z
LAST-MODIFIED:20230517T231513Z
UID:10011792-1692360000-1692367200@tiki.town
SUMMARY:Mid-day Party with DJ Willow
DESCRIPTION:
URL:https://tiki.town/event/mid-day-party-with-dj-willow-2/2023-08-18/
LOCATION:Tiki Town Resort
ATTACH;FMTTYPE=image/png:https://tiki.town/wp-content/uploads/sites/6/2023/05/DJ-Willow.png
END:VEVENT
BEGIN:VEVENT
DTSTART;TZID=America/Los_Angeles:20230817T120000
DTEND;TZID=America/Los_Angeles:20230817T140000
DTSTAMP:20260422T074005
CREATED:20230517T025331Z
LAST-MODIFIED:20230517T025331Z
UID:10011363-1692273600-1692280800@tiki.town
SUMMARY:Thursday lunchdate with DJ Molly!
DESCRIPTION:
URL:https://tiki.town/event/thursday-lunchdate-with-dj-molly/2023-08-17/
LOCATION:Tiki Town Resort
ATTACH;FMTTYPE=image/png:https://tiki.town/wp-content/uploads/sites/6/2023/05/DJ-Molly_003.png
END:VEVENT
BEGIN:VEVENT
DTSTART;TZID=America/Los_Angeles:20230817T100000
DTEND;TZID=America/Los_Angeles:20230817T120000
DTSTAMP:20260422T074005
CREATED:20230517T024250Z
LAST-MODIFIED:20230517T024250Z
UID:10011297-1692266400-1692273600@tiki.town
SUMMARY:Thursday morning with DJ Kinsley!
DESCRIPTION:
URL:https://tiki.town/event/thursday-morning-with-dj-kinsley/2023-08-17/
LOCATION:Tiki Town Resort
ATTACH;FMTTYPE=image/png:https://tiki.town/wp-content/uploads/sites/6/2023/05/DJ-Kinsley.png
END:VEVENT
BEGIN:VEVENT
DTSTART;TZID=America/Los_Angeles:20230816T160000
DTEND;TZID=America/Los_Angeles:20230816T180000
DTSTAMP:20260422T074005
CREATED:20230517T022741Z
LAST-MODIFIED:20230517T022741Z
UID:10011165-1692201600-1692208800@tiki.town
SUMMARY:Wednesdays with DJ Stars!
DESCRIPTION:
URL:https://tiki.town/event/wednesdays-with-dj-stars/2023-08-16/
LOCATION:Tiki Town Resort
ATTACH;FMTTYPE=image/jpeg:https://tiki.town/wp-content/uploads/sites/6/2023/05/DJ_Stars.jpg
END:VEVENT
BEGIN:VEVENT
DTSTART;TZID=America/Los_Angeles:20230815T180000
DTEND;TZID=America/Los_Angeles:20230815T200000
DTSTAMP:20260422T074005
CREATED:20230517T021453Z
LAST-MODIFIED:20230517T021453Z
UID:10010935-1692122400-1692129600@tiki.town
SUMMARY:Tiddy Tuesdays with DJ Boom!
DESCRIPTION:
URL:https://tiki.town/event/tiddy-tuesdays-with-dj-boom/2023-08-15/
LOCATION:Tiki Town Resort
ATTACH;FMTTYPE=image/jpeg:https://tiki.town/wp-content/uploads/sites/6/2023/05/Boomer-Profile-10_8_21.jpg
END:VEVENT
BEGIN:VEVENT
DTSTART;TZID=America/Los_Angeles:20230815T160000
DTEND;TZID=America/Los_Angeles:20230815T180000
DTSTAMP:20260422T074005
CREATED:20230517T021252Z
LAST-MODIFIED:20230714T015001Z
UID:10010869-1692115200-1692122400@tiki.town
SUMMARY:Tuesdays with DJ Hank!
DESCRIPTION:Get your ass to Tiki Town for some DJ Hank-y panky! 😀
URL:https://tiki.town/event/tuesdays-with-dj-henry/2023-08-15/
LOCATION:Tiki Town Resort
ATTACH;FMTTYPE=image/png:https://tiki.town/wp-content/uploads/sites/6/2023/05/DJ-Henry-1.png
END:VEVENT
BEGIN:VEVENT
DTSTART;TZID=America/Los_Angeles:20230815T140000
DTEND;TZID=America/Los_Angeles:20230815T160000
DTSTAMP:20260422T074005
CREATED:20230517T015632Z
LAST-MODIFIED:20230517T020606Z
UID:10010803-1692108000-1692115200@tiki.town
SUMMARY:Tuesdays with DJ Anak!
DESCRIPTION:
URL:https://tiki.town/event/tuesdays-with-dj-anak/2023-08-15/
LOCATION:Tiki Town Resort
ATTACH;FMTTYPE=image/png:https://tiki.town/wp-content/uploads/sites/6/2023/05/DJ-Anak-1.png
END:VEVENT
BEGIN:VEVENT
DTSTART;TZID=America/Los_Angeles:20230815T120000
DTEND;TZID=America/Los_Angeles:20230815T140000
DTSTAMP:20260422T074005
CREATED:20230517T015104Z
LAST-MODIFIED:20230517T020443Z
UID:10010737-1692100800-1692108000@tiki.town
SUMMARY:Tuesday Lunch Party with DJ Ana Lisa!
DESCRIPTION:
URL:https://tiki.town/event/tuesday-lunch-party-with-dj-ana-lisa/2023-08-15/
LOCATION:Tiki Town Resort
ATTACH;FMTTYPE=image/png:https://tiki.town/wp-content/uploads/sites/6/2023/05/DJ-Ana-Lisa.png
END:VEVENT
BEGIN:VEVENT
DTSTART;TZID=America/Los_Angeles:20230814T160000
DTEND;TZID=America/Los_Angeles:20230814T180000
DTSTAMP:20260422T074005
CREATED:20230518T005603Z
LAST-MODIFIED:20230710T152349Z
UID:10012643-1692028800-1692036000@tiki.town
SUMMARY:DJ Kyo Presents Movie Tune Trivia Night 4-6PM
DESCRIPTION:Come test your movie song trivia knowledge\, and maybe even make a lil lindens. \nAt least 75L awarded out per song\, 25L each for whomever first names the Song Title\, Artist\, and Movie Title. There may even be some extra credit awards.
URL:https://tiki.town/event/dj-kyo-presents-hits-of-the-70s-and-80s/2023-08-14/
LOCATION:Tiki Town Resort
END:VEVENT
BEGIN:VEVENT
DTSTART;TZID=America/Los_Angeles:20230814T100000
DTEND;TZID=America/Los_Angeles:20230814T120000
DTSTAMP:20260422T074005
CREATED:20230518T003048Z
LAST-MODIFIED:20230518T004650Z
UID:10012379-1692007200-1692014400@tiki.town
SUMMARY:Mondays with DJ Kinsley
DESCRIPTION:
URL:https://tiki.town/event/mondays-with-dj-kinsley/2023-08-14/
LOCATION:Tiki Town Resort
ATTACH;FMTTYPE=image/png:https://tiki.town/wp-content/uploads/sites/6/2023/05/DJ-Kinsley.png
END:VEVENT
BEGIN:VEVENT
DTSTART;TZID=America/Los_Angeles:20230813T170000
DTEND;TZID=America/Los_Angeles:20230813T200000
DTSTAMP:20260422T074005
CREATED:20230626T171403Z
LAST-MODIFIED:20230626T171403Z
UID:10012679-1691946000-1691956800@tiki.town
SUMMARY:Movie Night: Goodfellas (1990)
DESCRIPTION:Henry Hill might be a small time gangster\, who may have taken part in a robbery with Jimmy Conway and Tommy De Vito\, two other gangsters who might have set their sights a bit higher. His two partners could kill off everyone else involved in the robbery\, and slowly start to think about climbing up through the hierarchy of the Mob. Henry\, however\, might be badly affected by his partners’ success\, but will he consider stooping low enough to bring about the downfall of Jimmy and Tommy?
URL:https://tiki.town/event/movie-night-goodfellas-1990/
LOCATION:Tiki Town Resort
END:VEVENT
BEGIN:VEVENT
DTSTART;TZID=America/Los_Angeles:20230813T120000
DTEND;TZID=America/Los_Angeles:20230813T130000
DTSTAMP:20260422T074005
CREATED:20230517T234833Z
LAST-MODIFIED:20230517T234929Z
UID:10012111-1691928000-1691931600@tiki.town
SUMMARY:Ringo Robonaught Live at The Sticky Whisker
DESCRIPTION:
URL:https://tiki.town/event/ringo-robonaught-live-at-the-sticky-whisker/2023-08-13/
LOCATION:Tiki Town Resort
ATTACH;FMTTYPE=image/png:https://tiki.town/wp-content/uploads/sites/6/2023/05/Ringo-Robonaught-1.png
END:VEVENT
BEGIN:VEVENT
DTSTART;TZID=America/Los_Angeles:20230813T100000
DTEND;TZID=America/Los_Angeles:20230813T120000
DTSTAMP:20260422T074005
CREATED:20230517T234333Z
LAST-MODIFIED:20230517T234333Z
UID:10012045-1691920800-1691928000@tiki.town
SUMMARY:DJ Tiboo doing some Sunday Tunes!
DESCRIPTION:
URL:https://tiki.town/event/dj-tiboo-doing-some-sunday-tunes/2023-08-13/
LOCATION:Tiki Town Resort
ATTACH;FMTTYPE=image/png:https://tiki.town/wp-content/uploads/sites/6/2023/05/DJ-Tiboo.png
END:VEVENT
BEGIN:VEVENT
DTSTART;TZID=America/Los_Angeles:20230812T120000
DTEND;TZID=America/Los_Angeles:20230812T160000
DTSTAMP:20260422T074005
CREATED:20230705T162247Z
LAST-MODIFIED:20230809T031538Z
UID:10012683-1691841600-1691856000@tiki.town
SUMMARY:Saturday House Party at Apple's place!!
DESCRIPTION:Apple is having us over for some fun at her home at Tiki Town! This will be her very first time hosting a house party! \n12pm – 2pm: DJ Saint \n2pm – 4pm: DJ Anak \n 
URL:https://tiki.town/event/saturday-house-party-at-apples-place/
LOCATION:Tiki Town Resort
END:VEVENT
BEGIN:VEVENT
DTSTART;TZID=America/Los_Angeles:20230811T120000
DTEND;TZID=America/Los_Angeles:20230811T140000
DTSTAMP:20260422T074005
CREATED:20230517T030538Z
LAST-MODIFIED:20230517T231513Z
UID:10011791-1691755200-1691762400@tiki.town
SUMMARY:Mid-day Party with DJ Willow
DESCRIPTION:
URL:https://tiki.town/event/mid-day-party-with-dj-willow-2/2023-08-11/
LOCATION:Tiki Town Resort
ATTACH;FMTTYPE=image/png:https://tiki.town/wp-content/uploads/sites/6/2023/05/DJ-Willow.png
END:VEVENT
BEGIN:VEVENT
DTSTART;TZID=America/Los_Angeles:20230811T100000
DTEND;TZID=America/Los_Angeles:20230811T120000
DTSTAMP:20260422T074005
CREATED:20230517T031105Z
LAST-MODIFIED:20230517T031105Z
UID:10011692-1691748000-1691755200@tiki.town
SUMMARY:Fridays with with DJ Tiboo!
DESCRIPTION:
URL:https://tiki.town/event/fridays-with-with-dj-tiboo/2023-08-11/
LOCATION:Tiki Town Resort
ATTACH;FMTTYPE=image/png:https://tiki.town/wp-content/uploads/sites/6/2023/05/DJ-Tiboo.png
END:VEVENT
BEGIN:VEVENT
DTSTART;TZID=America/Los_Angeles:20230810T120000
DTEND;TZID=America/Los_Angeles:20230810T140000
DTSTAMP:20260422T074005
CREATED:20230517T025331Z
LAST-MODIFIED:20230517T025331Z
UID:10011362-1691668800-1691676000@tiki.town
SUMMARY:Thursday lunchdate with DJ Molly!
DESCRIPTION:
URL:https://tiki.town/event/thursday-lunchdate-with-dj-molly/2023-08-10/
LOCATION:Tiki Town Resort
ATTACH;FMTTYPE=image/png:https://tiki.town/wp-content/uploads/sites/6/2023/05/DJ-Molly_003.png
END:VEVENT
END:VCALENDAR