BEGIN:VCALENDAR
VERSION:2.0
PRODID:-//Tiki Town - ECPv6.15.20//NONSGML v1.0//EN
CALSCALE:GREGORIAN
METHOD:PUBLISH
X-WR-CALNAME:Tiki Town
X-ORIGINAL-URL:https://tiki.town
X-WR-CALDESC:Events for Tiki Town
REFRESH-INTERVAL;VALUE=DURATION:PT1H
X-Robots-Tag:noindex
X-PUBLISHED-TTL:PT1H
BEGIN:VTIMEZONE
TZID:America/Los_Angeles
BEGIN:DAYLIGHT
TZOFFSETFROM:-0800
TZOFFSETTO:-0700
TZNAME:PDT
DTSTART:20220313T100000
END:DAYLIGHT
BEGIN:STANDARD
TZOFFSETFROM:-0700
TZOFFSETTO:-0800
TZNAME:PST
DTSTART:20221106T090000
END:STANDARD
BEGIN:DAYLIGHT
TZOFFSETFROM:-0800
TZOFFSETTO:-0700
TZNAME:PDT
DTSTART:20230312T100000
END:DAYLIGHT
BEGIN:STANDARD
TZOFFSETFROM:-0700
TZOFFSETTO:-0800
TZNAME:PST
DTSTART:20231105T090000
END:STANDARD
BEGIN:DAYLIGHT
TZOFFSETFROM:-0800
TZOFFSETTO:-0700
TZNAME:PDT
DTSTART:20240310T100000
END:DAYLIGHT
BEGIN:STANDARD
TZOFFSETFROM:-0700
TZOFFSETTO:-0800
TZNAME:PST
DTSTART:20241103T090000
END:STANDARD
END:VTIMEZONE
BEGIN:VEVENT
DTSTART;TZID=America/Los_Angeles:20230808T120000
DTEND;TZID=America/Los_Angeles:20230808T140000
DTSTAMP:20260422T122428
CREATED:20230517T015104Z
LAST-MODIFIED:20230517T020443Z
UID:10010736-1691496000-1691503200@tiki.town
SUMMARY:Tuesday Lunch Party with DJ Ana Lisa!
DESCRIPTION:
URL:https://tiki.town/event/tuesday-lunch-party-with-dj-ana-lisa/2023-08-08/
LOCATION:Tiki Town Resort
ATTACH;FMTTYPE=image/png:https://tiki.town/wp-content/uploads/sites/6/2023/05/DJ-Ana-Lisa.png
END:VEVENT
BEGIN:VEVENT
DTSTART;TZID=America/Los_Angeles:20230807T160000
DTEND;TZID=America/Los_Angeles:20230807T180000
DTSTAMP:20260422T122428
CREATED:20230518T005527Z
LAST-MODIFIED:20230605T182819Z
UID:10012629-1691424000-1691431200@tiki.town
SUMMARY:DJ Kyo Presents Movie Tune Trivia Night
DESCRIPTION:Come on in and test out your movie tune trivia knowledge! \nAwards (L$25) given for up to three things : \n1. Artist \n2. Title of song \n3. If Song and movie do not have the same name\, the movie name.
URL:https://tiki.town/event/dj-kyo-presents-hits-of-the-50s-and-60s/2023-08-07/
LOCATION:Tiki Town Resort
END:VEVENT
BEGIN:VEVENT
DTSTART;TZID=America/Los_Angeles:20230807T120000
DTEND;TZID=America/Los_Angeles:20230807T140000
DTSTAMP:20260422T122428
CREATED:20230518T003259Z
LAST-MODIFIED:20230518T003259Z
UID:10012442-1691409600-1691416800@tiki.town
SUMMARY:DJ Tiboo's Monday Musical Moments
DESCRIPTION:
URL:https://tiki.town/event/dj-tiboos-monday-musical-moments/2023-08-07/
LOCATION:Tiki Town Resort
ATTACH;FMTTYPE=image/png:https://tiki.town/wp-content/uploads/sites/6/2023/05/DJ-Tiboo.png
END:VEVENT
BEGIN:VEVENT
DTSTART;TZID=America/Los_Angeles:20230807T100000
DTEND;TZID=America/Los_Angeles:20230807T120000
DTSTAMP:20260422T122428
CREATED:20230518T003048Z
LAST-MODIFIED:20230518T004650Z
UID:10012378-1691402400-1691409600@tiki.town
SUMMARY:Mondays with DJ Kinsley
DESCRIPTION:
URL:https://tiki.town/event/mondays-with-dj-kinsley/2023-08-07/
LOCATION:Tiki Town Resort
ATTACH;FMTTYPE=image/png:https://tiki.town/wp-content/uploads/sites/6/2023/05/DJ-Kinsley.png
END:VEVENT
BEGIN:VEVENT
DTSTART;TZID=America/Los_Angeles:20230806T170000
DTEND;TZID=America/Los_Angeles:20230806T200000
DTSTAMP:20260422T122428
CREATED:20230626T171003Z
LAST-MODIFIED:20230626T171003Z
UID:10012678-1691341200-1691352000@tiki.town
SUMMARY:Movie Night: Blazing Saddles (1974)
DESCRIPTION:The Ultimate Western Spoof. A town where everyone seems to be named Johnson is in the way of the railroad. In order to grab their land\, Hedley Lemar (Harvey Korman)\, a politically connected nasty person\, sends in his henchmen to make the town unlivable. After the sheriff is killed\, the town demands a new sheriff from the Governor (Mel Brooks). Hedley convinces him to send the town the first Black sheriff (Cleavon Little) in the west. Bart is a sophisticated urbanite who will have some difficulty winning over the townspeople
URL:https://tiki.town/event/movie-night-blazing-saddles-1974/
LOCATION:Tiki Town Resort
END:VEVENT
BEGIN:VEVENT
DTSTART;TZID=America/Los_Angeles:20230806T120000
DTEND;TZID=America/Los_Angeles:20230806T130000
DTSTAMP:20260422T122428
CREATED:20230517T234833Z
LAST-MODIFIED:20230517T234929Z
UID:10012110-1691323200-1691326800@tiki.town
SUMMARY:Ringo Robonaught Live at The Sticky Whisker
DESCRIPTION:
URL:https://tiki.town/event/ringo-robonaught-live-at-the-sticky-whisker/2023-08-06/
LOCATION:Tiki Town Resort
ATTACH;FMTTYPE=image/png:https://tiki.town/wp-content/uploads/sites/6/2023/05/Ringo-Robonaught-1.png
END:VEVENT
BEGIN:VEVENT
DTSTART;TZID=America/Los_Angeles:20230806T100000
DTEND;TZID=America/Los_Angeles:20230806T120000
DTSTAMP:20260422T122428
CREATED:20230517T234333Z
LAST-MODIFIED:20230517T234333Z
UID:10012044-1691316000-1691323200@tiki.town
SUMMARY:DJ Tiboo doing some Sunday Tunes!
DESCRIPTION:
URL:https://tiki.town/event/dj-tiboo-doing-some-sunday-tunes/2023-08-06/
LOCATION:Tiki Town Resort
ATTACH;FMTTYPE=image/png:https://tiki.town/wp-content/uploads/sites/6/2023/05/DJ-Tiboo.png
END:VEVENT
BEGIN:VEVENT
DTSTART;TZID=America/Los_Angeles:20230805T100000
DTEND;TZID=America/Los_Angeles:20230805T200000
DTSTAMP:20260422T122428
CREATED:20230705T162742Z
LAST-MODIFIED:20230804T011637Z
UID:10012684-1691229600-1691265600@tiki.town
SUMMARY:Saturday Sex Party at the East Lagoon
DESCRIPTION:We’ll be wading over to the East Lagoon for this week’s party! Bring your swimsuit\, floaties\, snorkel\, and suntan oil! \n10 AM – 12 Noon: DJ Hot Hot Hank\n12 Noon – 2 PM: DJ Sizzlin’ Saint\n2 PM – 4 PM: DJ Blazin’ Boom\n4 PM – 6 PM: DJ Alluring Alessia\n6 PM – 8 PM: DJ Nawty Nyte \n  \n 
URL:https://tiki.town/event/saturday-sex-party-the-nw-pirate-fort-in-tiki-town/
LOCATION:Tiki Town Resort
ATTACH;FMTTYPE=image/jpeg:https://tiki.town/wp-content/uploads/sites/6/2023/05/Tiki-Town-SSP.jpg
END:VEVENT
BEGIN:VEVENT
DTSTART;TZID=America/Los_Angeles:20230804T120000
DTEND;TZID=America/Los_Angeles:20230804T140000
DTSTAMP:20260422T122428
CREATED:20230517T030538Z
LAST-MODIFIED:20230517T231513Z
UID:10011790-1691150400-1691157600@tiki.town
SUMMARY:Mid-day Party with DJ Willow
DESCRIPTION:
URL:https://tiki.town/event/mid-day-party-with-dj-willow-2/2023-08-04/
LOCATION:Tiki Town Resort
ATTACH;FMTTYPE=image/png:https://tiki.town/wp-content/uploads/sites/6/2023/05/DJ-Willow.png
END:VEVENT
BEGIN:VEVENT
DTSTART;TZID=America/Los_Angeles:20230804T100000
DTEND;TZID=America/Los_Angeles:20230804T120000
DTSTAMP:20260422T122428
CREATED:20230517T031105Z
LAST-MODIFIED:20230517T031105Z
UID:10011691-1691143200-1691150400@tiki.town
SUMMARY:Fridays with with DJ Tiboo!
DESCRIPTION:
URL:https://tiki.town/event/fridays-with-with-dj-tiboo/2023-08-04/
LOCATION:Tiki Town Resort
ATTACH;FMTTYPE=image/png:https://tiki.town/wp-content/uploads/sites/6/2023/05/DJ-Tiboo.png
END:VEVENT
BEGIN:VEVENT
DTSTART;TZID=America/Los_Angeles:20230803T120000
DTEND;TZID=America/Los_Angeles:20230803T140000
DTSTAMP:20260422T122428
CREATED:20230517T025331Z
LAST-MODIFIED:20230517T025331Z
UID:10011361-1691064000-1691071200@tiki.town
SUMMARY:Thursday lunchdate with DJ Molly!
DESCRIPTION:
URL:https://tiki.town/event/thursday-lunchdate-with-dj-molly/2023-08-03/
LOCATION:Tiki Town Resort
ATTACH;FMTTYPE=image/png:https://tiki.town/wp-content/uploads/sites/6/2023/05/DJ-Molly_003.png
END:VEVENT
BEGIN:VEVENT
DTSTART;TZID=America/Los_Angeles:20230803T100000
DTEND;TZID=America/Los_Angeles:20230803T120000
DTSTAMP:20260422T122428
CREATED:20230517T024250Z
LAST-MODIFIED:20230517T024250Z
UID:10011295-1691056800-1691064000@tiki.town
SUMMARY:Thursday morning with DJ Kinsley!
DESCRIPTION:
URL:https://tiki.town/event/thursday-morning-with-dj-kinsley/2023-08-03/
LOCATION:Tiki Town Resort
ATTACH;FMTTYPE=image/png:https://tiki.town/wp-content/uploads/sites/6/2023/05/DJ-Kinsley.png
END:VEVENT
BEGIN:VEVENT
DTSTART;TZID=America/Los_Angeles:20230802T160000
DTEND;TZID=America/Los_Angeles:20230802T180000
DTSTAMP:20260422T122428
CREATED:20230517T022741Z
LAST-MODIFIED:20230517T022741Z
UID:10011163-1690992000-1690999200@tiki.town
SUMMARY:Wednesdays with DJ Stars!
DESCRIPTION:
URL:https://tiki.town/event/wednesdays-with-dj-stars/2023-08-02/
LOCATION:Tiki Town Resort
ATTACH;FMTTYPE=image/jpeg:https://tiki.town/wp-content/uploads/sites/6/2023/05/DJ_Stars.jpg
END:VEVENT
BEGIN:VEVENT
DTSTART;TZID=America/Los_Angeles:20230801T180000
DTEND;TZID=America/Los_Angeles:20230801T200000
DTSTAMP:20260422T122428
CREATED:20230517T021453Z
LAST-MODIFIED:20230517T021453Z
UID:10010933-1690912800-1690920000@tiki.town
SUMMARY:Tiddy Tuesdays with DJ Boom!
DESCRIPTION:
URL:https://tiki.town/event/tiddy-tuesdays-with-dj-boom/2023-08-01/
LOCATION:Tiki Town Resort
ATTACH;FMTTYPE=image/jpeg:https://tiki.town/wp-content/uploads/sites/6/2023/05/Boomer-Profile-10_8_21.jpg
END:VEVENT
BEGIN:VEVENT
DTSTART;TZID=America/Los_Angeles:20230801T160000
DTEND;TZID=America/Los_Angeles:20230801T180000
DTSTAMP:20260422T122428
CREATED:20230517T021252Z
LAST-MODIFIED:20230714T015001Z
UID:10010867-1690905600-1690912800@tiki.town
SUMMARY:Tuesdays with DJ Hank!
DESCRIPTION:Get your ass to Tiki Town for some DJ Hank-y panky! 😀
URL:https://tiki.town/event/tuesdays-with-dj-henry/2023-08-01/
LOCATION:Tiki Town Resort
ATTACH;FMTTYPE=image/png:https://tiki.town/wp-content/uploads/sites/6/2023/05/DJ-Henry-1.png
END:VEVENT
BEGIN:VEVENT
DTSTART;TZID=America/Los_Angeles:20230801T140000
DTEND;TZID=America/Los_Angeles:20230801T160000
DTSTAMP:20260422T122429
CREATED:20230517T015632Z
LAST-MODIFIED:20230517T020606Z
UID:10010801-1690898400-1690905600@tiki.town
SUMMARY:Tuesdays with DJ Anak!
DESCRIPTION:
URL:https://tiki.town/event/tuesdays-with-dj-anak/2023-08-01/
LOCATION:Tiki Town Resort
ATTACH;FMTTYPE=image/png:https://tiki.town/wp-content/uploads/sites/6/2023/05/DJ-Anak-1.png
END:VEVENT
BEGIN:VEVENT
DTSTART;TZID=America/Los_Angeles:20230801T120000
DTEND;TZID=America/Los_Angeles:20230801T140000
DTSTAMP:20260422T122429
CREATED:20230517T015104Z
LAST-MODIFIED:20230517T020443Z
UID:10010735-1690891200-1690898400@tiki.town
SUMMARY:Tuesday Lunch Party with DJ Ana Lisa!
DESCRIPTION:
URL:https://tiki.town/event/tuesday-lunch-party-with-dj-ana-lisa/2023-08-01/
LOCATION:Tiki Town Resort
ATTACH;FMTTYPE=image/png:https://tiki.town/wp-content/uploads/sites/6/2023/05/DJ-Ana-Lisa.png
END:VEVENT
BEGIN:VEVENT
DTSTART;TZID=America/Los_Angeles:20230731T120000
DTEND;TZID=America/Los_Angeles:20230731T140000
DTSTAMP:20260422T122429
CREATED:20230518T003259Z
LAST-MODIFIED:20230518T003259Z
UID:10012441-1690804800-1690812000@tiki.town
SUMMARY:DJ Tiboo's Monday Musical Moments
DESCRIPTION:
URL:https://tiki.town/event/dj-tiboos-monday-musical-moments/2023-07-31/
LOCATION:Tiki Town Resort
ATTACH;FMTTYPE=image/png:https://tiki.town/wp-content/uploads/sites/6/2023/05/DJ-Tiboo.png
END:VEVENT
BEGIN:VEVENT
DTSTART;TZID=America/Los_Angeles:20230731T100000
DTEND;TZID=America/Los_Angeles:20230731T120000
DTSTAMP:20260422T122429
CREATED:20230518T003048Z
LAST-MODIFIED:20230518T004650Z
UID:10012377-1690797600-1690804800@tiki.town
SUMMARY:Mondays with DJ Kinsley
DESCRIPTION:
URL:https://tiki.town/event/mondays-with-dj-kinsley/2023-07-31/
LOCATION:Tiki Town Resort
ATTACH;FMTTYPE=image/png:https://tiki.town/wp-content/uploads/sites/6/2023/05/DJ-Kinsley.png
END:VEVENT
BEGIN:VEVENT
DTSTART;TZID=America/Los_Angeles:20230730T170000
DTEND;TZID=America/Los_Angeles:20230730T200000
DTSTAMP:20260422T122429
CREATED:20230626T161612Z
LAST-MODIFIED:20230626T161612Z
UID:10012677-1690736400-1690747200@tiki.town
SUMMARY:Movie Night: The Matrix Resurrections (2021)
DESCRIPTION:Suffering from palpable delusions\, burnt-out Thomas Anderson\, the award-winning creator of The Matrix (1999) video game series\, now relies on potent blue pills to keep his inner demons at bay. Then\, amid inexplicable\, reality-defying visions\, Thomas spots Tiffany\, a familiar-looking perfect stranger evoking strange emotions\, and his already fragile mental state starts to deteriorate. As Mr Anderson yearns for an explanation while teetering on the brink of depression\, once more\, he confronts a pressing dilemma and the burden of choice. On the one hand\, blissful ignorance guarantees the illusion of safety. On the other hand\, the unbearable truth of reality can only mean one thing: the elaborate Matrix goes beyond the limits of imagination. But\, somehow\, Thomas already knows what he has to do. However\, does he want to know how deep the rabbit hole goes?
URL:https://tiki.town/event/movie-night-the-matrix-resurrections-2021/
LOCATION:Tiki Town Resort
END:VEVENT
BEGIN:VEVENT
DTSTART;TZID=America/Los_Angeles:20230730T120000
DTEND;TZID=America/Los_Angeles:20230730T130000
DTSTAMP:20260422T122429
CREATED:20230517T234833Z
LAST-MODIFIED:20230517T234929Z
UID:10012109-1690718400-1690722000@tiki.town
SUMMARY:Ringo Robonaught Live at The Sticky Whisker
DESCRIPTION:
URL:https://tiki.town/event/ringo-robonaught-live-at-the-sticky-whisker/2023-07-30/
LOCATION:Tiki Town Resort
ATTACH;FMTTYPE=image/png:https://tiki.town/wp-content/uploads/sites/6/2023/05/Ringo-Robonaught-1.png
END:VEVENT
BEGIN:VEVENT
DTSTART;TZID=America/Los_Angeles:20230730T100000
DTEND;TZID=America/Los_Angeles:20230730T120000
DTSTAMP:20260422T122429
CREATED:20230517T234333Z
LAST-MODIFIED:20230517T234333Z
UID:10012043-1690711200-1690718400@tiki.town
SUMMARY:DJ Tiboo doing some Sunday Tunes!
DESCRIPTION:
URL:https://tiki.town/event/dj-tiboo-doing-some-sunday-tunes/2023-07-30/
LOCATION:Tiki Town Resort
ATTACH;FMTTYPE=image/png:https://tiki.town/wp-content/uploads/sites/6/2023/05/DJ-Tiboo.png
END:VEVENT
BEGIN:VEVENT
DTSTART;TZID=America/Los_Angeles:20230729T120000
DTEND;TZID=America/Los_Angeles:20230729T200000
DTSTAMP:20260422T122429
CREATED:20230626T155659Z
LAST-MODIFIED:20230722T070820Z
UID:10012675-1690632000-1690660800@tiki.town
SUMMARY:Comedy Day at The Resort in Tiki Town
DESCRIPTION:Today\, the theme is comedy with 8 hours of hilarity!!! \nDJ’s will be playing comedy songs\, comedy bits\, silly stuff and maybe even tell a few jokes. So come have some laughs! \n12 Noon – 2 PM: DJ Stars\n2 PM – 4 PM: DJ Boom\n4 PM – 6 PM: DJ David\n6 PM – 8 PM: DJ Chloe \n  \n 
URL:https://tiki.town/event/saturday-party-the-resort-in-tiki-town/
LOCATION:Tiki Town Resort
END:VEVENT
BEGIN:VEVENT
DTSTART;TZID=America/Los_Angeles:20230728T120000
DTEND;TZID=America/Los_Angeles:20230728T140000
DTSTAMP:20260422T122429
CREATED:20230517T030538Z
LAST-MODIFIED:20230517T231513Z
UID:10011789-1690545600-1690552800@tiki.town
SUMMARY:Mid-day Party with DJ Willow
DESCRIPTION:
URL:https://tiki.town/event/mid-day-party-with-dj-willow-2/2023-07-28/
LOCATION:Tiki Town Resort
ATTACH;FMTTYPE=image/png:https://tiki.town/wp-content/uploads/sites/6/2023/05/DJ-Willow.png
END:VEVENT
BEGIN:VEVENT
DTSTART;TZID=America/Los_Angeles:20230728T100000
DTEND;TZID=America/Los_Angeles:20230728T120000
DTSTAMP:20260422T122429
CREATED:20230517T031105Z
LAST-MODIFIED:20230517T031105Z
UID:10011690-1690538400-1690545600@tiki.town
SUMMARY:Fridays with with DJ Tiboo!
DESCRIPTION:
URL:https://tiki.town/event/fridays-with-with-dj-tiboo/2023-07-28/
LOCATION:Tiki Town Resort
ATTACH;FMTTYPE=image/png:https://tiki.town/wp-content/uploads/sites/6/2023/05/DJ-Tiboo.png
END:VEVENT
BEGIN:VEVENT
DTSTART;TZID=America/Los_Angeles:20230727T120000
DTEND;TZID=America/Los_Angeles:20230727T140000
DTSTAMP:20260422T122429
CREATED:20230517T025331Z
LAST-MODIFIED:20230517T025331Z
UID:10011360-1690459200-1690466400@tiki.town
SUMMARY:Thursday lunchdate with DJ Molly!
DESCRIPTION:
URL:https://tiki.town/event/thursday-lunchdate-with-dj-molly/2023-07-27/
LOCATION:Tiki Town Resort
ATTACH;FMTTYPE=image/png:https://tiki.town/wp-content/uploads/sites/6/2023/05/DJ-Molly_003.png
END:VEVENT
BEGIN:VEVENT
DTSTART;TZID=America/Los_Angeles:20230727T100000
DTEND;TZID=America/Los_Angeles:20230727T120000
DTSTAMP:20260422T122429
CREATED:20230517T024250Z
LAST-MODIFIED:20230517T024250Z
UID:10011294-1690452000-1690459200@tiki.town
SUMMARY:Thursday morning with DJ Kinsley!
DESCRIPTION:
URL:https://tiki.town/event/thursday-morning-with-dj-kinsley/2023-07-27/
LOCATION:Tiki Town Resort
ATTACH;FMTTYPE=image/png:https://tiki.town/wp-content/uploads/sites/6/2023/05/DJ-Kinsley.png
END:VEVENT
BEGIN:VEVENT
DTSTART;TZID=America/Los_Angeles:20230726T160000
DTEND;TZID=America/Los_Angeles:20230726T180000
DTSTAMP:20260422T122429
CREATED:20230517T022741Z
LAST-MODIFIED:20230517T022741Z
UID:10011162-1690387200-1690394400@tiki.town
SUMMARY:Wednesdays with DJ Stars!
DESCRIPTION:
URL:https://tiki.town/event/wednesdays-with-dj-stars/2023-07-26/
LOCATION:Tiki Town Resort
ATTACH;FMTTYPE=image/jpeg:https://tiki.town/wp-content/uploads/sites/6/2023/05/DJ_Stars.jpg
END:VEVENT
BEGIN:VEVENT
DTSTART;TZID=America/Los_Angeles:20230725T180000
DTEND;TZID=America/Los_Angeles:20230725T200000
DTSTAMP:20260422T122429
CREATED:20230517T021453Z
LAST-MODIFIED:20230517T021453Z
UID:10010932-1690308000-1690315200@tiki.town
SUMMARY:Tiddy Tuesdays with DJ Boom!
DESCRIPTION:
URL:https://tiki.town/event/tiddy-tuesdays-with-dj-boom/2023-07-25/
LOCATION:Tiki Town Resort
ATTACH;FMTTYPE=image/jpeg:https://tiki.town/wp-content/uploads/sites/6/2023/05/Boomer-Profile-10_8_21.jpg
END:VEVENT
BEGIN:VEVENT
DTSTART;TZID=America/Los_Angeles:20230725T160000
DTEND;TZID=America/Los_Angeles:20230725T180000
DTSTAMP:20260422T122429
CREATED:20230517T021252Z
LAST-MODIFIED:20230714T015001Z
UID:10010866-1690300800-1690308000@tiki.town
SUMMARY:Tuesdays with DJ Hank!
DESCRIPTION:Get your ass to Tiki Town for some DJ Hank-y panky! 😀
URL:https://tiki.town/event/tuesdays-with-dj-henry/2023-07-25/
LOCATION:Tiki Town Resort
ATTACH;FMTTYPE=image/png:https://tiki.town/wp-content/uploads/sites/6/2023/05/DJ-Henry-1.png
END:VEVENT
END:VCALENDAR