BEGIN:VCALENDAR
VERSION:2.0
PRODID:-//Tiki Town - ECPv6.15.20//NONSGML v1.0//EN
CALSCALE:GREGORIAN
METHOD:PUBLISH
X-ORIGINAL-URL:https://tiki.town
X-WR-CALDESC:Events for Tiki Town
REFRESH-INTERVAL;VALUE=DURATION:PT1H
X-Robots-Tag:noindex
X-PUBLISHED-TTL:PT1H
BEGIN:VTIMEZONE
TZID:America/Los_Angeles
BEGIN:DAYLIGHT
TZOFFSETFROM:-0800
TZOFFSETTO:-0700
TZNAME:PDT
DTSTART:20220313T100000
END:DAYLIGHT
BEGIN:STANDARD
TZOFFSETFROM:-0700
TZOFFSETTO:-0800
TZNAME:PST
DTSTART:20221106T090000
END:STANDARD
BEGIN:DAYLIGHT
TZOFFSETFROM:-0800
TZOFFSETTO:-0700
TZNAME:PDT
DTSTART:20230312T100000
END:DAYLIGHT
BEGIN:STANDARD
TZOFFSETFROM:-0700
TZOFFSETTO:-0800
TZNAME:PST
DTSTART:20231105T090000
END:STANDARD
BEGIN:DAYLIGHT
TZOFFSETFROM:-0800
TZOFFSETTO:-0700
TZNAME:PDT
DTSTART:20240310T100000
END:DAYLIGHT
BEGIN:STANDARD
TZOFFSETFROM:-0700
TZOFFSETTO:-0800
TZNAME:PST
DTSTART:20241103T090000
END:STANDARD
END:VTIMEZONE
BEGIN:VEVENT
DTSTART;TZID=America/Los_Angeles:20230718T160000
DTEND;TZID=America/Los_Angeles:20230718T180000
DTSTAMP:20260422T185650
CREATED:20230517T021252Z
LAST-MODIFIED:20230714T015001Z
UID:10010865-1689696000-1689703200@tiki.town
SUMMARY:Tuesdays with DJ Hank!
DESCRIPTION:Get your ass to Tiki Town for some DJ Hank-y panky! 😀
URL:https://tiki.town/event/tuesdays-with-dj-henry/2023-07-18/
LOCATION:Tiki Town Resort
ATTACH;FMTTYPE=image/png:https://tiki.town/wp-content/uploads/sites/6/2023/05/DJ-Henry-1.png
END:VEVENT
BEGIN:VEVENT
DTSTART;TZID=America/Los_Angeles:20230718T140000
DTEND;TZID=America/Los_Angeles:20230718T160000
DTSTAMP:20260422T185650
CREATED:20230517T015632Z
LAST-MODIFIED:20230517T020606Z
UID:10010799-1689688800-1689696000@tiki.town
SUMMARY:Tuesdays with DJ Anak!
DESCRIPTION:
URL:https://tiki.town/event/tuesdays-with-dj-anak/2023-07-18/
LOCATION:Tiki Town Resort
ATTACH;FMTTYPE=image/png:https://tiki.town/wp-content/uploads/sites/6/2023/05/DJ-Anak-1.png
END:VEVENT
BEGIN:VEVENT
DTSTART;TZID=America/Los_Angeles:20230718T120000
DTEND;TZID=America/Los_Angeles:20230718T140000
DTSTAMP:20260422T185650
CREATED:20230517T015104Z
LAST-MODIFIED:20230517T020443Z
UID:10010733-1689681600-1689688800@tiki.town
SUMMARY:Tuesday Lunch Party with DJ Ana Lisa!
DESCRIPTION:
URL:https://tiki.town/event/tuesday-lunch-party-with-dj-ana-lisa/2023-07-18/
LOCATION:Tiki Town Resort
ATTACH;FMTTYPE=image/png:https://tiki.town/wp-content/uploads/sites/6/2023/05/DJ-Ana-Lisa.png
END:VEVENT
BEGIN:VEVENT
DTSTART;TZID=America/Los_Angeles:20230717T160000
DTEND;TZID=America/Los_Angeles:20230717T180000
DTSTAMP:20260422T185650
CREATED:20230717T131121Z
LAST-MODIFIED:20230717T131122Z
UID:10012656-1689609600-1689616800@tiki.town
SUMMARY:DJ Kyo Presents Name That Tune\, Color Edition
DESCRIPTION:Today’s set will be a Name That Tune special edition\, where all of the songs have a color in the title. \nAs usual\, there will be a 25L award each for the first person to name the Title and the Artist.
URL:https://tiki.town/event/dj-kyo-presents-hits-of-the-90s-and-00s-2/
LOCATION:Tiki Town Resort
END:VEVENT
BEGIN:VEVENT
DTSTART;TZID=America/Los_Angeles:20230717T120000
DTEND;TZID=America/Los_Angeles:20230717T140000
DTSTAMP:20260422T185650
CREATED:20230518T003259Z
LAST-MODIFIED:20230518T003259Z
UID:10012439-1689595200-1689602400@tiki.town
SUMMARY:DJ Tiboo's Monday Musical Moments
DESCRIPTION:
URL:https://tiki.town/event/dj-tiboos-monday-musical-moments/2023-07-17/
LOCATION:Tiki Town Resort
ATTACH;FMTTYPE=image/png:https://tiki.town/wp-content/uploads/sites/6/2023/05/DJ-Tiboo.png
END:VEVENT
BEGIN:VEVENT
DTSTART;TZID=America/Los_Angeles:20230717T100000
DTEND;TZID=America/Los_Angeles:20230717T120000
DTSTAMP:20260422T185650
CREATED:20230518T003048Z
LAST-MODIFIED:20230518T004650Z
UID:10012375-1689588000-1689595200@tiki.town
SUMMARY:Mondays with DJ Kinsley
DESCRIPTION:
URL:https://tiki.town/event/mondays-with-dj-kinsley/2023-07-17/
LOCATION:Tiki Town Resort
ATTACH;FMTTYPE=image/png:https://tiki.town/wp-content/uploads/sites/6/2023/05/DJ-Kinsley.png
END:VEVENT
BEGIN:VEVENT
DTSTART;TZID=America/Los_Angeles:20230716T170000
DTEND;TZID=America/Los_Angeles:20230716T200000
DTSTAMP:20260422T185650
CREATED:20230626T154255Z
LAST-MODIFIED:20230626T154255Z
UID:10012672-1689526800-1689537600@tiki.town
SUMMARY:Movie Night: Anchorman: The Legend of Ron Burgundy (2004)
DESCRIPTION:In 1970s San Diego\, journalism was a well respected profession and people actually cared about what they saw on TV. And the top rated anchor man in the city is Ron Burgundy. He enjoys his run at the top\, and has for the last five years. And his news team is equally as good as he is. Professional jock and former professional baseball player Champ Kind handles the sports\, the curiously dim witted Brick Tamland – who’s a few channels short of a cable subscription – handles the weather\, and ladies’ man Brian Fantana – whose collection of fine scents would be in the Guinness Book Of Records – handles the on-field reporting. But now all that is about to change forever. The TV station Burgundy works for\, Channel 4\, has embraced diversity and has hired a beautiful new female anchor named Veronica Corningstone. While Ron Burgundy and the rest of the Channel 4 news team enjoys fighting with competitors\, drinking\, and flirting with the ladies\, Veronica quietly climbs her way to the top. And Veronica’s success drives Ron Burgundy crazy. So much that Veronica’s meddling causes Ron to get demoted and ultimately lose his job with Channel 6. Now left with nothing\, Ron must find a way to get back to the top – and that involves a story about a rare Chinese panda giving birth on US soil. Will Ron be the one to report the story on a national level?
URL:https://tiki.town/event/movie-night-anchorman-the-legend-of-ron-burgundy-2004/
LOCATION:Tiki Town Resort
END:VEVENT
BEGIN:VEVENT
DTSTART;TZID=America/Los_Angeles:20230716T120000
DTEND;TZID=America/Los_Angeles:20230716T130000
DTSTAMP:20260422T185650
CREATED:20230517T234833Z
LAST-MODIFIED:20230517T234929Z
UID:10012107-1689508800-1689512400@tiki.town
SUMMARY:Ringo Robonaught Live at The Sticky Whisker
DESCRIPTION:
URL:https://tiki.town/event/ringo-robonaught-live-at-the-sticky-whisker/2023-07-16/
LOCATION:Tiki Town Resort
ATTACH;FMTTYPE=image/png:https://tiki.town/wp-content/uploads/sites/6/2023/05/Ringo-Robonaught-1.png
END:VEVENT
BEGIN:VEVENT
DTSTART;TZID=America/Los_Angeles:20230716T100000
DTEND;TZID=America/Los_Angeles:20230716T120000
DTSTAMP:20260422T185650
CREATED:20230517T234333Z
LAST-MODIFIED:20230517T234333Z
UID:10012041-1689501600-1689508800@tiki.town
SUMMARY:DJ Tiboo doing some Sunday Tunes!
DESCRIPTION:
URL:https://tiki.town/event/dj-tiboo-doing-some-sunday-tunes/2023-07-16/
LOCATION:Tiki Town Resort
ATTACH;FMTTYPE=image/png:https://tiki.town/wp-content/uploads/sites/6/2023/05/DJ-Tiboo.png
END:VEVENT
BEGIN:VEVENT
DTSTART;TZID=America/Los_Angeles:20230715T100000
DTEND;TZID=America/Los_Angeles:20230715T200000
DTSTAMP:20260422T185650
CREATED:20230626T152631Z
LAST-MODIFIED:20230714T015927Z
UID:10012671-1689415200-1689451200@tiki.town
SUMMARY:Saturday Sex Party @ The Forest in Tiki Town
DESCRIPTION:Time to get to out in the wilderness\, and party in the Forest in Tiki Town for some sexy fun times! \n10 AM – 12 Noon: DJ Joe\n12 Noon – 2 PM: DJ Dani\n2 PM – 4 PM: DJ Aly\n4 PM – 6 PM: DJ Anak\n6 PM – 8 PM: DJ Hank \n  \n 
URL:https://tiki.town/event/saturday-sex-party-the-forest-in-tiki-town/
LOCATION:Tiki Town Resort
ATTACH;FMTTYPE=image/jpeg:https://tiki.town/wp-content/uploads/sites/6/2023/05/Tiki-Town-SSP.jpg
END:VEVENT
BEGIN:VEVENT
DTSTART;TZID=America/Los_Angeles:20230714T140000
DTEND;TZID=America/Los_Angeles:20230714T160000
DTSTAMP:20260422T185650
CREATED:20230517T232119Z
LAST-MODIFIED:20230517T232119Z
UID:10011886-1689343200-1689350400@tiki.town
SUMMARY:Friday afternoon with DJ Drewy
DESCRIPTION:
URL:https://tiki.town/event/friday-afternoon-with-dj-drewy-2/2023-07-14/
LOCATION:Tiki Town Resort
END:VEVENT
BEGIN:VEVENT
DTSTART;TZID=America/Los_Angeles:20230714T120000
DTEND;TZID=America/Los_Angeles:20230714T140000
DTSTAMP:20260422T185650
CREATED:20230517T030538Z
LAST-MODIFIED:20230517T231513Z
UID:10011787-1689336000-1689343200@tiki.town
SUMMARY:Mid-day Party with DJ Willow
DESCRIPTION:
URL:https://tiki.town/event/mid-day-party-with-dj-willow-2/2023-07-14/
LOCATION:Tiki Town Resort
ATTACH;FMTTYPE=image/png:https://tiki.town/wp-content/uploads/sites/6/2023/05/DJ-Willow.png
END:VEVENT
BEGIN:VEVENT
DTSTART;TZID=America/Los_Angeles:20230714T100000
DTEND;TZID=America/Los_Angeles:20230714T120000
DTSTAMP:20260422T185650
CREATED:20230517T031105Z
LAST-MODIFIED:20230517T031105Z
UID:10011688-1689328800-1689336000@tiki.town
SUMMARY:Fridays with with DJ Tiboo!
DESCRIPTION:
URL:https://tiki.town/event/fridays-with-with-dj-tiboo/2023-07-14/
LOCATION:Tiki Town Resort
ATTACH;FMTTYPE=image/png:https://tiki.town/wp-content/uploads/sites/6/2023/05/DJ-Tiboo.png
END:VEVENT
BEGIN:VEVENT
DTSTART;TZID=America/Los_Angeles:20230713T140000
DTEND;TZID=America/Los_Angeles:20230713T160000
DTSTAMP:20260422T185650
CREATED:20230713T191505Z
LAST-MODIFIED:20230713T191505Z
UID:10012703-1689256800-1689264000@tiki.town
SUMMARY:Swing Dance Tunes with DJ Kyo!
DESCRIPTION:DJ Kyo stepping in today from 2-4\, and will be playing some fun\, swing dance tunes! \nCome on down\, grab a partner\, and do some swinging.. uhmm.. swing dancing.. well.. whatever!!!!
URL:https://tiki.town/event/swing-dance-tunes-with-dj-kyo/
LOCATION:Tiki Town Resort
END:VEVENT
BEGIN:VEVENT
DTSTART;TZID=America/Los_Angeles:20230713T120000
DTEND;TZID=America/Los_Angeles:20230713T140000
DTSTAMP:20260422T185650
CREATED:20230517T025331Z
LAST-MODIFIED:20230517T025331Z
UID:10011358-1689249600-1689256800@tiki.town
SUMMARY:Thursday lunchdate with DJ Molly!
DESCRIPTION:
URL:https://tiki.town/event/thursday-lunchdate-with-dj-molly/2023-07-13/
LOCATION:Tiki Town Resort
ATTACH;FMTTYPE=image/png:https://tiki.town/wp-content/uploads/sites/6/2023/05/DJ-Molly_003.png
END:VEVENT
BEGIN:VEVENT
DTSTART;TZID=America/Los_Angeles:20230713T100000
DTEND;TZID=America/Los_Angeles:20230713T120000
DTSTAMP:20260422T185650
CREATED:20230517T024250Z
LAST-MODIFIED:20230517T024250Z
UID:10011292-1689242400-1689249600@tiki.town
SUMMARY:Thursday morning with DJ Kinsley!
DESCRIPTION:
URL:https://tiki.town/event/thursday-morning-with-dj-kinsley/2023-07-13/
LOCATION:Tiki Town Resort
ATTACH;FMTTYPE=image/png:https://tiki.town/wp-content/uploads/sites/6/2023/05/DJ-Kinsley.png
END:VEVENT
BEGIN:VEVENT
DTSTART;TZID=America/Los_Angeles:20230712T160000
DTEND;TZID=America/Los_Angeles:20230712T180000
DTSTAMP:20260422T185650
CREATED:20230517T022741Z
LAST-MODIFIED:20230517T022741Z
UID:10011160-1689177600-1689184800@tiki.town
SUMMARY:Wednesdays with DJ Stars!
DESCRIPTION:
URL:https://tiki.town/event/wednesdays-with-dj-stars/2023-07-12/
LOCATION:Tiki Town Resort
ATTACH;FMTTYPE=image/jpeg:https://tiki.town/wp-content/uploads/sites/6/2023/05/DJ_Stars.jpg
END:VEVENT
BEGIN:VEVENT
DTSTART;TZID=America/Los_Angeles:20230712T140000
DTEND;TZID=America/Los_Angeles:20230712T160000
DTSTAMP:20260422T185650
CREATED:20230517T022528Z
LAST-MODIFIED:20230517T022528Z
UID:10011094-1689170400-1689177600@tiki.town
SUMMARY:Wednesdays with DJ Drewy!
DESCRIPTION:
URL:https://tiki.town/event/wednesdays-with-dj-drewy/2023-07-12/
LOCATION:Tiki Town Resort
END:VEVENT
BEGIN:VEVENT
DTSTART;TZID=America/Los_Angeles:20230711T180000
DTEND;TZID=America/Los_Angeles:20230711T200000
DTSTAMP:20260422T185650
CREATED:20230517T021453Z
LAST-MODIFIED:20230517T021453Z
UID:10010930-1689098400-1689105600@tiki.town
SUMMARY:Tiddy Tuesdays with DJ Boom!
DESCRIPTION:
URL:https://tiki.town/event/tiddy-tuesdays-with-dj-boom/2023-07-11/
LOCATION:Tiki Town Resort
ATTACH;FMTTYPE=image/jpeg:https://tiki.town/wp-content/uploads/sites/6/2023/05/Boomer-Profile-10_8_21.jpg
END:VEVENT
BEGIN:VEVENT
DTSTART;TZID=America/Los_Angeles:20230711T160000
DTEND;TZID=America/Los_Angeles:20230711T180000
DTSTAMP:20260422T185650
CREATED:20230517T021252Z
LAST-MODIFIED:20230714T015001Z
UID:10010864-1689091200-1689098400@tiki.town
SUMMARY:Tuesdays with DJ Hank!
DESCRIPTION:Get your ass to Tiki Town for some DJ Hank-y panky! 😀
URL:https://tiki.town/event/tuesdays-with-dj-henry/2023-07-11/
LOCATION:Tiki Town Resort
ATTACH;FMTTYPE=image/png:https://tiki.town/wp-content/uploads/sites/6/2023/05/DJ-Henry-1.png
END:VEVENT
BEGIN:VEVENT
DTSTART;TZID=America/Los_Angeles:20230711T140000
DTEND;TZID=America/Los_Angeles:20230711T160000
DTSTAMP:20260422T185650
CREATED:20230517T015632Z
LAST-MODIFIED:20230517T020606Z
UID:10010798-1689084000-1689091200@tiki.town
SUMMARY:Tuesdays with DJ Anak!
DESCRIPTION:
URL:https://tiki.town/event/tuesdays-with-dj-anak/2023-07-11/
LOCATION:Tiki Town Resort
ATTACH;FMTTYPE=image/png:https://tiki.town/wp-content/uploads/sites/6/2023/05/DJ-Anak-1.png
END:VEVENT
BEGIN:VEVENT
DTSTART;TZID=America/Los_Angeles:20230711T120000
DTEND;TZID=America/Los_Angeles:20230711T140000
DTSTAMP:20260422T185650
CREATED:20230517T015104Z
LAST-MODIFIED:20230517T020443Z
UID:10010732-1689076800-1689084000@tiki.town
SUMMARY:Tuesday Lunch Party with DJ Ana Lisa!
DESCRIPTION:
URL:https://tiki.town/event/tuesday-lunch-party-with-dj-ana-lisa/2023-07-11/
LOCATION:Tiki Town Resort
ATTACH;FMTTYPE=image/png:https://tiki.town/wp-content/uploads/sites/6/2023/05/DJ-Ana-Lisa.png
END:VEVENT
BEGIN:VEVENT
DTSTART;TZID=America/Los_Angeles:20230710T160000
DTEND;TZID=America/Los_Angeles:20230710T180000
DTSTAMP:20260422T185650
CREATED:20230518T005603Z
LAST-MODIFIED:20230710T152349Z
UID:10012642-1689004800-1689012000@tiki.town
SUMMARY:DJ Kyo Presents Movie Tune Trivia Night 4-6PM
DESCRIPTION:Come test your movie song trivia knowledge\, and maybe even make a lil lindens. \nAt least 75L awarded out per song\, 25L each for whomever first names the Song Title\, Artist\, and Movie Title. There may even be some extra credit awards.
URL:https://tiki.town/event/dj-kyo-presents-hits-of-the-70s-and-80s/2023-07-10/
LOCATION:Tiki Town Resort
END:VEVENT
BEGIN:VEVENT
DTSTART;TZID=America/Los_Angeles:20230710T140000
DTEND;TZID=America/Los_Angeles:20230710T160000
DTSTAMP:20260422T185650
CREATED:20230518T003432Z
LAST-MODIFIED:20230518T003432Z
UID:10012502-1688997600-1689004800@tiki.town
SUMMARY:DJ Drewy's Monday Mix
DESCRIPTION:
URL:https://tiki.town/event/dj-drewys-monday-mix/2023-07-10/
LOCATION:Tiki Town Resort
END:VEVENT
BEGIN:VEVENT
DTSTART;TZID=America/Los_Angeles:20230710T120000
DTEND;TZID=America/Los_Angeles:20230710T140000
DTSTAMP:20260422T185650
CREATED:20230518T003259Z
LAST-MODIFIED:20230518T003259Z
UID:10012438-1688990400-1688997600@tiki.town
SUMMARY:DJ Tiboo's Monday Musical Moments
DESCRIPTION:
URL:https://tiki.town/event/dj-tiboos-monday-musical-moments/2023-07-10/
LOCATION:Tiki Town Resort
ATTACH;FMTTYPE=image/png:https://tiki.town/wp-content/uploads/sites/6/2023/05/DJ-Tiboo.png
END:VEVENT
BEGIN:VEVENT
DTSTART;TZID=America/Los_Angeles:20230710T100000
DTEND;TZID=America/Los_Angeles:20230710T120000
DTSTAMP:20260422T185650
CREATED:20230518T003048Z
LAST-MODIFIED:20230518T004650Z
UID:10012374-1688983200-1688990400@tiki.town
SUMMARY:Mondays with DJ Kinsley
DESCRIPTION:
URL:https://tiki.town/event/mondays-with-dj-kinsley/2023-07-10/
LOCATION:Tiki Town Resort
ATTACH;FMTTYPE=image/png:https://tiki.town/wp-content/uploads/sites/6/2023/05/DJ-Kinsley.png
END:VEVENT
BEGIN:VEVENT
DTSTART;TZID=America/Los_Angeles:20230709T170000
DTEND;TZID=America/Los_Angeles:20230709T200000
DTSTAMP:20260422T185650
CREATED:20230626T152515Z
LAST-MODIFIED:20230626T152515Z
UID:10012670-1688922000-1688932800@tiki.town
SUMMARY:Movie Night: The Adam Project (2022)
DESCRIPTION:Adam Reed\, age 12 and still grieving his father’s sudden death the year before\, walks into his garage one night to find a wounded pilot hiding there. This mysterious pilot turns out to be the older version of himself from the future\, where time travel is in its infancy. He has risked everything to come back in time on a secret mission. Together they must embark on an adventure into the past to find their father\, set things right\, and save the world. As the three work together\, both young and grown Adam come to terms with the loss of their father and have a chance to heal the wounds that have shaped them. Adding to the challenge of the mission\, the two Adams discover that they really don’t like each other much\, and if they are to save the world\, first they need to figure out how to get along.
URL:https://tiki.town/event/movie-night-the-adam-project-2022/
LOCATION:Tiki Town Resort
END:VEVENT
BEGIN:VEVENT
DTSTART;TZID=America/Los_Angeles:20230709T120000
DTEND;TZID=America/Los_Angeles:20230709T130000
DTSTAMP:20260422T185650
CREATED:20230517T234833Z
LAST-MODIFIED:20230517T234929Z
UID:10012106-1688904000-1688907600@tiki.town
SUMMARY:Ringo Robonaught Live at The Sticky Whisker
DESCRIPTION:
URL:https://tiki.town/event/ringo-robonaught-live-at-the-sticky-whisker/2023-07-09/
LOCATION:Tiki Town Resort
ATTACH;FMTTYPE=image/png:https://tiki.town/wp-content/uploads/sites/6/2023/05/Ringo-Robonaught-1.png
END:VEVENT
BEGIN:VEVENT
DTSTART;TZID=America/Los_Angeles:20230709T100000
DTEND;TZID=America/Los_Angeles:20230709T120000
DTSTAMP:20260422T185650
CREATED:20230517T234333Z
LAST-MODIFIED:20230517T234333Z
UID:10012040-1688896800-1688904000@tiki.town
SUMMARY:DJ Tiboo doing some Sunday Tunes!
DESCRIPTION:
URL:https://tiki.town/event/dj-tiboo-doing-some-sunday-tunes/2023-07-09/
LOCATION:Tiki Town Resort
ATTACH;FMTTYPE=image/png:https://tiki.town/wp-content/uploads/sites/6/2023/05/DJ-Tiboo.png
END:VEVENT
BEGIN:VEVENT
DTSTART;TZID=America/Los_Angeles:20230708T140000
DTEND;TZID=America/Los_Angeles:20230708T180000
DTSTAMP:20260422T185650
CREATED:20230626T150855Z
LAST-MODIFIED:20230706T230053Z
UID:10012669-1688824800-1688839200@tiki.town
SUMMARY:Saturday House Party at Kyo's place!!
DESCRIPTION:Kyo is having all of us over for some afternoon delights! Two new dungeons\, and a surprise encounter room\, and all of the other play areas are available for exploration and fun. \n12 PM – 2 PM(Pre-party): DJ Kizzy \n2 PM – 4 PM: TBA \n4 PM – 6 PM: DJ Friar Don \n 
URL:https://tiki.town/event/saturday-house-party-at-kyos-place/
LOCATION:Tiki Town Resort
END:VEVENT
END:VCALENDAR