BEGIN:VCALENDAR
VERSION:2.0
PRODID:-//Tiki Town - ECPv6.15.20//NONSGML v1.0//EN
CALSCALE:GREGORIAN
METHOD:PUBLISH
X-ORIGINAL-URL:https://tiki.town
X-WR-CALDESC:Events for Tiki Town
REFRESH-INTERVAL;VALUE=DURATION:PT1H
X-Robots-Tag:noindex
X-PUBLISHED-TTL:PT1H
BEGIN:VTIMEZONE
TZID:America/Los_Angeles
BEGIN:DAYLIGHT
TZOFFSETFROM:-0800
TZOFFSETTO:-0700
TZNAME:PDT
DTSTART:20220313T100000
END:DAYLIGHT
BEGIN:STANDARD
TZOFFSETFROM:-0700
TZOFFSETTO:-0800
TZNAME:PST
DTSTART:20221106T090000
END:STANDARD
BEGIN:DAYLIGHT
TZOFFSETFROM:-0800
TZOFFSETTO:-0700
TZNAME:PDT
DTSTART:20230312T100000
END:DAYLIGHT
BEGIN:STANDARD
TZOFFSETFROM:-0700
TZOFFSETTO:-0800
TZNAME:PST
DTSTART:20231105T090000
END:STANDARD
BEGIN:DAYLIGHT
TZOFFSETFROM:-0800
TZOFFSETTO:-0700
TZNAME:PDT
DTSTART:20240310T100000
END:DAYLIGHT
BEGIN:STANDARD
TZOFFSETFROM:-0700
TZOFFSETTO:-0800
TZNAME:PST
DTSTART:20241103T090000
END:STANDARD
END:VTIMEZONE
BEGIN:VEVENT
DTSTART;TZID=America/Los_Angeles:20230705T160000
DTEND;TZID=America/Los_Angeles:20230705T180000
DTSTAMP:20260422T234048
CREATED:20230517T022741Z
LAST-MODIFIED:20230517T022741Z
UID:10011159-1688572800-1688580000@tiki.town
SUMMARY:Wednesdays with DJ Stars!
DESCRIPTION:
URL:https://tiki.town/event/wednesdays-with-dj-stars/2023-07-05/
LOCATION:Tiki Town Resort
ATTACH;FMTTYPE=image/jpeg:https://tiki.town/wp-content/uploads/sites/6/2023/05/DJ_Stars.jpg
END:VEVENT
BEGIN:VEVENT
DTSTART;TZID=America/Los_Angeles:20230705T140000
DTEND;TZID=America/Los_Angeles:20230705T160000
DTSTAMP:20260422T234048
CREATED:20230517T022528Z
LAST-MODIFIED:20230517T022528Z
UID:10011093-1688565600-1688572800@tiki.town
SUMMARY:Wednesdays with DJ Drewy!
DESCRIPTION:
URL:https://tiki.town/event/wednesdays-with-dj-drewy/2023-07-05/
LOCATION:Tiki Town Resort
END:VEVENT
BEGIN:VEVENT
DTSTART;TZID=America/Los_Angeles:20230705T120000
DTEND;TZID=America/Los_Angeles:20230705T140000
DTSTAMP:20260422T234048
CREATED:20230517T022238Z
LAST-MODIFIED:20230517T022238Z
UID:10011027-1688558400-1688565600@tiki.town
SUMMARY:Wednesdays with DJ Marten!
DESCRIPTION:
URL:https://tiki.town/event/wednesdays-with-dj-marten/2023-07-05/
LOCATION:Tiki Town Resort
ATTACH;FMTTYPE=image/png:https://tiki.town/wp-content/uploads/sites/6/2023/05/DJ-Marten.png
END:VEVENT
BEGIN:VEVENT
DTSTART;TZID=America/Los_Angeles:20230704T180000
DTEND;TZID=America/Los_Angeles:20230704T200000
DTSTAMP:20260422T234048
CREATED:20230517T021453Z
LAST-MODIFIED:20230517T021453Z
UID:10010929-1688493600-1688500800@tiki.town
SUMMARY:Tiddy Tuesdays with DJ Boom!
DESCRIPTION:
URL:https://tiki.town/event/tiddy-tuesdays-with-dj-boom/2023-07-04/
LOCATION:Tiki Town Resort
ATTACH;FMTTYPE=image/jpeg:https://tiki.town/wp-content/uploads/sites/6/2023/05/Boomer-Profile-10_8_21.jpg
END:VEVENT
BEGIN:VEVENT
DTSTART;TZID=America/Los_Angeles:20230704T160000
DTEND;TZID=America/Los_Angeles:20230704T180000
DTSTAMP:20260422T234048
CREATED:20230517T021252Z
LAST-MODIFIED:20230714T015001Z
UID:10010863-1688486400-1688493600@tiki.town
SUMMARY:Tuesdays with DJ Hank!
DESCRIPTION:Get your ass to Tiki Town for some DJ Hank-y panky! 😀
URL:https://tiki.town/event/tuesdays-with-dj-henry/2023-07-04/
LOCATION:Tiki Town Resort
ATTACH;FMTTYPE=image/png:https://tiki.town/wp-content/uploads/sites/6/2023/05/DJ-Henry-1.png
END:VEVENT
BEGIN:VEVENT
DTSTART;TZID=America/Los_Angeles:20230704T140000
DTEND;TZID=America/Los_Angeles:20230704T160000
DTSTAMP:20260422T234048
CREATED:20230517T015632Z
LAST-MODIFIED:20230517T020606Z
UID:10010797-1688479200-1688486400@tiki.town
SUMMARY:Tuesdays with DJ Anak!
DESCRIPTION:
URL:https://tiki.town/event/tuesdays-with-dj-anak/2023-07-04/
LOCATION:Tiki Town Resort
ATTACH;FMTTYPE=image/png:https://tiki.town/wp-content/uploads/sites/6/2023/05/DJ-Anak-1.png
END:VEVENT
BEGIN:VEVENT
DTSTART;TZID=America/Los_Angeles:20230704T120000
DTEND;TZID=America/Los_Angeles:20230704T140000
DTSTAMP:20260422T234048
CREATED:20230517T015104Z
LAST-MODIFIED:20230517T020443Z
UID:10010731-1688472000-1688479200@tiki.town
SUMMARY:Tuesday Lunch Party with DJ Ana Lisa!
DESCRIPTION:
URL:https://tiki.town/event/tuesday-lunch-party-with-dj-ana-lisa/2023-07-04/
LOCATION:Tiki Town Resort
ATTACH;FMTTYPE=image/png:https://tiki.town/wp-content/uploads/sites/6/2023/05/DJ-Ana-Lisa.png
END:VEVENT
BEGIN:VEVENT
DTSTART;TZID=America/Los_Angeles:20230703T160000
DTEND;TZID=America/Los_Angeles:20230703T180000
DTSTAMP:20260422T234048
CREATED:20230703T203602Z
LAST-MODIFIED:20230703T204659Z
UID:10012628-1688400000-1688407200@tiki.town
SUMMARY:DJ Kyo Presents Patriotic Name That Tune Night
DESCRIPTION:Come on in and test out your Patriotic tune trivia knowledge! \nAwards (L$25) given for the first person to name : \n1. Artist \n2. Title of song
URL:https://tiki.town/event/dj-kyo-presents-hits-of-the-50s-and-60s-2/
LOCATION:Tiki Town Resort
END:VEVENT
BEGIN:VEVENT
DTSTART;TZID=America/Los_Angeles:20230703T140000
DTEND;TZID=America/Los_Angeles:20230703T160000
DTSTAMP:20260422T234048
CREATED:20230518T003432Z
LAST-MODIFIED:20230518T003432Z
UID:10012501-1688392800-1688400000@tiki.town
SUMMARY:DJ Drewy's Monday Mix
DESCRIPTION:
URL:https://tiki.town/event/dj-drewys-monday-mix/2023-07-03/
LOCATION:Tiki Town Resort
END:VEVENT
BEGIN:VEVENT
DTSTART;TZID=America/Los_Angeles:20230703T120000
DTEND;TZID=America/Los_Angeles:20230703T140000
DTSTAMP:20260422T234048
CREATED:20230518T003259Z
LAST-MODIFIED:20230518T003259Z
UID:10012437-1688385600-1688392800@tiki.town
SUMMARY:DJ Tiboo's Monday Musical Moments
DESCRIPTION:
URL:https://tiki.town/event/dj-tiboos-monday-musical-moments/2023-07-03/
LOCATION:Tiki Town Resort
ATTACH;FMTTYPE=image/png:https://tiki.town/wp-content/uploads/sites/6/2023/05/DJ-Tiboo.png
END:VEVENT
BEGIN:VEVENT
DTSTART;TZID=America/Los_Angeles:20230703T100000
DTEND;TZID=America/Los_Angeles:20230703T120000
DTSTAMP:20260422T234048
CREATED:20230518T003048Z
LAST-MODIFIED:20230518T004650Z
UID:10012373-1688378400-1688385600@tiki.town
SUMMARY:Mondays with DJ Kinsley
DESCRIPTION:
URL:https://tiki.town/event/mondays-with-dj-kinsley/2023-07-03/
LOCATION:Tiki Town Resort
ATTACH;FMTTYPE=image/png:https://tiki.town/wp-content/uploads/sites/6/2023/05/DJ-Kinsley.png
END:VEVENT
BEGIN:VEVENT
DTSTART;TZID=America/Los_Angeles:20230702T170000
DTEND;TZID=America/Los_Angeles:20230702T200000
DTSTAMP:20260422T234048
CREATED:20230626T150315Z
LAST-MODIFIED:20230626T150315Z
UID:10012668-1688317200-1688328000@tiki.town
SUMMARY:Movie Night: Dead Poet's Society (1989)
DESCRIPTION:Painfully shy Todd Anderson has been sent to the school where his popular older brother was valedictorian. His roommate\, Neil Perry\, although exceedingly bright and popular\, is very much under the thumb of his overbearing father. The two\, along with their other friends\, meet Professor Keating\, their new English teacher\, who tells them of the Dead Poets Society\, and encourages them to go against the status quo. Each does so in his own way\, and is changed for life
URL:https://tiki.town/event/movie-night-dead-poets-society-1989/
LOCATION:Tiki Town Resort
END:VEVENT
BEGIN:VEVENT
DTSTART;TZID=America/Los_Angeles:20230702T120000
DTEND;TZID=America/Los_Angeles:20230702T130000
DTSTAMP:20260422T234048
CREATED:20230517T234833Z
LAST-MODIFIED:20230517T234929Z
UID:10012105-1688299200-1688302800@tiki.town
SUMMARY:Ringo Robonaught Live at The Sticky Whisker
DESCRIPTION:
URL:https://tiki.town/event/ringo-robonaught-live-at-the-sticky-whisker/2023-07-02/
LOCATION:Tiki Town Resort
ATTACH;FMTTYPE=image/png:https://tiki.town/wp-content/uploads/sites/6/2023/05/Ringo-Robonaught-1.png
END:VEVENT
BEGIN:VEVENT
DTSTART;TZID=America/Los_Angeles:20230702T100000
DTEND;TZID=America/Los_Angeles:20230702T120000
DTSTAMP:20260422T234048
CREATED:20230517T234333Z
LAST-MODIFIED:20230517T234333Z
UID:10012039-1688292000-1688299200@tiki.town
SUMMARY:DJ Tiboo doing some Sunday Tunes!
DESCRIPTION:
URL:https://tiki.town/event/dj-tiboo-doing-some-sunday-tunes/2023-07-02/
LOCATION:Tiki Town Resort
ATTACH;FMTTYPE=image/png:https://tiki.town/wp-content/uploads/sites/6/2023/05/DJ-Tiboo.png
END:VEVENT
BEGIN:VEVENT
DTSTART;TZID=America/Los_Angeles:20230630T140000
DTEND;TZID=America/Los_Angeles:20230630T160000
DTSTAMP:20260422T234048
CREATED:20230517T232119Z
LAST-MODIFIED:20230517T232119Z
UID:10011884-1688133600-1688140800@tiki.town
SUMMARY:Friday afternoon with DJ Drewy
DESCRIPTION:
URL:https://tiki.town/event/friday-afternoon-with-dj-drewy-2/2023-06-30/
LOCATION:Tiki Town Resort
END:VEVENT
BEGIN:VEVENT
DTSTART;TZID=America/Los_Angeles:20230630T120000
DTEND;TZID=America/Los_Angeles:20230630T140000
DTSTAMP:20260422T234048
CREATED:20230517T030538Z
LAST-MODIFIED:20230517T231513Z
UID:10011785-1688126400-1688133600@tiki.town
SUMMARY:Mid-day Party with DJ Willow
DESCRIPTION:
URL:https://tiki.town/event/mid-day-party-with-dj-willow-2/2023-06-30/
LOCATION:Tiki Town Resort
ATTACH;FMTTYPE=image/png:https://tiki.town/wp-content/uploads/sites/6/2023/05/DJ-Willow.png
END:VEVENT
BEGIN:VEVENT
DTSTART;TZID=America/Los_Angeles:20230630T100000
DTEND;TZID=America/Los_Angeles:20230630T120000
DTSTAMP:20260422T234048
CREATED:20230517T031105Z
LAST-MODIFIED:20230517T031105Z
UID:10011686-1688119200-1688126400@tiki.town
SUMMARY:Fridays with with DJ Tiboo!
DESCRIPTION:
URL:https://tiki.town/event/fridays-with-with-dj-tiboo/2023-06-30/
LOCATION:Tiki Town Resort
ATTACH;FMTTYPE=image/png:https://tiki.town/wp-content/uploads/sites/6/2023/05/DJ-Tiboo.png
END:VEVENT
BEGIN:VEVENT
DTSTART;TZID=America/Los_Angeles:20230629T120000
DTEND;TZID=America/Los_Angeles:20230629T140000
DTSTAMP:20260422T234048
CREATED:20230517T025331Z
LAST-MODIFIED:20230517T025331Z
UID:10011356-1688040000-1688047200@tiki.town
SUMMARY:Thursday lunchdate with DJ Molly!
DESCRIPTION:
URL:https://tiki.town/event/thursday-lunchdate-with-dj-molly/2023-06-29/
LOCATION:Tiki Town Resort
ATTACH;FMTTYPE=image/png:https://tiki.town/wp-content/uploads/sites/6/2023/05/DJ-Molly_003.png
END:VEVENT
BEGIN:VEVENT
DTSTART;TZID=America/Los_Angeles:20230629T100000
DTEND;TZID=America/Los_Angeles:20230629T120000
DTSTAMP:20260422T234048
CREATED:20230517T024250Z
LAST-MODIFIED:20230517T024250Z
UID:10011290-1688032800-1688040000@tiki.town
SUMMARY:Thursday morning with DJ Kinsley!
DESCRIPTION:
URL:https://tiki.town/event/thursday-morning-with-dj-kinsley/2023-06-29/
LOCATION:Tiki Town Resort
ATTACH;FMTTYPE=image/png:https://tiki.town/wp-content/uploads/sites/6/2023/05/DJ-Kinsley.png
END:VEVENT
BEGIN:VEVENT
DTSTART;TZID=America/Los_Angeles:20230628T160000
DTEND;TZID=America/Los_Angeles:20230628T180000
DTSTAMP:20260422T234048
CREATED:20230517T022741Z
LAST-MODIFIED:20230517T022741Z
UID:10011158-1687968000-1687975200@tiki.town
SUMMARY:Wednesdays with DJ Stars!
DESCRIPTION:
URL:https://tiki.town/event/wednesdays-with-dj-stars/2023-06-28/
LOCATION:Tiki Town Resort
ATTACH;FMTTYPE=image/jpeg:https://tiki.town/wp-content/uploads/sites/6/2023/05/DJ_Stars.jpg
END:VEVENT
BEGIN:VEVENT
DTSTART;TZID=America/Los_Angeles:20230628T140000
DTEND;TZID=America/Los_Angeles:20230628T160000
DTSTAMP:20260422T234048
CREATED:20230517T022528Z
LAST-MODIFIED:20230517T022528Z
UID:10011092-1687960800-1687968000@tiki.town
SUMMARY:Wednesdays with DJ Drewy!
DESCRIPTION:
URL:https://tiki.town/event/wednesdays-with-dj-drewy/2023-06-28/
LOCATION:Tiki Town Resort
END:VEVENT
BEGIN:VEVENT
DTSTART;TZID=America/Los_Angeles:20230628T120000
DTEND;TZID=America/Los_Angeles:20230628T140000
DTSTAMP:20260422T234048
CREATED:20230517T022238Z
LAST-MODIFIED:20230517T022238Z
UID:10011026-1687953600-1687960800@tiki.town
SUMMARY:Wednesdays with DJ Marten!
DESCRIPTION:
URL:https://tiki.town/event/wednesdays-with-dj-marten/2023-06-28/
LOCATION:Tiki Town Resort
ATTACH;FMTTYPE=image/png:https://tiki.town/wp-content/uploads/sites/6/2023/05/DJ-Marten.png
END:VEVENT
BEGIN:VEVENT
DTSTART;TZID=America/Los_Angeles:20230627T180000
DTEND;TZID=America/Los_Angeles:20230627T200000
DTSTAMP:20260422T234048
CREATED:20230517T021453Z
LAST-MODIFIED:20230517T021453Z
UID:10010928-1687888800-1687896000@tiki.town
SUMMARY:Tiddy Tuesdays with DJ Boom!
DESCRIPTION:
URL:https://tiki.town/event/tiddy-tuesdays-with-dj-boom/2023-06-27/
LOCATION:Tiki Town Resort
ATTACH;FMTTYPE=image/jpeg:https://tiki.town/wp-content/uploads/sites/6/2023/05/Boomer-Profile-10_8_21.jpg
END:VEVENT
BEGIN:VEVENT
DTSTART;TZID=America/Los_Angeles:20230627T160000
DTEND;TZID=America/Los_Angeles:20230627T180000
DTSTAMP:20260422T234048
CREATED:20230517T021252Z
LAST-MODIFIED:20230714T015001Z
UID:10010862-1687881600-1687888800@tiki.town
SUMMARY:Tuesdays with DJ Hank!
DESCRIPTION:Get your ass to Tiki Town for some DJ Hank-y panky! 😀
URL:https://tiki.town/event/tuesdays-with-dj-henry/2023-06-27/
LOCATION:Tiki Town Resort
ATTACH;FMTTYPE=image/png:https://tiki.town/wp-content/uploads/sites/6/2023/05/DJ-Henry-1.png
END:VEVENT
BEGIN:VEVENT
DTSTART;TZID=America/Los_Angeles:20230627T140000
DTEND;TZID=America/Los_Angeles:20230627T160000
DTSTAMP:20260422T234048
CREATED:20230517T015632Z
LAST-MODIFIED:20230517T020606Z
UID:10010796-1687874400-1687881600@tiki.town
SUMMARY:Tuesdays with DJ Anak!
DESCRIPTION:
URL:https://tiki.town/event/tuesdays-with-dj-anak/2023-06-27/
LOCATION:Tiki Town Resort
ATTACH;FMTTYPE=image/png:https://tiki.town/wp-content/uploads/sites/6/2023/05/DJ-Anak-1.png
END:VEVENT
BEGIN:VEVENT
DTSTART;TZID=America/Los_Angeles:20230627T120000
DTEND;TZID=America/Los_Angeles:20230627T140000
DTSTAMP:20260422T234048
CREATED:20230517T015104Z
LAST-MODIFIED:20230517T020443Z
UID:10010730-1687867200-1687874400@tiki.town
SUMMARY:Tuesday Lunch Party with DJ Ana Lisa!
DESCRIPTION:
URL:https://tiki.town/event/tuesday-lunch-party-with-dj-ana-lisa/2023-06-27/
LOCATION:Tiki Town Resort
ATTACH;FMTTYPE=image/png:https://tiki.town/wp-content/uploads/sites/6/2023/05/DJ-Ana-Lisa.png
END:VEVENT
BEGIN:VEVENT
DTSTART;TZID=America/Los_Angeles:20230626T160000
DTEND;TZID=America/Los_Angeles:20230626T180000
DTSTAMP:20260422T234048
CREATED:20230626T205227Z
LAST-MODIFIED:20230626T205228Z
UID:10012560-1687795200-1687802400@tiki.town
SUMMARY:DJ Kyo Presents Name that Tune\, Summer Edition
DESCRIPTION:Come on down for some Name that Tune\, Summer Edition. \nLet’s kick summer off with rewards for the first person to name the tune\, and the first person to name the artist!!
URL:https://tiki.town/event/dj-kyo-presents-country-super-groups-and-artists-3/
LOCATION:Tiki Town Resort
END:VEVENT
BEGIN:VEVENT
DTSTART;TZID=America/Los_Angeles:20230626T140000
DTEND;TZID=America/Los_Angeles:20230626T160000
DTSTAMP:20260422T234048
CREATED:20230518T003432Z
LAST-MODIFIED:20230518T003432Z
UID:10012500-1687788000-1687795200@tiki.town
SUMMARY:DJ Drewy's Monday Mix
DESCRIPTION:
URL:https://tiki.town/event/dj-drewys-monday-mix/2023-06-26/
LOCATION:Tiki Town Resort
END:VEVENT
BEGIN:VEVENT
DTSTART;TZID=America/Los_Angeles:20230626T120000
DTEND;TZID=America/Los_Angeles:20230626T140000
DTSTAMP:20260422T234048
CREATED:20230518T003259Z
LAST-MODIFIED:20230518T003259Z
UID:10012436-1687780800-1687788000@tiki.town
SUMMARY:DJ Tiboo's Monday Musical Moments
DESCRIPTION:
URL:https://tiki.town/event/dj-tiboos-monday-musical-moments/2023-06-26/
LOCATION:Tiki Town Resort
ATTACH;FMTTYPE=image/png:https://tiki.town/wp-content/uploads/sites/6/2023/05/DJ-Tiboo.png
END:VEVENT
BEGIN:VEVENT
DTSTART;TZID=America/Los_Angeles:20230626T100000
DTEND;TZID=America/Los_Angeles:20230626T120000
DTSTAMP:20260422T234048
CREATED:20230518T003048Z
LAST-MODIFIED:20230518T004650Z
UID:10012372-1687773600-1687780800@tiki.town
SUMMARY:Mondays with DJ Kinsley
DESCRIPTION:
URL:https://tiki.town/event/mondays-with-dj-kinsley/2023-06-26/
LOCATION:Tiki Town Resort
ATTACH;FMTTYPE=image/png:https://tiki.town/wp-content/uploads/sites/6/2023/05/DJ-Kinsley.png
END:VEVENT
END:VCALENDAR