BEGIN:VCALENDAR
VERSION:2.0
PRODID:-//Tiki Town - ECPv6.15.20//NONSGML v1.0//EN
CALSCALE:GREGORIAN
METHOD:PUBLISH
X-WR-CALNAME:Tiki Town
X-ORIGINAL-URL:https://tiki.town
X-WR-CALDESC:Events for Tiki Town
REFRESH-INTERVAL;VALUE=DURATION:PT1H
X-Robots-Tag:noindex
X-PUBLISHED-TTL:PT1H
BEGIN:VTIMEZONE
TZID:America/Los_Angeles
BEGIN:DAYLIGHT
TZOFFSETFROM:-0800
TZOFFSETTO:-0700
TZNAME:PDT
DTSTART:20220313T100000
END:DAYLIGHT
BEGIN:STANDARD
TZOFFSETFROM:-0700
TZOFFSETTO:-0800
TZNAME:PST
DTSTART:20221106T090000
END:STANDARD
BEGIN:DAYLIGHT
TZOFFSETFROM:-0800
TZOFFSETTO:-0700
TZNAME:PDT
DTSTART:20230312T100000
END:DAYLIGHT
BEGIN:STANDARD
TZOFFSETFROM:-0700
TZOFFSETTO:-0800
TZNAME:PST
DTSTART:20231105T090000
END:STANDARD
BEGIN:DAYLIGHT
TZOFFSETFROM:-0800
TZOFFSETTO:-0700
TZNAME:PDT
DTSTART:20240310T100000
END:DAYLIGHT
BEGIN:STANDARD
TZOFFSETFROM:-0700
TZOFFSETTO:-0800
TZNAME:PST
DTSTART:20241103T090000
END:STANDARD
END:VTIMEZONE
BEGIN:VEVENT
DTSTART;TZID=America/Los_Angeles:20230623T100000
DTEND;TZID=America/Los_Angeles:20230623T120000
DTSTAMP:20260423T035915
CREATED:20230517T031105Z
LAST-MODIFIED:20230517T031105Z
UID:10011685-1687514400-1687521600@tiki.town
SUMMARY:Fridays with with DJ Tiboo!
DESCRIPTION:
URL:https://tiki.town/event/fridays-with-with-dj-tiboo/2023-06-23/
LOCATION:Tiki Town Resort
ATTACH;FMTTYPE=image/png:https://tiki.town/wp-content/uploads/sites/6/2023/05/DJ-Tiboo.png
END:VEVENT
BEGIN:VEVENT
DTSTART;TZID=America/Los_Angeles:20230622T120000
DTEND;TZID=America/Los_Angeles:20230622T140000
DTSTAMP:20260423T035915
CREATED:20230517T025331Z
LAST-MODIFIED:20230517T025331Z
UID:10011355-1687435200-1687442400@tiki.town
SUMMARY:Thursday lunchdate with DJ Molly!
DESCRIPTION:
URL:https://tiki.town/event/thursday-lunchdate-with-dj-molly/2023-06-22/
LOCATION:Tiki Town Resort
ATTACH;FMTTYPE=image/png:https://tiki.town/wp-content/uploads/sites/6/2023/05/DJ-Molly_003.png
END:VEVENT
BEGIN:VEVENT
DTSTART;TZID=America/Los_Angeles:20230622T100000
DTEND;TZID=America/Los_Angeles:20230622T120000
DTSTAMP:20260423T035915
CREATED:20230517T024250Z
LAST-MODIFIED:20230517T024250Z
UID:10011289-1687428000-1687435200@tiki.town
SUMMARY:Thursday morning with DJ Kinsley!
DESCRIPTION:
URL:https://tiki.town/event/thursday-morning-with-dj-kinsley/2023-06-22/
LOCATION:Tiki Town Resort
ATTACH;FMTTYPE=image/png:https://tiki.town/wp-content/uploads/sites/6/2023/05/DJ-Kinsley.png
END:VEVENT
BEGIN:VEVENT
DTSTART;TZID=America/Los_Angeles:20230621T160000
DTEND;TZID=America/Los_Angeles:20230621T180000
DTSTAMP:20260423T035915
CREATED:20230517T022741Z
LAST-MODIFIED:20230517T022741Z
UID:10011157-1687363200-1687370400@tiki.town
SUMMARY:Wednesdays with DJ Stars!
DESCRIPTION:
URL:https://tiki.town/event/wednesdays-with-dj-stars/2023-06-21/
LOCATION:Tiki Town Resort
ATTACH;FMTTYPE=image/jpeg:https://tiki.town/wp-content/uploads/sites/6/2023/05/DJ_Stars.jpg
END:VEVENT
BEGIN:VEVENT
DTSTART;TZID=America/Los_Angeles:20230621T140000
DTEND;TZID=America/Los_Angeles:20230621T160000
DTSTAMP:20260423T035915
CREATED:20230517T022528Z
LAST-MODIFIED:20230517T022528Z
UID:10011091-1687356000-1687363200@tiki.town
SUMMARY:Wednesdays with DJ Drewy!
DESCRIPTION:
URL:https://tiki.town/event/wednesdays-with-dj-drewy/2023-06-21/
LOCATION:Tiki Town Resort
END:VEVENT
BEGIN:VEVENT
DTSTART;TZID=America/Los_Angeles:20230621T120000
DTEND;TZID=America/Los_Angeles:20230621T140000
DTSTAMP:20260423T035915
CREATED:20230517T022238Z
LAST-MODIFIED:20230517T022238Z
UID:10011025-1687348800-1687356000@tiki.town
SUMMARY:Wednesdays with DJ Marten!
DESCRIPTION:
URL:https://tiki.town/event/wednesdays-with-dj-marten/2023-06-21/
LOCATION:Tiki Town Resort
ATTACH;FMTTYPE=image/png:https://tiki.town/wp-content/uploads/sites/6/2023/05/DJ-Marten.png
END:VEVENT
BEGIN:VEVENT
DTSTART;TZID=America/Los_Angeles:20230620T180000
DTEND;TZID=America/Los_Angeles:20230620T200000
DTSTAMP:20260423T035915
CREATED:20230517T021453Z
LAST-MODIFIED:20230517T021453Z
UID:10010927-1687284000-1687291200@tiki.town
SUMMARY:Tiddy Tuesdays with DJ Boom!
DESCRIPTION:
URL:https://tiki.town/event/tiddy-tuesdays-with-dj-boom/2023-06-20/
LOCATION:Tiki Town Resort
ATTACH;FMTTYPE=image/jpeg:https://tiki.town/wp-content/uploads/sites/6/2023/05/Boomer-Profile-10_8_21.jpg
END:VEVENT
BEGIN:VEVENT
DTSTART;TZID=America/Los_Angeles:20230620T160000
DTEND;TZID=America/Los_Angeles:20230620T180000
DTSTAMP:20260423T035915
CREATED:20230517T021252Z
LAST-MODIFIED:20230714T015001Z
UID:10010861-1687276800-1687284000@tiki.town
SUMMARY:Tuesdays with DJ Hank!
DESCRIPTION:Get your ass to Tiki Town for some DJ Hank-y panky! 😀
URL:https://tiki.town/event/tuesdays-with-dj-henry/2023-06-20/
LOCATION:Tiki Town Resort
ATTACH;FMTTYPE=image/png:https://tiki.town/wp-content/uploads/sites/6/2023/05/DJ-Henry-1.png
END:VEVENT
BEGIN:VEVENT
DTSTART;TZID=America/Los_Angeles:20230620T140000
DTEND;TZID=America/Los_Angeles:20230620T160000
DTSTAMP:20260423T035915
CREATED:20230517T015632Z
LAST-MODIFIED:20230517T020606Z
UID:10010795-1687269600-1687276800@tiki.town
SUMMARY:Tuesdays with DJ Anak!
DESCRIPTION:
URL:https://tiki.town/event/tuesdays-with-dj-anak/2023-06-20/
LOCATION:Tiki Town Resort
ATTACH;FMTTYPE=image/png:https://tiki.town/wp-content/uploads/sites/6/2023/05/DJ-Anak-1.png
END:VEVENT
BEGIN:VEVENT
DTSTART;TZID=America/Los_Angeles:20230620T120000
DTEND;TZID=America/Los_Angeles:20230620T140000
DTSTAMP:20260423T035915
CREATED:20230517T015104Z
LAST-MODIFIED:20230517T020443Z
UID:10010729-1687262400-1687269600@tiki.town
SUMMARY:Tuesday Lunch Party with DJ Ana Lisa!
DESCRIPTION:
URL:https://tiki.town/event/tuesday-lunch-party-with-dj-ana-lisa/2023-06-20/
LOCATION:Tiki Town Resort
ATTACH;FMTTYPE=image/png:https://tiki.town/wp-content/uploads/sites/6/2023/05/DJ-Ana-Lisa.png
END:VEVENT
BEGIN:VEVENT
DTSTART;TZID=America/Los_Angeles:20230619T160000
DTEND;TZID=America/Los_Angeles:20230619T180000
DTSTAMP:20260423T035915
CREATED:20230518T005638Z
LAST-MODIFIED:20230518T005638Z
UID:10012655-1687190400-1687197600@tiki.town
SUMMARY:DJ Kyo Presents Hits of the 90's and 00's
DESCRIPTION:
URL:https://tiki.town/event/dj-kyo-presents-hits-of-the-90s-and-00s/2023-06-19/
LOCATION:Tiki Town Resort
END:VEVENT
BEGIN:VEVENT
DTSTART;TZID=America/Los_Angeles:20230619T140000
DTEND;TZID=America/Los_Angeles:20230619T160000
DTSTAMP:20260423T035915
CREATED:20230518T003432Z
LAST-MODIFIED:20230518T003432Z
UID:10012499-1687183200-1687190400@tiki.town
SUMMARY:DJ Drewy's Monday Mix
DESCRIPTION:
URL:https://tiki.town/event/dj-drewys-monday-mix/2023-06-19/
LOCATION:Tiki Town Resort
END:VEVENT
BEGIN:VEVENT
DTSTART;TZID=America/Los_Angeles:20230619T120000
DTEND;TZID=America/Los_Angeles:20230619T140000
DTSTAMP:20260423T035915
CREATED:20230518T003259Z
LAST-MODIFIED:20230518T003259Z
UID:10012435-1687176000-1687183200@tiki.town
SUMMARY:DJ Tiboo's Monday Musical Moments
DESCRIPTION:
URL:https://tiki.town/event/dj-tiboos-monday-musical-moments/2023-06-19/
LOCATION:Tiki Town Resort
ATTACH;FMTTYPE=image/png:https://tiki.town/wp-content/uploads/sites/6/2023/05/DJ-Tiboo.png
END:VEVENT
BEGIN:VEVENT
DTSTART;TZID=America/Los_Angeles:20230619T100000
DTEND;TZID=America/Los_Angeles:20230619T120000
DTSTAMP:20260423T035915
CREATED:20230518T003048Z
LAST-MODIFIED:20230518T004650Z
UID:10012371-1687168800-1687176000@tiki.town
SUMMARY:Mondays with DJ Kinsley
DESCRIPTION:
URL:https://tiki.town/event/mondays-with-dj-kinsley/2023-06-19/
LOCATION:Tiki Town Resort
ATTACH;FMTTYPE=image/png:https://tiki.town/wp-content/uploads/sites/6/2023/05/DJ-Kinsley.png
END:VEVENT
BEGIN:VEVENT
DTSTART;TZID=America/Los_Angeles:20230618T170000
DTEND;TZID=America/Los_Angeles:20230618T200000
DTSTAMP:20260423T035915
CREATED:20230518T001837Z
LAST-MODIFIED:20230518T001837Z
UID:10012202-1687107600-1687118400@tiki.town
SUMMARY:Movie Night: The Decline of Western Civilization (1981)
DESCRIPTION:The Los Angeles punk music scene circa 1980 is the focus of this film. With Alice Bag Band\, Black Flag\, Catholic Discipline\, Circle Jerks\, Fear\, Germs\, and X
URL:https://tiki.town/event/movie-night-the-decline-of-western-civilization-1981/
LOCATION:Tiki Town Resort
END:VEVENT
BEGIN:VEVENT
DTSTART;TZID=America/Los_Angeles:20230618T120000
DTEND;TZID=America/Los_Angeles:20230618T130000
DTSTAMP:20260423T035915
CREATED:20230517T234833Z
LAST-MODIFIED:20230517T234929Z
UID:10012103-1687089600-1687093200@tiki.town
SUMMARY:Ringo Robonaught Live at The Sticky Whisker
DESCRIPTION:
URL:https://tiki.town/event/ringo-robonaught-live-at-the-sticky-whisker/2023-06-18/
LOCATION:Tiki Town Resort
ATTACH;FMTTYPE=image/png:https://tiki.town/wp-content/uploads/sites/6/2023/05/Ringo-Robonaught-1.png
END:VEVENT
BEGIN:VEVENT
DTSTART;TZID=America/Los_Angeles:20230618T100000
DTEND;TZID=America/Los_Angeles:20230618T120000
DTSTAMP:20260423T035915
CREATED:20230517T234333Z
LAST-MODIFIED:20230517T234333Z
UID:10012037-1687082400-1687089600@tiki.town
SUMMARY:DJ Tiboo doing some Sunday Tunes!
DESCRIPTION:
URL:https://tiki.town/event/dj-tiboo-doing-some-sunday-tunes/2023-06-18/
LOCATION:Tiki Town Resort
ATTACH;FMTTYPE=image/png:https://tiki.town/wp-content/uploads/sites/6/2023/05/DJ-Tiboo.png
END:VEVENT
BEGIN:VEVENT
DTSTART;TZID=America/Los_Angeles:20230617T100000
DTEND;TZID=America/Los_Angeles:20230617T200000
DTSTAMP:20260423T035915
CREATED:20230518T231121Z
LAST-MODIFIED:20230616T015417Z
UID:10012664-1686996000-1687032000@tiki.town
SUMMARY:Saturday Sex Party @ The Coil in La Cuna
DESCRIPTION:Time to head up to The Coil in La Cuna for some sexy fun times! \n10 AM – 12 Noon: DJ “Hotrod” Henry\n12 Noon – 2 PM: DJ “Wildgirl” Willow\n2 PM – 4 PM: DJ “Speed Demon” Saint\n4 PM – 6 PM: DJ “Supercharge” Stars\n6 PM – 8 PM: DJ “Crashbar” Chloe \n 
URL:https://tiki.town/event/saturday-sex-party-the-coil-in-la-cuna/
LOCATION:Tiki Town Resort
ATTACH;FMTTYPE=image/jpeg:https://tiki.town/wp-content/uploads/sites/6/2023/05/Tiki-Town-SSP.jpg
END:VEVENT
BEGIN:VEVENT
DTSTART;TZID=America/Los_Angeles:20230616T140000
DTEND;TZID=America/Los_Angeles:20230616T160000
DTSTAMP:20260423T035915
CREATED:20230517T232119Z
LAST-MODIFIED:20230517T232119Z
UID:10011882-1686924000-1686931200@tiki.town
SUMMARY:Friday afternoon with DJ Drewy
DESCRIPTION:
URL:https://tiki.town/event/friday-afternoon-with-dj-drewy-2/2023-06-16/
LOCATION:Tiki Town Resort
END:VEVENT
BEGIN:VEVENT
DTSTART;TZID=America/Los_Angeles:20230616T120000
DTEND;TZID=America/Los_Angeles:20230616T140000
DTSTAMP:20260423T035915
CREATED:20230517T030538Z
LAST-MODIFIED:20230517T231513Z
UID:10011783-1686916800-1686924000@tiki.town
SUMMARY:Mid-day Party with DJ Willow
DESCRIPTION:
URL:https://tiki.town/event/mid-day-party-with-dj-willow-2/2023-06-16/
LOCATION:Tiki Town Resort
ATTACH;FMTTYPE=image/png:https://tiki.town/wp-content/uploads/sites/6/2023/05/DJ-Willow.png
END:VEVENT
BEGIN:VEVENT
DTSTART;TZID=America/Los_Angeles:20230616T100000
DTEND;TZID=America/Los_Angeles:20230616T120000
DTSTAMP:20260423T035915
CREATED:20230517T031105Z
LAST-MODIFIED:20230517T031105Z
UID:10011684-1686909600-1686916800@tiki.town
SUMMARY:Fridays with with DJ Tiboo!
DESCRIPTION:
URL:https://tiki.town/event/fridays-with-with-dj-tiboo/2023-06-16/
LOCATION:Tiki Town Resort
ATTACH;FMTTYPE=image/png:https://tiki.town/wp-content/uploads/sites/6/2023/05/DJ-Tiboo.png
END:VEVENT
BEGIN:VEVENT
DTSTART;TZID=America/Los_Angeles:20230615T120000
DTEND;TZID=America/Los_Angeles:20230615T140000
DTSTAMP:20260423T035915
CREATED:20230517T025331Z
LAST-MODIFIED:20230517T025331Z
UID:10011354-1686830400-1686837600@tiki.town
SUMMARY:Thursday lunchdate with DJ Molly!
DESCRIPTION:
URL:https://tiki.town/event/thursday-lunchdate-with-dj-molly/2023-06-15/
LOCATION:Tiki Town Resort
ATTACH;FMTTYPE=image/png:https://tiki.town/wp-content/uploads/sites/6/2023/05/DJ-Molly_003.png
END:VEVENT
BEGIN:VEVENT
DTSTART;TZID=America/Los_Angeles:20230615T100000
DTEND;TZID=America/Los_Angeles:20230615T120000
DTSTAMP:20260423T035915
CREATED:20230517T024250Z
LAST-MODIFIED:20230517T024250Z
UID:10011288-1686823200-1686830400@tiki.town
SUMMARY:Thursday morning with DJ Kinsley!
DESCRIPTION:
URL:https://tiki.town/event/thursday-morning-with-dj-kinsley/2023-06-15/
LOCATION:Tiki Town Resort
ATTACH;FMTTYPE=image/png:https://tiki.town/wp-content/uploads/sites/6/2023/05/DJ-Kinsley.png
END:VEVENT
BEGIN:VEVENT
DTSTART;TZID=America/Los_Angeles:20230614T160000
DTEND;TZID=America/Los_Angeles:20230614T180000
DTSTAMP:20260423T035915
CREATED:20230517T022741Z
LAST-MODIFIED:20230517T022741Z
UID:10011156-1686758400-1686765600@tiki.town
SUMMARY:Wednesdays with DJ Stars!
DESCRIPTION:
URL:https://tiki.town/event/wednesdays-with-dj-stars/2023-06-14/
LOCATION:Tiki Town Resort
ATTACH;FMTTYPE=image/jpeg:https://tiki.town/wp-content/uploads/sites/6/2023/05/DJ_Stars.jpg
END:VEVENT
BEGIN:VEVENT
DTSTART;TZID=America/Los_Angeles:20230614T140000
DTEND;TZID=America/Los_Angeles:20230614T160000
DTSTAMP:20260423T035915
CREATED:20230517T022528Z
LAST-MODIFIED:20230517T022528Z
UID:10011090-1686751200-1686758400@tiki.town
SUMMARY:Wednesdays with DJ Drewy!
DESCRIPTION:
URL:https://tiki.town/event/wednesdays-with-dj-drewy/2023-06-14/
LOCATION:Tiki Town Resort
END:VEVENT
BEGIN:VEVENT
DTSTART;TZID=America/Los_Angeles:20230614T120000
DTEND;TZID=America/Los_Angeles:20230614T140000
DTSTAMP:20260423T035915
CREATED:20230517T022238Z
LAST-MODIFIED:20230517T022238Z
UID:10011024-1686744000-1686751200@tiki.town
SUMMARY:Wednesdays with DJ Marten!
DESCRIPTION:
URL:https://tiki.town/event/wednesdays-with-dj-marten/2023-06-14/
LOCATION:Tiki Town Resort
ATTACH;FMTTYPE=image/png:https://tiki.town/wp-content/uploads/sites/6/2023/05/DJ-Marten.png
END:VEVENT
BEGIN:VEVENT
DTSTART;TZID=America/Los_Angeles:20230613T180000
DTEND;TZID=America/Los_Angeles:20230613T200000
DTSTAMP:20260423T035915
CREATED:20230517T021453Z
LAST-MODIFIED:20230517T021453Z
UID:10010926-1686679200-1686686400@tiki.town
SUMMARY:Tiddy Tuesdays with DJ Boom!
DESCRIPTION:
URL:https://tiki.town/event/tiddy-tuesdays-with-dj-boom/2023-06-13/
LOCATION:Tiki Town Resort
ATTACH;FMTTYPE=image/jpeg:https://tiki.town/wp-content/uploads/sites/6/2023/05/Boomer-Profile-10_8_21.jpg
END:VEVENT
BEGIN:VEVENT
DTSTART;TZID=America/Los_Angeles:20230613T160000
DTEND;TZID=America/Los_Angeles:20230613T180000
DTSTAMP:20260423T035915
CREATED:20230517T021252Z
LAST-MODIFIED:20230714T015001Z
UID:10010860-1686672000-1686679200@tiki.town
SUMMARY:Tuesdays with DJ Hank!
DESCRIPTION:Get your ass to Tiki Town for some DJ Hank-y panky! 😀
URL:https://tiki.town/event/tuesdays-with-dj-henry/2023-06-13/
LOCATION:Tiki Town Resort
ATTACH;FMTTYPE=image/png:https://tiki.town/wp-content/uploads/sites/6/2023/05/DJ-Henry-1.png
END:VEVENT
BEGIN:VEVENT
DTSTART;TZID=America/Los_Angeles:20230613T140000
DTEND;TZID=America/Los_Angeles:20230613T160000
DTSTAMP:20260423T035915
CREATED:20230517T015632Z
LAST-MODIFIED:20230517T020606Z
UID:10010794-1686664800-1686672000@tiki.town
SUMMARY:Tuesdays with DJ Anak!
DESCRIPTION:
URL:https://tiki.town/event/tuesdays-with-dj-anak/2023-06-13/
LOCATION:Tiki Town Resort
ATTACH;FMTTYPE=image/png:https://tiki.town/wp-content/uploads/sites/6/2023/05/DJ-Anak-1.png
END:VEVENT
BEGIN:VEVENT
DTSTART;TZID=America/Los_Angeles:20230613T120000
DTEND;TZID=America/Los_Angeles:20230613T140000
DTSTAMP:20260423T035915
CREATED:20230517T015104Z
LAST-MODIFIED:20230517T020443Z
UID:10010728-1686657600-1686664800@tiki.town
SUMMARY:Tuesday Lunch Party with DJ Ana Lisa!
DESCRIPTION:
URL:https://tiki.town/event/tuesday-lunch-party-with-dj-ana-lisa/2023-06-13/
LOCATION:Tiki Town Resort
ATTACH;FMTTYPE=image/png:https://tiki.town/wp-content/uploads/sites/6/2023/05/DJ-Ana-Lisa.png
END:VEVENT
END:VCALENDAR