BEGIN:VCALENDAR
VERSION:2.0
PRODID:-//Tiki Town - ECPv6.15.20//NONSGML v1.0//EN
CALSCALE:GREGORIAN
METHOD:PUBLISH
X-WR-CALNAME:Tiki Town
X-ORIGINAL-URL:https://tiki.town
X-WR-CALDESC:Events for Tiki Town
REFRESH-INTERVAL;VALUE=DURATION:PT1H
X-Robots-Tag:noindex
X-PUBLISHED-TTL:PT1H
BEGIN:VTIMEZONE
TZID:America/Los_Angeles
BEGIN:DAYLIGHT
TZOFFSETFROM:-0800
TZOFFSETTO:-0700
TZNAME:PDT
DTSTART:20220313T100000
END:DAYLIGHT
BEGIN:STANDARD
TZOFFSETFROM:-0700
TZOFFSETTO:-0800
TZNAME:PST
DTSTART:20221106T090000
END:STANDARD
BEGIN:DAYLIGHT
TZOFFSETFROM:-0800
TZOFFSETTO:-0700
TZNAME:PDT
DTSTART:20230312T100000
END:DAYLIGHT
BEGIN:STANDARD
TZOFFSETFROM:-0700
TZOFFSETTO:-0800
TZNAME:PST
DTSTART:20231105T090000
END:STANDARD
BEGIN:DAYLIGHT
TZOFFSETFROM:-0800
TZOFFSETTO:-0700
TZNAME:PDT
DTSTART:20240310T100000
END:DAYLIGHT
BEGIN:STANDARD
TZOFFSETFROM:-0700
TZOFFSETTO:-0800
TZNAME:PST
DTSTART:20241103T090000
END:STANDARD
END:VTIMEZONE
BEGIN:VEVENT
DTSTART;TZID=America/Los_Angeles:20230606T140000
DTEND;TZID=America/Los_Angeles:20230606T160000
DTSTAMP:20260423T101053
CREATED:20230517T015632Z
LAST-MODIFIED:20230517T020606Z
UID:10010793-1686060000-1686067200@tiki.town
SUMMARY:Tuesdays with DJ Anak!
DESCRIPTION:
URL:https://tiki.town/event/tuesdays-with-dj-anak/2023-06-06/
LOCATION:Tiki Town Resort
ATTACH;FMTTYPE=image/png:https://tiki.town/wp-content/uploads/sites/6/2023/05/DJ-Anak-1.png
END:VEVENT
BEGIN:VEVENT
DTSTART;TZID=America/Los_Angeles:20230606T120000
DTEND;TZID=America/Los_Angeles:20230606T140000
DTSTAMP:20260423T101053
CREATED:20230517T015104Z
LAST-MODIFIED:20230517T020443Z
UID:10010727-1686052800-1686060000@tiki.town
SUMMARY:Tuesday Lunch Party with DJ Ana Lisa!
DESCRIPTION:
URL:https://tiki.town/event/tuesday-lunch-party-with-dj-ana-lisa/2023-06-06/
LOCATION:Tiki Town Resort
ATTACH;FMTTYPE=image/png:https://tiki.town/wp-content/uploads/sites/6/2023/05/DJ-Ana-Lisa.png
END:VEVENT
BEGIN:VEVENT
DTSTART;TZID=America/Los_Angeles:20230605T160000
DTEND;TZID=America/Los_Angeles:20230605T180000
DTSTAMP:20260423T101053
CREATED:20230518T005527Z
LAST-MODIFIED:20230605T182819Z
UID:10012627-1685980800-1685988000@tiki.town
SUMMARY:DJ Kyo Presents Movie Tune Trivia Night
DESCRIPTION:Come on in and test out your movie tune trivia knowledge! \nAwards (L$25) given for up to three things : \n1. Artist \n2. Title of song \n3. If Song and movie do not have the same name\, the movie name.
URL:https://tiki.town/event/dj-kyo-presents-hits-of-the-50s-and-60s/2023-06-05/
LOCATION:Tiki Town Resort
END:VEVENT
BEGIN:VEVENT
DTSTART;TZID=America/Los_Angeles:20230605T140000
DTEND;TZID=America/Los_Angeles:20230605T160000
DTSTAMP:20260423T101053
CREATED:20230518T003432Z
LAST-MODIFIED:20230518T003432Z
UID:10012497-1685973600-1685980800@tiki.town
SUMMARY:DJ Drewy's Monday Mix
DESCRIPTION:
URL:https://tiki.town/event/dj-drewys-monday-mix/2023-06-05/
LOCATION:Tiki Town Resort
END:VEVENT
BEGIN:VEVENT
DTSTART;TZID=America/Los_Angeles:20230605T120000
DTEND;TZID=America/Los_Angeles:20230605T140000
DTSTAMP:20260423T101053
CREATED:20230518T003259Z
LAST-MODIFIED:20230518T003259Z
UID:10012433-1685966400-1685973600@tiki.town
SUMMARY:DJ Tiboo's Monday Musical Moments
DESCRIPTION:
URL:https://tiki.town/event/dj-tiboos-monday-musical-moments/2023-06-05/
LOCATION:Tiki Town Resort
ATTACH;FMTTYPE=image/png:https://tiki.town/wp-content/uploads/sites/6/2023/05/DJ-Tiboo.png
END:VEVENT
BEGIN:VEVENT
DTSTART;TZID=America/Los_Angeles:20230605T100000
DTEND;TZID=America/Los_Angeles:20230605T120000
DTSTAMP:20260423T101053
CREATED:20230518T003048Z
LAST-MODIFIED:20230518T004650Z
UID:10012369-1685959200-1685966400@tiki.town
SUMMARY:Mondays with DJ Kinsley
DESCRIPTION:
URL:https://tiki.town/event/mondays-with-dj-kinsley/2023-06-05/
LOCATION:Tiki Town Resort
ATTACH;FMTTYPE=image/png:https://tiki.town/wp-content/uploads/sites/6/2023/05/DJ-Kinsley.png
END:VEVENT
BEGIN:VEVENT
DTSTART;TZID=America/Los_Angeles:20230604T170000
DTEND;TZID=America/Los_Angeles:20230604T200000
DTSTAMP:20260423T101053
CREATED:20230518T001106Z
LAST-MODIFIED:20230518T001106Z
UID:10012200-1685898000-1685908800@tiki.town
SUMMARY:Movie Night: Life of Brian (1979)
DESCRIPTION:The story of Brian of Nazareth (Graham Chapman)\, born on the same day as Jesus of Nazareth\, who takes a different path in life that leads to the same conclusion. Brian joins a political resistance movement aiming to get the Romans out of Judea. Brian scores a victory of sorts when he manages to paint political slogans on an entire wall in the city of Jerusalem. The movement is not very effective but somehow Brian becomes a prophet and gathers his own following. His fate is sealed however and he lives a very short life.
URL:https://tiki.town/event/movie-night-life-of-brian-1979/
LOCATION:Tiki Town Resort
END:VEVENT
BEGIN:VEVENT
DTSTART;TZID=America/Los_Angeles:20230604T120000
DTEND;TZID=America/Los_Angeles:20230604T130000
DTSTAMP:20260423T101053
CREATED:20230517T234833Z
LAST-MODIFIED:20230517T234929Z
UID:10012101-1685880000-1685883600@tiki.town
SUMMARY:Ringo Robonaught Live at The Sticky Whisker
DESCRIPTION:
URL:https://tiki.town/event/ringo-robonaught-live-at-the-sticky-whisker/2023-06-04/
LOCATION:Tiki Town Resort
ATTACH;FMTTYPE=image/png:https://tiki.town/wp-content/uploads/sites/6/2023/05/Ringo-Robonaught-1.png
END:VEVENT
BEGIN:VEVENT
DTSTART;TZID=America/Los_Angeles:20230604T100000
DTEND;TZID=America/Los_Angeles:20230604T120000
DTSTAMP:20260423T101053
CREATED:20230517T234333Z
LAST-MODIFIED:20230517T234333Z
UID:10012035-1685872800-1685880000@tiki.town
SUMMARY:DJ Tiboo doing some Sunday Tunes!
DESCRIPTION:
URL:https://tiki.town/event/dj-tiboo-doing-some-sunday-tunes/2023-06-04/
LOCATION:Tiki Town Resort
ATTACH;FMTTYPE=image/png:https://tiki.town/wp-content/uploads/sites/6/2023/05/DJ-Tiboo.png
END:VEVENT
BEGIN:VEVENT
DTSTART;TZID=America/Los_Angeles:20230603T100000
DTEND;TZID=America/Los_Angeles:20230603T200000
DTSTAMP:20260423T101053
CREATED:20230518T230556Z
LAST-MODIFIED:20230603T030628Z
UID:10012663-1685786400-1685822400@tiki.town
SUMMARY:Saturday Sex Party @ the Planetarium
DESCRIPTION:Time to search the Tiki Town Galaxy for your star filled destiny. \n10 AM – 12 Noon: DJ Sen\n12 Noon – 2 PM: DJ Willow\n2 PM – 4 PM: DJ Anak\n4 PM – 6 PM: DJ Friar Don\n6 PM – 8 PM: DJ Chloe \nLooking forward to seeing all the moons.. and the shooting stars!
URL:https://tiki.town/event/saturday-sex-party-the-planetarium/
LOCATION:Tiki Town Resort
ATTACH;FMTTYPE=image/jpeg:https://tiki.town/wp-content/uploads/sites/6/2023/05/Tiki-Town-SSP.jpg
END:VEVENT
BEGIN:VEVENT
DTSTART;TZID=America/Los_Angeles:20230602T140000
DTEND;TZID=America/Los_Angeles:20230602T160000
DTSTAMP:20260423T101053
CREATED:20230517T232119Z
LAST-MODIFIED:20230517T232119Z
UID:10011880-1685714400-1685721600@tiki.town
SUMMARY:Friday afternoon with DJ Drewy
DESCRIPTION:
URL:https://tiki.town/event/friday-afternoon-with-dj-drewy-2/2023-06-02/
LOCATION:Tiki Town Resort
END:VEVENT
BEGIN:VEVENT
DTSTART;TZID=America/Los_Angeles:20230602T120000
DTEND;TZID=America/Los_Angeles:20230602T140000
DTSTAMP:20260423T101053
CREATED:20230517T030538Z
LAST-MODIFIED:20230517T231513Z
UID:10011781-1685707200-1685714400@tiki.town
SUMMARY:Mid-day Party with DJ Willow
DESCRIPTION:
URL:https://tiki.town/event/mid-day-party-with-dj-willow-2/2023-06-02/
LOCATION:Tiki Town Resort
ATTACH;FMTTYPE=image/png:https://tiki.town/wp-content/uploads/sites/6/2023/05/DJ-Willow.png
END:VEVENT
BEGIN:VEVENT
DTSTART;TZID=America/Los_Angeles:20230602T100000
DTEND;TZID=America/Los_Angeles:20230602T120000
DTSTAMP:20260423T101053
CREATED:20230517T031105Z
LAST-MODIFIED:20230517T031105Z
UID:10011682-1685700000-1685707200@tiki.town
SUMMARY:Fridays with with DJ Tiboo!
DESCRIPTION:
URL:https://tiki.town/event/fridays-with-with-dj-tiboo/2023-06-02/
LOCATION:Tiki Town Resort
ATTACH;FMTTYPE=image/png:https://tiki.town/wp-content/uploads/sites/6/2023/05/DJ-Tiboo.png
END:VEVENT
BEGIN:VEVENT
DTSTART;TZID=America/Los_Angeles:20230601T120000
DTEND;TZID=America/Los_Angeles:20230601T140000
DTSTAMP:20260423T101053
CREATED:20230517T025331Z
LAST-MODIFIED:20230517T025331Z
UID:10011352-1685620800-1685628000@tiki.town
SUMMARY:Thursday lunchdate with DJ Molly!
DESCRIPTION:
URL:https://tiki.town/event/thursday-lunchdate-with-dj-molly/2023-06-01/
LOCATION:Tiki Town Resort
ATTACH;FMTTYPE=image/png:https://tiki.town/wp-content/uploads/sites/6/2023/05/DJ-Molly_003.png
END:VEVENT
BEGIN:VEVENT
DTSTART;TZID=America/Los_Angeles:20230601T100000
DTEND;TZID=America/Los_Angeles:20230601T120000
DTSTAMP:20260423T101053
CREATED:20230517T024250Z
LAST-MODIFIED:20230517T024250Z
UID:10011286-1685613600-1685620800@tiki.town
SUMMARY:Thursday morning with DJ Kinsley!
DESCRIPTION:
URL:https://tiki.town/event/thursday-morning-with-dj-kinsley/2023-06-01/
LOCATION:Tiki Town Resort
ATTACH;FMTTYPE=image/png:https://tiki.town/wp-content/uploads/sites/6/2023/05/DJ-Kinsley.png
END:VEVENT
BEGIN:VEVENT
DTSTART;TZID=America/Los_Angeles:20230531T160000
DTEND;TZID=America/Los_Angeles:20230531T180000
DTSTAMP:20260423T101053
CREATED:20230517T022741Z
LAST-MODIFIED:20230517T022741Z
UID:10011154-1685548800-1685556000@tiki.town
SUMMARY:Wednesdays with DJ Stars!
DESCRIPTION:
URL:https://tiki.town/event/wednesdays-with-dj-stars/2023-05-31/
LOCATION:Tiki Town Resort
ATTACH;FMTTYPE=image/jpeg:https://tiki.town/wp-content/uploads/sites/6/2023/05/DJ_Stars.jpg
END:VEVENT
BEGIN:VEVENT
DTSTART;TZID=America/Los_Angeles:20230531T140000
DTEND;TZID=America/Los_Angeles:20230531T160000
DTSTAMP:20260423T101053
CREATED:20230517T022528Z
LAST-MODIFIED:20230517T022528Z
UID:10011088-1685541600-1685548800@tiki.town
SUMMARY:Wednesdays with DJ Drewy!
DESCRIPTION:
URL:https://tiki.town/event/wednesdays-with-dj-drewy/2023-05-31/
LOCATION:Tiki Town Resort
END:VEVENT
BEGIN:VEVENT
DTSTART;TZID=America/Los_Angeles:20230531T120000
DTEND;TZID=America/Los_Angeles:20230531T140000
DTSTAMP:20260423T101053
CREATED:20230517T022238Z
LAST-MODIFIED:20230517T022238Z
UID:10011022-1685534400-1685541600@tiki.town
SUMMARY:Wednesdays with DJ Marten!
DESCRIPTION:
URL:https://tiki.town/event/wednesdays-with-dj-marten/2023-05-31/
LOCATION:Tiki Town Resort
ATTACH;FMTTYPE=image/png:https://tiki.town/wp-content/uploads/sites/6/2023/05/DJ-Marten.png
END:VEVENT
BEGIN:VEVENT
DTSTART;TZID=America/Los_Angeles:20230530T180000
DTEND;TZID=America/Los_Angeles:20230530T200000
DTSTAMP:20260423T101053
CREATED:20230517T021453Z
LAST-MODIFIED:20230517T021453Z
UID:10010924-1685469600-1685476800@tiki.town
SUMMARY:Tiddy Tuesdays with DJ Boom!
DESCRIPTION:
URL:https://tiki.town/event/tiddy-tuesdays-with-dj-boom/2023-05-30/
LOCATION:Tiki Town Resort
ATTACH;FMTTYPE=image/jpeg:https://tiki.town/wp-content/uploads/sites/6/2023/05/Boomer-Profile-10_8_21.jpg
END:VEVENT
BEGIN:VEVENT
DTSTART;TZID=America/Los_Angeles:20230530T160000
DTEND;TZID=America/Los_Angeles:20230530T180000
DTSTAMP:20260423T101053
CREATED:20230517T021252Z
LAST-MODIFIED:20230714T015001Z
UID:10010858-1685462400-1685469600@tiki.town
SUMMARY:Tuesdays with DJ Hank!
DESCRIPTION:Get your ass to Tiki Town for some DJ Hank-y panky! 😀
URL:https://tiki.town/event/tuesdays-with-dj-henry/2023-05-30/
LOCATION:Tiki Town Resort
ATTACH;FMTTYPE=image/png:https://tiki.town/wp-content/uploads/sites/6/2023/05/DJ-Henry-1.png
END:VEVENT
BEGIN:VEVENT
DTSTART;TZID=America/Los_Angeles:20230530T140000
DTEND;TZID=America/Los_Angeles:20230530T160000
DTSTAMP:20260423T101053
CREATED:20230517T015632Z
LAST-MODIFIED:20230517T020606Z
UID:10010792-1685455200-1685462400@tiki.town
SUMMARY:Tuesdays with DJ Anak!
DESCRIPTION:
URL:https://tiki.town/event/tuesdays-with-dj-anak/2023-05-30/
LOCATION:Tiki Town Resort
ATTACH;FMTTYPE=image/png:https://tiki.town/wp-content/uploads/sites/6/2023/05/DJ-Anak-1.png
END:VEVENT
BEGIN:VEVENT
DTSTART;TZID=America/Los_Angeles:20230530T120000
DTEND;TZID=America/Los_Angeles:20230530T140000
DTSTAMP:20260423T101053
CREATED:20230517T015104Z
LAST-MODIFIED:20230517T020443Z
UID:10010726-1685448000-1685455200@tiki.town
SUMMARY:Tuesday Lunch Party with DJ Ana Lisa!
DESCRIPTION:
URL:https://tiki.town/event/tuesday-lunch-party-with-dj-ana-lisa/2023-05-30/
LOCATION:Tiki Town Resort
ATTACH;FMTTYPE=image/png:https://tiki.town/wp-content/uploads/sites/6/2023/05/DJ-Ana-Lisa.png
END:VEVENT
BEGIN:VEVENT
DTSTART;TZID=America/Los_Angeles:20230529T140000
DTEND;TZID=America/Los_Angeles:20230529T160000
DTSTAMP:20260423T101053
CREATED:20230518T003432Z
LAST-MODIFIED:20230518T003432Z
UID:10012496-1685368800-1685376000@tiki.town
SUMMARY:DJ Drewy's Monday Mix
DESCRIPTION:
URL:https://tiki.town/event/dj-drewys-monday-mix/2023-05-29/
LOCATION:Tiki Town Resort
END:VEVENT
BEGIN:VEVENT
DTSTART;TZID=America/Los_Angeles:20230529T120000
DTEND;TZID=America/Los_Angeles:20230529T140000
DTSTAMP:20260423T101053
CREATED:20230518T003259Z
LAST-MODIFIED:20230518T003259Z
UID:10012432-1685361600-1685368800@tiki.town
SUMMARY:DJ Tiboo's Monday Musical Moments
DESCRIPTION:
URL:https://tiki.town/event/dj-tiboos-monday-musical-moments/2023-05-29/
LOCATION:Tiki Town Resort
ATTACH;FMTTYPE=image/png:https://tiki.town/wp-content/uploads/sites/6/2023/05/DJ-Tiboo.png
END:VEVENT
BEGIN:VEVENT
DTSTART;TZID=America/Los_Angeles:20230529T100000
DTEND;TZID=America/Los_Angeles:20230529T120000
DTSTAMP:20260423T101053
CREATED:20230518T003048Z
LAST-MODIFIED:20230518T004650Z
UID:10012368-1685354400-1685361600@tiki.town
SUMMARY:Mondays with DJ Kinsley
DESCRIPTION:
URL:https://tiki.town/event/mondays-with-dj-kinsley/2023-05-29/
LOCATION:Tiki Town Resort
ATTACH;FMTTYPE=image/png:https://tiki.town/wp-content/uploads/sites/6/2023/05/DJ-Kinsley.png
END:VEVENT
BEGIN:VEVENT
DTSTART;TZID=America/Los_Angeles:20230528T170000
DTEND;TZID=America/Los_Angeles:20230528T200000
DTSTAMP:20260423T101053
CREATED:20230518T000559Z
LAST-MODIFIED:20230518T000559Z
UID:10012199-1685293200-1685304000@tiki.town
SUMMARY:Movie Night: The Matrix Reloaded (2003)
DESCRIPTION:In this second adventure\, Neo and the rebel leaders estimate that they have 72 hours until Zion falls under siege to the Machine Army. Only a matter of hours separates the last human enclave on Earth from 250\,000 Sentinels programmed to destroy mankind. But the citizens of Zion\, emboldened by Morpheus conviction that the One will fulfill the Oracles Prophecy and end the war with the Machines\, rest all manner of hope and expectation on Neo\, who finds himself stalled by disturbing visions as he searches for a course of action
URL:https://tiki.town/event/movie-night-the-matrix-reloaded-2003/
LOCATION:Tiki Town Resort
END:VEVENT
BEGIN:VEVENT
DTSTART;TZID=America/Los_Angeles:20230528T120000
DTEND;TZID=America/Los_Angeles:20230528T130000
DTSTAMP:20260423T101053
CREATED:20230517T234833Z
LAST-MODIFIED:20230517T234929Z
UID:10012100-1685275200-1685278800@tiki.town
SUMMARY:Ringo Robonaught Live at The Sticky Whisker
DESCRIPTION:
URL:https://tiki.town/event/ringo-robonaught-live-at-the-sticky-whisker/2023-05-28/
LOCATION:Tiki Town Resort
ATTACH;FMTTYPE=image/png:https://tiki.town/wp-content/uploads/sites/6/2023/05/Ringo-Robonaught-1.png
END:VEVENT
BEGIN:VEVENT
DTSTART;TZID=America/Los_Angeles:20230528T100000
DTEND;TZID=America/Los_Angeles:20230528T120000
DTSTAMP:20260423T101053
CREATED:20230517T234333Z
LAST-MODIFIED:20230517T234333Z
UID:10012034-1685268000-1685275200@tiki.town
SUMMARY:DJ Tiboo doing some Sunday Tunes!
DESCRIPTION:
URL:https://tiki.town/event/dj-tiboo-doing-some-sunday-tunes/2023-05-28/
LOCATION:Tiki Town Resort
ATTACH;FMTTYPE=image/png:https://tiki.town/wp-content/uploads/sites/6/2023/05/DJ-Tiboo.png
END:VEVENT
BEGIN:VEVENT
DTSTART;TZID=America/Los_Angeles:20230527T140000
DTEND;TZID=America/Los_Angeles:20230527T180000
DTSTAMP:20260423T101053
CREATED:20230518T204656Z
LAST-MODIFIED:20230526T042833Z
UID:10012662-1685196000-1685210400@tiki.town
SUMMARY:Saturday House Party at Henry's!!  2pm - 6 pm
DESCRIPTION:Henry is opening up his place for some Tiki Town House Partying!! \nDJ Anak: 2-4pm \nDJ Saint: 4-6pm
URL:https://tiki.town/event/saturday-house-party-at-henrys-2pm-6-pm/
LOCATION:Tiki Town Resort
END:VEVENT
BEGIN:VEVENT
DTSTART;TZID=America/Los_Angeles:20230526T140000
DTEND;TZID=America/Los_Angeles:20230526T160000
DTSTAMP:20260423T101053
CREATED:20230517T232119Z
LAST-MODIFIED:20230517T232119Z
UID:10011879-1685109600-1685116800@tiki.town
SUMMARY:Friday afternoon with DJ Drewy
DESCRIPTION:
URL:https://tiki.town/event/friday-afternoon-with-dj-drewy-2/2023-05-26/
LOCATION:Tiki Town Resort
END:VEVENT
END:VCALENDAR