BEGIN:VCALENDAR
VERSION:2.0
PRODID:-//Tiki Town - ECPv6.15.20//NONSGML v1.0//EN
CALSCALE:GREGORIAN
METHOD:PUBLISH
X-ORIGINAL-URL:https://tiki.town
X-WR-CALDESC:Events for Tiki Town
REFRESH-INTERVAL;VALUE=DURATION:PT1H
X-Robots-Tag:noindex
X-PUBLISHED-TTL:PT1H
BEGIN:VTIMEZONE
TZID:America/Los_Angeles
BEGIN:DAYLIGHT
TZOFFSETFROM:-0800
TZOFFSETTO:-0700
TZNAME:PDT
DTSTART:20220313T100000
END:DAYLIGHT
BEGIN:STANDARD
TZOFFSETFROM:-0700
TZOFFSETTO:-0800
TZNAME:PST
DTSTART:20221106T090000
END:STANDARD
BEGIN:DAYLIGHT
TZOFFSETFROM:-0800
TZOFFSETTO:-0700
TZNAME:PDT
DTSTART:20230312T100000
END:DAYLIGHT
BEGIN:STANDARD
TZOFFSETFROM:-0700
TZOFFSETTO:-0800
TZNAME:PST
DTSTART:20231105T090000
END:STANDARD
BEGIN:DAYLIGHT
TZOFFSETFROM:-0800
TZOFFSETTO:-0700
TZNAME:PDT
DTSTART:20240310T100000
END:DAYLIGHT
BEGIN:STANDARD
TZOFFSETFROM:-0700
TZOFFSETTO:-0800
TZNAME:PST
DTSTART:20241103T090000
END:STANDARD
END:VTIMEZONE
BEGIN:VEVENT
DTSTART;TZID=America/Los_Angeles:20230516T140000
DTEND;TZID=America/Los_Angeles:20230516T160000
DTSTAMP:20260423T174159
CREATED:20230517T015632Z
LAST-MODIFIED:20230517T020606Z
UID:10010790-1684245600-1684252800@tiki.town
SUMMARY:Tuesdays with DJ Anak!
DESCRIPTION:
URL:https://tiki.town/event/tuesdays-with-dj-anak/2023-05-16/
LOCATION:Tiki Town Resort
ATTACH;FMTTYPE=image/png:https://tiki.town/wp-content/uploads/sites/6/2023/05/DJ-Anak-1.png
END:VEVENT
BEGIN:VEVENT
DTSTART;TZID=America/Los_Angeles:20230516T120000
DTEND;TZID=America/Los_Angeles:20230516T140000
DTSTAMP:20260423T174159
CREATED:20230517T015104Z
LAST-MODIFIED:20230517T020443Z
UID:10010724-1684238400-1684245600@tiki.town
SUMMARY:Tuesday Lunch Party with DJ Ana Lisa!
DESCRIPTION:
URL:https://tiki.town/event/tuesday-lunch-party-with-dj-ana-lisa/2023-05-16/
LOCATION:Tiki Town Resort
ATTACH;FMTTYPE=image/png:https://tiki.town/wp-content/uploads/sites/6/2023/05/DJ-Ana-Lisa.png
END:VEVENT
BEGIN:VEVENT
DTSTART;TZID=America/Los_Angeles:20230514T130000
DTEND;TZID=America/Los_Angeles:20230514T150000
DTSTAMP:20260423T174159
CREATED:20220523T024506Z
LAST-MODIFIED:20220613T150008Z
UID:10010155-1684069200-1684076400@tiki.town
SUMMARY:Sunday Afternoon with DJ Gramps
DESCRIPTION:
URL:https://tiki.town/event/sunday-afternoon-with-dj-matthew/2023-05-14/
LOCATION:Tiki Town Resort
END:VEVENT
BEGIN:VEVENT
DTSTART;TZID=America/Los_Angeles:20230512T150000
DTEND;TZID=America/Los_Angeles:20230512T170000
DTSTAMP:20260423T174159
CREATED:20220613T150301Z
LAST-MODIFIED:20220613T150301Z
UID:10010437-1683903600-1683910800@tiki.town
SUMMARY:Friday Weekend Kick-off with DJ Gramps
DESCRIPTION:
URL:https://tiki.town/event/friday-weekend-kick-off-with-dj-gramps/2023-05-12/
LOCATION:Tiki Town Resort
END:VEVENT
BEGIN:VEVENT
DTSTART;TZID=America/Los_Angeles:20230512T110000
DTEND;TZID=America/Los_Angeles:20230512T130000
DTSTAMP:20260423T174159
CREATED:20220523T024135Z
LAST-MODIFIED:20220523T024135Z
UID:10010210-1683889200-1683896400@tiki.town
SUMMARY:Mid-day Party with DJ Willow
DESCRIPTION:
URL:https://tiki.town/event/mid-day-party-with-dj-willow/2023-05-12/
LOCATION:Tiki Town Resort
END:VEVENT
BEGIN:VEVENT
DTSTART;TZID=America/Los_Angeles:20230507T130000
DTEND;TZID=America/Los_Angeles:20230507T150000
DTSTAMP:20260423T174159
CREATED:20220523T024506Z
LAST-MODIFIED:20220613T150008Z
UID:10010154-1683464400-1683471600@tiki.town
SUMMARY:Sunday Afternoon with DJ Gramps
DESCRIPTION:
URL:https://tiki.town/event/sunday-afternoon-with-dj-matthew/2023-05-07/
LOCATION:Tiki Town Resort
END:VEVENT
BEGIN:VEVENT
DTSTART;TZID=America/Los_Angeles:20230505T150000
DTEND;TZID=America/Los_Angeles:20230505T170000
DTSTAMP:20260423T174159
CREATED:20220613T150301Z
LAST-MODIFIED:20220613T150301Z
UID:10010436-1683298800-1683306000@tiki.town
SUMMARY:Friday Weekend Kick-off with DJ Gramps
DESCRIPTION:
URL:https://tiki.town/event/friday-weekend-kick-off-with-dj-gramps/2023-05-05/
LOCATION:Tiki Town Resort
END:VEVENT
BEGIN:VEVENT
DTSTART;TZID=America/Los_Angeles:20230505T110000
DTEND;TZID=America/Los_Angeles:20230505T130000
DTSTAMP:20260423T174159
CREATED:20220523T024135Z
LAST-MODIFIED:20220523T024135Z
UID:10010209-1683284400-1683291600@tiki.town
SUMMARY:Mid-day Party with DJ Willow
DESCRIPTION:
URL:https://tiki.town/event/mid-day-party-with-dj-willow/2023-05-05/
LOCATION:Tiki Town Resort
END:VEVENT
BEGIN:VEVENT
DTSTART;TZID=America/Los_Angeles:20230430T130000
DTEND;TZID=America/Los_Angeles:20230430T150000
DTSTAMP:20260423T174159
CREATED:20220523T024506Z
LAST-MODIFIED:20220613T150008Z
UID:10010153-1682859600-1682866800@tiki.town
SUMMARY:Sunday Afternoon with DJ Gramps
DESCRIPTION:
URL:https://tiki.town/event/sunday-afternoon-with-dj-matthew/2023-04-30/
LOCATION:Tiki Town Resort
END:VEVENT
BEGIN:VEVENT
DTSTART;TZID=America/Los_Angeles:20230428T150000
DTEND;TZID=America/Los_Angeles:20230428T170000
DTSTAMP:20260423T174159
CREATED:20220613T150301Z
LAST-MODIFIED:20220613T150301Z
UID:10010435-1682694000-1682701200@tiki.town
SUMMARY:Friday Weekend Kick-off with DJ Gramps
DESCRIPTION:
URL:https://tiki.town/event/friday-weekend-kick-off-with-dj-gramps/2023-04-28/
LOCATION:Tiki Town Resort
END:VEVENT
BEGIN:VEVENT
DTSTART;TZID=America/Los_Angeles:20230428T110000
DTEND;TZID=America/Los_Angeles:20230428T130000
DTSTAMP:20260423T174159
CREATED:20220523T024135Z
LAST-MODIFIED:20220523T024135Z
UID:10010208-1682679600-1682686800@tiki.town
SUMMARY:Mid-day Party with DJ Willow
DESCRIPTION:
URL:https://tiki.town/event/mid-day-party-with-dj-willow/2023-04-28/
LOCATION:Tiki Town Resort
END:VEVENT
BEGIN:VEVENT
DTSTART;TZID=America/Los_Angeles:20230423T130000
DTEND;TZID=America/Los_Angeles:20230423T150000
DTSTAMP:20260423T174159
CREATED:20220523T024506Z
LAST-MODIFIED:20220613T150008Z
UID:10010152-1682254800-1682262000@tiki.town
SUMMARY:Sunday Afternoon with DJ Gramps
DESCRIPTION:
URL:https://tiki.town/event/sunday-afternoon-with-dj-matthew/2023-04-23/
LOCATION:Tiki Town Resort
END:VEVENT
BEGIN:VEVENT
DTSTART;TZID=America/Los_Angeles:20230421T150000
DTEND;TZID=America/Los_Angeles:20230421T170000
DTSTAMP:20260423T174159
CREATED:20220613T150301Z
LAST-MODIFIED:20220613T150301Z
UID:10010434-1682089200-1682096400@tiki.town
SUMMARY:Friday Weekend Kick-off with DJ Gramps
DESCRIPTION:
URL:https://tiki.town/event/friday-weekend-kick-off-with-dj-gramps/2023-04-21/
LOCATION:Tiki Town Resort
END:VEVENT
BEGIN:VEVENT
DTSTART;TZID=America/Los_Angeles:20230421T110000
DTEND;TZID=America/Los_Angeles:20230421T130000
DTSTAMP:20260423T174159
CREATED:20220523T024135Z
LAST-MODIFIED:20220523T024135Z
UID:10010207-1682074800-1682082000@tiki.town
SUMMARY:Mid-day Party with DJ Willow
DESCRIPTION:
URL:https://tiki.town/event/mid-day-party-with-dj-willow/2023-04-21/
LOCATION:Tiki Town Resort
END:VEVENT
BEGIN:VEVENT
DTSTART;TZID=America/Los_Angeles:20230416T130000
DTEND;TZID=America/Los_Angeles:20230416T150000
DTSTAMP:20260423T174159
CREATED:20220523T024506Z
LAST-MODIFIED:20220613T150008Z
UID:10010151-1681650000-1681657200@tiki.town
SUMMARY:Sunday Afternoon with DJ Gramps
DESCRIPTION:
URL:https://tiki.town/event/sunday-afternoon-with-dj-matthew/2023-04-16/
LOCATION:Tiki Town Resort
END:VEVENT
BEGIN:VEVENT
DTSTART;TZID=America/Los_Angeles:20230414T150000
DTEND;TZID=America/Los_Angeles:20230414T170000
DTSTAMP:20260423T174159
CREATED:20220613T150301Z
LAST-MODIFIED:20220613T150301Z
UID:10010433-1681484400-1681491600@tiki.town
SUMMARY:Friday Weekend Kick-off with DJ Gramps
DESCRIPTION:
URL:https://tiki.town/event/friday-weekend-kick-off-with-dj-gramps/2023-04-14/
LOCATION:Tiki Town Resort
END:VEVENT
BEGIN:VEVENT
DTSTART;TZID=America/Los_Angeles:20230414T110000
DTEND;TZID=America/Los_Angeles:20230414T130000
DTSTAMP:20260423T174159
CREATED:20220523T024135Z
LAST-MODIFIED:20220523T024135Z
UID:10010206-1681470000-1681477200@tiki.town
SUMMARY:Mid-day Party with DJ Willow
DESCRIPTION:
URL:https://tiki.town/event/mid-day-party-with-dj-willow/2023-04-14/
LOCATION:Tiki Town Resort
END:VEVENT
BEGIN:VEVENT
DTSTART;TZID=America/Los_Angeles:20230409T130000
DTEND;TZID=America/Los_Angeles:20230409T150000
DTSTAMP:20260423T174159
CREATED:20220523T024506Z
LAST-MODIFIED:20220613T150008Z
UID:10010150-1681045200-1681052400@tiki.town
SUMMARY:Sunday Afternoon with DJ Gramps
DESCRIPTION:
URL:https://tiki.town/event/sunday-afternoon-with-dj-matthew/2023-04-09/
LOCATION:Tiki Town Resort
END:VEVENT
BEGIN:VEVENT
DTSTART;TZID=America/Los_Angeles:20230407T150000
DTEND;TZID=America/Los_Angeles:20230407T170000
DTSTAMP:20260423T174159
CREATED:20220613T150301Z
LAST-MODIFIED:20220613T150301Z
UID:10010432-1680879600-1680886800@tiki.town
SUMMARY:Friday Weekend Kick-off with DJ Gramps
DESCRIPTION:
URL:https://tiki.town/event/friday-weekend-kick-off-with-dj-gramps/2023-04-07/
LOCATION:Tiki Town Resort
END:VEVENT
BEGIN:VEVENT
DTSTART;TZID=America/Los_Angeles:20230407T110000
DTEND;TZID=America/Los_Angeles:20230407T130000
DTSTAMP:20260423T174159
CREATED:20220523T024135Z
LAST-MODIFIED:20220523T024135Z
UID:10010205-1680865200-1680872400@tiki.town
SUMMARY:Mid-day Party with DJ Willow
DESCRIPTION:
URL:https://tiki.town/event/mid-day-party-with-dj-willow/2023-04-07/
LOCATION:Tiki Town Resort
END:VEVENT
BEGIN:VEVENT
DTSTART;TZID=America/Los_Angeles:20230402T130000
DTEND;TZID=America/Los_Angeles:20230402T150000
DTSTAMP:20260423T174159
CREATED:20220523T024506Z
LAST-MODIFIED:20220613T150008Z
UID:10010149-1680440400-1680447600@tiki.town
SUMMARY:Sunday Afternoon with DJ Gramps
DESCRIPTION:
URL:https://tiki.town/event/sunday-afternoon-with-dj-matthew/2023-04-02/
LOCATION:Tiki Town Resort
END:VEVENT
BEGIN:VEVENT
DTSTART;TZID=America/Los_Angeles:20230331T150000
DTEND;TZID=America/Los_Angeles:20230331T170000
DTSTAMP:20260423T174159
CREATED:20220613T150301Z
LAST-MODIFIED:20220613T150301Z
UID:10010431-1680274800-1680282000@tiki.town
SUMMARY:Friday Weekend Kick-off with DJ Gramps
DESCRIPTION:
URL:https://tiki.town/event/friday-weekend-kick-off-with-dj-gramps/2023-03-31/
LOCATION:Tiki Town Resort
END:VEVENT
BEGIN:VEVENT
DTSTART;TZID=America/Los_Angeles:20230331T110000
DTEND;TZID=America/Los_Angeles:20230331T130000
DTSTAMP:20260423T174159
CREATED:20220523T024135Z
LAST-MODIFIED:20220523T024135Z
UID:10010204-1680260400-1680267600@tiki.town
SUMMARY:Mid-day Party with DJ Willow
DESCRIPTION:
URL:https://tiki.town/event/mid-day-party-with-dj-willow/2023-03-31/
LOCATION:Tiki Town Resort
END:VEVENT
BEGIN:VEVENT
DTSTART;TZID=America/Los_Angeles:20230326T130000
DTEND;TZID=America/Los_Angeles:20230326T150000
DTSTAMP:20260423T174159
CREATED:20220523T024506Z
LAST-MODIFIED:20220613T150008Z
UID:10010148-1679835600-1679842800@tiki.town
SUMMARY:Sunday Afternoon with DJ Gramps
DESCRIPTION:
URL:https://tiki.town/event/sunday-afternoon-with-dj-matthew/2023-03-26/
LOCATION:Tiki Town Resort
END:VEVENT
BEGIN:VEVENT
DTSTART;TZID=America/Los_Angeles:20230324T150000
DTEND;TZID=America/Los_Angeles:20230324T170000
DTSTAMP:20260423T174159
CREATED:20220613T150301Z
LAST-MODIFIED:20220613T150301Z
UID:10010430-1679670000-1679677200@tiki.town
SUMMARY:Friday Weekend Kick-off with DJ Gramps
DESCRIPTION:
URL:https://tiki.town/event/friday-weekend-kick-off-with-dj-gramps/2023-03-24/
LOCATION:Tiki Town Resort
END:VEVENT
BEGIN:VEVENT
DTSTART;TZID=America/Los_Angeles:20230324T110000
DTEND;TZID=America/Los_Angeles:20230324T130000
DTSTAMP:20260423T174159
CREATED:20220523T024135Z
LAST-MODIFIED:20220523T024135Z
UID:10010203-1679655600-1679662800@tiki.town
SUMMARY:Mid-day Party with DJ Willow
DESCRIPTION:
URL:https://tiki.town/event/mid-day-party-with-dj-willow/2023-03-24/
LOCATION:Tiki Town Resort
END:VEVENT
BEGIN:VEVENT
DTSTART;TZID=America/Los_Angeles:20230319T130000
DTEND;TZID=America/Los_Angeles:20230319T150000
DTSTAMP:20260423T174159
CREATED:20220523T024506Z
LAST-MODIFIED:20220613T150008Z
UID:10010147-1679230800-1679238000@tiki.town
SUMMARY:Sunday Afternoon with DJ Gramps
DESCRIPTION:
URL:https://tiki.town/event/sunday-afternoon-with-dj-matthew/2023-03-19/
LOCATION:Tiki Town Resort
END:VEVENT
BEGIN:VEVENT
DTSTART;TZID=America/Los_Angeles:20230317T150000
DTEND;TZID=America/Los_Angeles:20230317T170000
DTSTAMP:20260423T174159
CREATED:20220613T150301Z
LAST-MODIFIED:20220613T150301Z
UID:10010429-1679065200-1679072400@tiki.town
SUMMARY:Friday Weekend Kick-off with DJ Gramps
DESCRIPTION:
URL:https://tiki.town/event/friday-weekend-kick-off-with-dj-gramps/2023-03-17/
LOCATION:Tiki Town Resort
END:VEVENT
BEGIN:VEVENT
DTSTART;TZID=America/Los_Angeles:20230317T110000
DTEND;TZID=America/Los_Angeles:20230317T130000
DTSTAMP:20260423T174159
CREATED:20220523T024135Z
LAST-MODIFIED:20220523T024135Z
UID:10010202-1679050800-1679058000@tiki.town
SUMMARY:Mid-day Party with DJ Willow
DESCRIPTION:
URL:https://tiki.town/event/mid-day-party-with-dj-willow/2023-03-17/
LOCATION:Tiki Town Resort
END:VEVENT
BEGIN:VEVENT
DTSTART;TZID=America/Los_Angeles:20230312T130000
DTEND;TZID=America/Los_Angeles:20230312T150000
DTSTAMP:20260423T174159
CREATED:20220523T024506Z
LAST-MODIFIED:20220613T150008Z
UID:10010146-1678626000-1678633200@tiki.town
SUMMARY:Sunday Afternoon with DJ Gramps
DESCRIPTION:
URL:https://tiki.town/event/sunday-afternoon-with-dj-matthew/2023-03-12/
LOCATION:Tiki Town Resort
END:VEVENT
END:VCALENDAR