BEGIN:VCALENDAR
VERSION:2.0
PRODID:-//Tiki Town - ECPv6.15.20//NONSGML v1.0//EN
CALSCALE:GREGORIAN
METHOD:PUBLISH
X-ORIGINAL-URL:https://tiki.town
X-WR-CALDESC:Events for Tiki Town
REFRESH-INTERVAL;VALUE=DURATION:PT1H
X-Robots-Tag:noindex
X-PUBLISHED-TTL:PT1H
BEGIN:VTIMEZONE
TZID:America/Los_Angeles
BEGIN:DAYLIGHT
TZOFFSETFROM:-0800
TZOFFSETTO:-0700
TZNAME:PDT
DTSTART:20220313T100000
END:DAYLIGHT
BEGIN:STANDARD
TZOFFSETFROM:-0700
TZOFFSETTO:-0800
TZNAME:PST
DTSTART:20221106T090000
END:STANDARD
BEGIN:DAYLIGHT
TZOFFSETFROM:-0800
TZOFFSETTO:-0700
TZNAME:PDT
DTSTART:20230312T100000
END:DAYLIGHT
BEGIN:STANDARD
TZOFFSETFROM:-0700
TZOFFSETTO:-0800
TZNAME:PST
DTSTART:20231105T090000
END:STANDARD
BEGIN:DAYLIGHT
TZOFFSETFROM:-0800
TZOFFSETTO:-0700
TZNAME:PDT
DTSTART:20240310T100000
END:DAYLIGHT
BEGIN:STANDARD
TZOFFSETFROM:-0700
TZOFFSETTO:-0800
TZNAME:PST
DTSTART:20241103T090000
END:STANDARD
END:VTIMEZONE
BEGIN:VEVENT
DTSTART;TZID=America/Los_Angeles:20230331T110000
DTEND;TZID=America/Los_Angeles:20230331T130000
DTSTAMP:20260423T203655
CREATED:20220523T024135Z
LAST-MODIFIED:20220523T024135Z
UID:10010204-1680260400-1680267600@tiki.town
SUMMARY:Mid-day Party with DJ Willow
DESCRIPTION:
URL:https://tiki.town/event/mid-day-party-with-dj-willow/2023-03-31/
LOCATION:Tiki Town Resort
END:VEVENT
BEGIN:VEVENT
DTSTART;TZID=America/Los_Angeles:20230326T130000
DTEND;TZID=America/Los_Angeles:20230326T150000
DTSTAMP:20260423T203655
CREATED:20220523T024506Z
LAST-MODIFIED:20220613T150008Z
UID:10010148-1679835600-1679842800@tiki.town
SUMMARY:Sunday Afternoon with DJ Gramps
DESCRIPTION:
URL:https://tiki.town/event/sunday-afternoon-with-dj-matthew/2023-03-26/
LOCATION:Tiki Town Resort
END:VEVENT
BEGIN:VEVENT
DTSTART;TZID=America/Los_Angeles:20230324T150000
DTEND;TZID=America/Los_Angeles:20230324T170000
DTSTAMP:20260423T203655
CREATED:20220613T150301Z
LAST-MODIFIED:20220613T150301Z
UID:10010430-1679670000-1679677200@tiki.town
SUMMARY:Friday Weekend Kick-off with DJ Gramps
DESCRIPTION:
URL:https://tiki.town/event/friday-weekend-kick-off-with-dj-gramps/2023-03-24/
LOCATION:Tiki Town Resort
END:VEVENT
BEGIN:VEVENT
DTSTART;TZID=America/Los_Angeles:20230324T110000
DTEND;TZID=America/Los_Angeles:20230324T130000
DTSTAMP:20260423T203655
CREATED:20220523T024135Z
LAST-MODIFIED:20220523T024135Z
UID:10010203-1679655600-1679662800@tiki.town
SUMMARY:Mid-day Party with DJ Willow
DESCRIPTION:
URL:https://tiki.town/event/mid-day-party-with-dj-willow/2023-03-24/
LOCATION:Tiki Town Resort
END:VEVENT
BEGIN:VEVENT
DTSTART;TZID=America/Los_Angeles:20230319T130000
DTEND;TZID=America/Los_Angeles:20230319T150000
DTSTAMP:20260423T203655
CREATED:20220523T024506Z
LAST-MODIFIED:20220613T150008Z
UID:10010147-1679230800-1679238000@tiki.town
SUMMARY:Sunday Afternoon with DJ Gramps
DESCRIPTION:
URL:https://tiki.town/event/sunday-afternoon-with-dj-matthew/2023-03-19/
LOCATION:Tiki Town Resort
END:VEVENT
BEGIN:VEVENT
DTSTART;TZID=America/Los_Angeles:20230317T150000
DTEND;TZID=America/Los_Angeles:20230317T170000
DTSTAMP:20260423T203655
CREATED:20220613T150301Z
LAST-MODIFIED:20220613T150301Z
UID:10010429-1679065200-1679072400@tiki.town
SUMMARY:Friday Weekend Kick-off with DJ Gramps
DESCRIPTION:
URL:https://tiki.town/event/friday-weekend-kick-off-with-dj-gramps/2023-03-17/
LOCATION:Tiki Town Resort
END:VEVENT
BEGIN:VEVENT
DTSTART;TZID=America/Los_Angeles:20230317T110000
DTEND;TZID=America/Los_Angeles:20230317T130000
DTSTAMP:20260423T203655
CREATED:20220523T024135Z
LAST-MODIFIED:20220523T024135Z
UID:10010202-1679050800-1679058000@tiki.town
SUMMARY:Mid-day Party with DJ Willow
DESCRIPTION:
URL:https://tiki.town/event/mid-day-party-with-dj-willow/2023-03-17/
LOCATION:Tiki Town Resort
END:VEVENT
BEGIN:VEVENT
DTSTART;TZID=America/Los_Angeles:20230312T130000
DTEND;TZID=America/Los_Angeles:20230312T150000
DTSTAMP:20260423T203655
CREATED:20220523T024506Z
LAST-MODIFIED:20220613T150008Z
UID:10010146-1678626000-1678633200@tiki.town
SUMMARY:Sunday Afternoon with DJ Gramps
DESCRIPTION:
URL:https://tiki.town/event/sunday-afternoon-with-dj-matthew/2023-03-12/
LOCATION:Tiki Town Resort
END:VEVENT
BEGIN:VEVENT
DTSTART;TZID=America/Los_Angeles:20230310T150000
DTEND;TZID=America/Los_Angeles:20230310T170000
DTSTAMP:20260423T203655
CREATED:20220613T150301Z
LAST-MODIFIED:20220613T150301Z
UID:10010428-1678460400-1678467600@tiki.town
SUMMARY:Friday Weekend Kick-off with DJ Gramps
DESCRIPTION:
URL:https://tiki.town/event/friday-weekend-kick-off-with-dj-gramps/2023-03-10/
LOCATION:Tiki Town Resort
END:VEVENT
BEGIN:VEVENT
DTSTART;TZID=America/Los_Angeles:20230310T110000
DTEND;TZID=America/Los_Angeles:20230310T130000
DTSTAMP:20260423T203655
CREATED:20220523T024135Z
LAST-MODIFIED:20220523T024135Z
UID:10010201-1678446000-1678453200@tiki.town
SUMMARY:Mid-day Party with DJ Willow
DESCRIPTION:
URL:https://tiki.town/event/mid-day-party-with-dj-willow/2023-03-10/
LOCATION:Tiki Town Resort
END:VEVENT
BEGIN:VEVENT
DTSTART;TZID=America/Los_Angeles:20230305T130000
DTEND;TZID=America/Los_Angeles:20230305T150000
DTSTAMP:20260423T203655
CREATED:20220523T024506Z
LAST-MODIFIED:20220613T150008Z
UID:10010145-1678021200-1678028400@tiki.town
SUMMARY:Sunday Afternoon with DJ Gramps
DESCRIPTION:
URL:https://tiki.town/event/sunday-afternoon-with-dj-matthew/2023-03-05/
LOCATION:Tiki Town Resort
END:VEVENT
BEGIN:VEVENT
DTSTART;TZID=America/Los_Angeles:20230303T150000
DTEND;TZID=America/Los_Angeles:20230303T170000
DTSTAMP:20260423T203655
CREATED:20220613T150301Z
LAST-MODIFIED:20220613T150301Z
UID:10010427-1677855600-1677862800@tiki.town
SUMMARY:Friday Weekend Kick-off with DJ Gramps
DESCRIPTION:
URL:https://tiki.town/event/friday-weekend-kick-off-with-dj-gramps/2023-03-03/
LOCATION:Tiki Town Resort
END:VEVENT
BEGIN:VEVENT
DTSTART;TZID=America/Los_Angeles:20230303T110000
DTEND;TZID=America/Los_Angeles:20230303T130000
DTSTAMP:20260423T203655
CREATED:20220523T024135Z
LAST-MODIFIED:20220523T024135Z
UID:10010200-1677841200-1677848400@tiki.town
SUMMARY:Mid-day Party with DJ Willow
DESCRIPTION:
URL:https://tiki.town/event/mid-day-party-with-dj-willow/2023-03-03/
LOCATION:Tiki Town Resort
END:VEVENT
BEGIN:VEVENT
DTSTART;TZID=America/Los_Angeles:20230226T130000
DTEND;TZID=America/Los_Angeles:20230226T150000
DTSTAMP:20260423T203655
CREATED:20220523T024506Z
LAST-MODIFIED:20220613T150008Z
UID:10010144-1677416400-1677423600@tiki.town
SUMMARY:Sunday Afternoon with DJ Gramps
DESCRIPTION:
URL:https://tiki.town/event/sunday-afternoon-with-dj-matthew/2023-02-26/
LOCATION:Tiki Town Resort
END:VEVENT
BEGIN:VEVENT
DTSTART;TZID=America/Los_Angeles:20230224T150000
DTEND;TZID=America/Los_Angeles:20230224T170000
DTSTAMP:20260423T203655
CREATED:20220613T150301Z
LAST-MODIFIED:20220613T150301Z
UID:10010426-1677250800-1677258000@tiki.town
SUMMARY:Friday Weekend Kick-off with DJ Gramps
DESCRIPTION:
URL:https://tiki.town/event/friday-weekend-kick-off-with-dj-gramps/2023-02-24/
LOCATION:Tiki Town Resort
END:VEVENT
BEGIN:VEVENT
DTSTART;TZID=America/Los_Angeles:20230224T110000
DTEND;TZID=America/Los_Angeles:20230224T130000
DTSTAMP:20260423T203655
CREATED:20220523T024135Z
LAST-MODIFIED:20220523T024135Z
UID:10010199-1677236400-1677243600@tiki.town
SUMMARY:Mid-day Party with DJ Willow
DESCRIPTION:
URL:https://tiki.town/event/mid-day-party-with-dj-willow/2023-02-24/
LOCATION:Tiki Town Resort
END:VEVENT
BEGIN:VEVENT
DTSTART;TZID=America/Los_Angeles:20230219T130000
DTEND;TZID=America/Los_Angeles:20230219T150000
DTSTAMP:20260423T203655
CREATED:20220523T024506Z
LAST-MODIFIED:20220613T150008Z
UID:10010143-1676811600-1676818800@tiki.town
SUMMARY:Sunday Afternoon with DJ Gramps
DESCRIPTION:
URL:https://tiki.town/event/sunday-afternoon-with-dj-matthew/2023-02-19/
LOCATION:Tiki Town Resort
END:VEVENT
BEGIN:VEVENT
DTSTART;TZID=America/Los_Angeles:20230217T150000
DTEND;TZID=America/Los_Angeles:20230217T170000
DTSTAMP:20260423T203655
CREATED:20220613T150301Z
LAST-MODIFIED:20220613T150301Z
UID:10010425-1676646000-1676653200@tiki.town
SUMMARY:Friday Weekend Kick-off with DJ Gramps
DESCRIPTION:
URL:https://tiki.town/event/friday-weekend-kick-off-with-dj-gramps/2023-02-17/
LOCATION:Tiki Town Resort
END:VEVENT
BEGIN:VEVENT
DTSTART;TZID=America/Los_Angeles:20230217T110000
DTEND;TZID=America/Los_Angeles:20230217T130000
DTSTAMP:20260423T203655
CREATED:20220523T024135Z
LAST-MODIFIED:20220523T024135Z
UID:10010198-1676631600-1676638800@tiki.town
SUMMARY:Mid-day Party with DJ Willow
DESCRIPTION:
URL:https://tiki.town/event/mid-day-party-with-dj-willow/2023-02-17/
LOCATION:Tiki Town Resort
END:VEVENT
BEGIN:VEVENT
DTSTART;TZID=America/Los_Angeles:20230212T130000
DTEND;TZID=America/Los_Angeles:20230212T150000
DTSTAMP:20260423T203655
CREATED:20220523T024506Z
LAST-MODIFIED:20220613T150008Z
UID:10010142-1676206800-1676214000@tiki.town
SUMMARY:Sunday Afternoon with DJ Gramps
DESCRIPTION:
URL:https://tiki.town/event/sunday-afternoon-with-dj-matthew/2023-02-12/
LOCATION:Tiki Town Resort
END:VEVENT
BEGIN:VEVENT
DTSTART;TZID=America/Los_Angeles:20230210T150000
DTEND;TZID=America/Los_Angeles:20230210T170000
DTSTAMP:20260423T203655
CREATED:20220613T150301Z
LAST-MODIFIED:20220613T150301Z
UID:10010424-1676041200-1676048400@tiki.town
SUMMARY:Friday Weekend Kick-off with DJ Gramps
DESCRIPTION:
URL:https://tiki.town/event/friday-weekend-kick-off-with-dj-gramps/2023-02-10/
LOCATION:Tiki Town Resort
END:VEVENT
BEGIN:VEVENT
DTSTART;TZID=America/Los_Angeles:20230210T110000
DTEND;TZID=America/Los_Angeles:20230210T130000
DTSTAMP:20260423T203655
CREATED:20220523T024135Z
LAST-MODIFIED:20220523T024135Z
UID:10010197-1676026800-1676034000@tiki.town
SUMMARY:Mid-day Party with DJ Willow
DESCRIPTION:
URL:https://tiki.town/event/mid-day-party-with-dj-willow/2023-02-10/
LOCATION:Tiki Town Resort
END:VEVENT
BEGIN:VEVENT
DTSTART;TZID=America/Los_Angeles:20230205T130000
DTEND;TZID=America/Los_Angeles:20230205T150000
DTSTAMP:20260423T203655
CREATED:20220523T024506Z
LAST-MODIFIED:20220613T150008Z
UID:10010141-1675602000-1675609200@tiki.town
SUMMARY:Sunday Afternoon with DJ Gramps
DESCRIPTION:
URL:https://tiki.town/event/sunday-afternoon-with-dj-matthew/2023-02-05/
LOCATION:Tiki Town Resort
END:VEVENT
BEGIN:VEVENT
DTSTART;TZID=America/Los_Angeles:20230203T150000
DTEND;TZID=America/Los_Angeles:20230203T170000
DTSTAMP:20260423T203655
CREATED:20220613T150301Z
LAST-MODIFIED:20220613T150301Z
UID:10010423-1675436400-1675443600@tiki.town
SUMMARY:Friday Weekend Kick-off with DJ Gramps
DESCRIPTION:
URL:https://tiki.town/event/friday-weekend-kick-off-with-dj-gramps/2023-02-03/
LOCATION:Tiki Town Resort
END:VEVENT
BEGIN:VEVENT
DTSTART;TZID=America/Los_Angeles:20230203T110000
DTEND;TZID=America/Los_Angeles:20230203T130000
DTSTAMP:20260423T203655
CREATED:20220523T024135Z
LAST-MODIFIED:20220523T024135Z
UID:10010196-1675422000-1675429200@tiki.town
SUMMARY:Mid-day Party with DJ Willow
DESCRIPTION:
URL:https://tiki.town/event/mid-day-party-with-dj-willow/2023-02-03/
LOCATION:Tiki Town Resort
END:VEVENT
BEGIN:VEVENT
DTSTART;TZID=America/Los_Angeles:20230129T130000
DTEND;TZID=America/Los_Angeles:20230129T150000
DTSTAMP:20260423T203655
CREATED:20220523T024506Z
LAST-MODIFIED:20220613T150008Z
UID:10010140-1674997200-1675004400@tiki.town
SUMMARY:Sunday Afternoon with DJ Gramps
DESCRIPTION:
URL:https://tiki.town/event/sunday-afternoon-with-dj-matthew/2023-01-29/
LOCATION:Tiki Town Resort
END:VEVENT
BEGIN:VEVENT
DTSTART;TZID=America/Los_Angeles:20230127T150000
DTEND;TZID=America/Los_Angeles:20230127T170000
DTSTAMP:20260423T203655
CREATED:20220613T150301Z
LAST-MODIFIED:20220613T150301Z
UID:10010422-1674831600-1674838800@tiki.town
SUMMARY:Friday Weekend Kick-off with DJ Gramps
DESCRIPTION:
URL:https://tiki.town/event/friday-weekend-kick-off-with-dj-gramps/2023-01-27/
LOCATION:Tiki Town Resort
END:VEVENT
BEGIN:VEVENT
DTSTART;TZID=America/Los_Angeles:20230127T110000
DTEND;TZID=America/Los_Angeles:20230127T130000
DTSTAMP:20260423T203655
CREATED:20220523T024135Z
LAST-MODIFIED:20220523T024135Z
UID:10010195-1674817200-1674824400@tiki.town
SUMMARY:Mid-day Party with DJ Willow
DESCRIPTION:
URL:https://tiki.town/event/mid-day-party-with-dj-willow/2023-01-27/
LOCATION:Tiki Town Resort
END:VEVENT
BEGIN:VEVENT
DTSTART;TZID=America/Los_Angeles:20230122T130000
DTEND;TZID=America/Los_Angeles:20230122T150000
DTSTAMP:20260423T203655
CREATED:20220523T024506Z
LAST-MODIFIED:20220613T150008Z
UID:10010139-1674392400-1674399600@tiki.town
SUMMARY:Sunday Afternoon with DJ Gramps
DESCRIPTION:
URL:https://tiki.town/event/sunday-afternoon-with-dj-matthew/2023-01-22/
LOCATION:Tiki Town Resort
END:VEVENT
BEGIN:VEVENT
DTSTART;TZID=America/Los_Angeles:20230120T150000
DTEND;TZID=America/Los_Angeles:20230120T170000
DTSTAMP:20260423T203655
CREATED:20220613T150301Z
LAST-MODIFIED:20220613T150301Z
UID:10010421-1674226800-1674234000@tiki.town
SUMMARY:Friday Weekend Kick-off with DJ Gramps
DESCRIPTION:
URL:https://tiki.town/event/friday-weekend-kick-off-with-dj-gramps/2023-01-20/
LOCATION:Tiki Town Resort
END:VEVENT
END:VCALENDAR